BEGIN:VCALENDAR
VERSION:2.0
PRODID:-//Gemeindeverband Kehrichtentsorgung Region Entlebuch - ECPv6.2.4//NONSGML v1.0//EN
CALSCALE:GREGORIAN
METHOD:PUBLISH
X-WR-CALNAME:Gemeindeverband Kehrichtentsorgung Region Entlebuch
X-ORIGINAL-URL:https://www.gkre.ch
X-WR-CALDESC:Veranstaltungen im Gemeindeverband Kehrichtentsorgung Region Entlebuch
REFRESH-INTERVAL;VALUE=DURATION:PT1H
X-Robots-Tag:noindex
X-PUBLISHED-TTL:PT1H
BEGIN:VTIMEZONE
TZID:Europe/Zurich
BEGIN:DAYLIGHT
TZOFFSETFROM:+0100
TZOFFSETTO:+0200
TZNAME:CEST
DTSTART:20250330T010000
END:DAYLIGHT
BEGIN:STANDARD
TZOFFSETFROM:+0200
TZOFFSETTO:+0100
TZNAME:CET
DTSTART:20251026T010000
END:STANDARD
END:VTIMEZONE
BEGIN:VEVENT
DTSTART;VALUE=DATE:20251016
DTEND;VALUE=DATE:20251017
DTSTAMP:20260423T041412
CREATED:20241009T091408Z
LAST-MODIFIED:20241009T091408Z
UID:5878-1760572800-1760659199@www.gkre.ch
SUMMARY:Bramboden / Gober
DESCRIPTION:
URL:https://www.gkre.ch/abfuhrtag/bramboden-gober-2/2025-10-16/
CATEGORIES:Abfuhrtage
END:VEVENT
BEGIN:VEVENT
DTSTART;VALUE=DATE:20250918
DTEND;VALUE=DATE:20250919
DTSTAMP:20260423T041412
CREATED:20241009T091408Z
LAST-MODIFIED:20241009T091408Z
UID:5877-1758153600-1758239999@www.gkre.ch
SUMMARY:Bramboden / Gober
DESCRIPTION:
URL:https://www.gkre.ch/abfuhrtag/bramboden-gober-2/2025-09-18/
CATEGORIES:Abfuhrtage
END:VEVENT
BEGIN:VEVENT
DTSTART;VALUE=DATE:20250821
DTEND;VALUE=DATE:20250822
DTSTAMP:20260423T041412
CREATED:20241009T091408Z
LAST-MODIFIED:20241009T091408Z
UID:5874-1755734400-1755820799@www.gkre.ch
SUMMARY:Bramboden / Gober
DESCRIPTION:
URL:https://www.gkre.ch/abfuhrtag/bramboden-gober-2/2025-08-21/
CATEGORIES:Abfuhrtage
END:VEVENT
BEGIN:VEVENT
DTSTART;VALUE=DATE:20250724
DTEND;VALUE=DATE:20250725
DTSTAMP:20260423T041412
CREATED:20241009T091408Z
LAST-MODIFIED:20241009T091408Z
UID:5873-1753315200-1753401599@www.gkre.ch
SUMMARY:Bramboden / Gober
DESCRIPTION:
URL:https://www.gkre.ch/abfuhrtag/bramboden-gober-2/2025-07-24/
CATEGORIES:Abfuhrtage
END:VEVENT
BEGIN:VEVENT
DTSTART;VALUE=DATE:20250626
DTEND;VALUE=DATE:20250627
DTSTAMP:20260423T041412
CREATED:20241009T091408Z
LAST-MODIFIED:20241009T091408Z
UID:5872-1750896000-1750982399@www.gkre.ch
SUMMARY:Bramboden / Gober
DESCRIPTION:
URL:https://www.gkre.ch/abfuhrtag/bramboden-gober-2/2025-06-26/
CATEGORIES:Abfuhrtage
END:VEVENT
BEGIN:VEVENT
DTSTART;VALUE=DATE:20250501
DTEND;VALUE=DATE:20250502
DTSTAMP:20260423T041412
CREATED:20241009T091408Z
LAST-MODIFIED:20241009T091408Z
UID:5870-1746057600-1746143999@www.gkre.ch
SUMMARY:Bramboden / Gober
DESCRIPTION:
URL:https://www.gkre.ch/abfuhrtag/bramboden-gober-2/2025-05-01/
CATEGORIES:Abfuhrtage
END:VEVENT
BEGIN:VEVENT
DTSTART;VALUE=DATE:20250403
DTEND;VALUE=DATE:20250404
DTSTAMP:20260423T041412
CREATED:20241009T091408Z
LAST-MODIFIED:20241015T073155Z
UID:5519-1743638400-1743724799@www.gkre.ch
SUMMARY:Bramboden / Gober
DESCRIPTION:
URL:https://www.gkre.ch/abfuhrtag/bramboden-gober-2/2025-04-03/
CATEGORIES:Abfuhrtage
END:VEVENT
END:VCALENDAR