BEGIN:VCALENDAR
VERSION:2.0
PRODID:-//Gemeindeverband Kehrichtentsorgung Region Entlebuch - ECPv6.2.4//NONSGML v1.0//EN
CALSCALE:GREGORIAN
METHOD:PUBLISH
X-ORIGINAL-URL:https://www.gkre.ch
X-WR-CALDESC:Veranstaltungen im Gemeindeverband Kehrichtentsorgung Region Entlebuch
REFRESH-INTERVAL;VALUE=DURATION:PT1H
X-Robots-Tag:noindex
X-PUBLISHED-TTL:PT1H
BEGIN:VTIMEZONE
TZID:Europe/Zurich
BEGIN:DAYLIGHT
TZOFFSETFROM:+0100
TZOFFSETTO:+0200
TZNAME:CEST
DTSTART:20260329T010000
END:DAYLIGHT
BEGIN:STANDARD
TZOFFSETFROM:+0200
TZOFFSETTO:+0100
TZNAME:CET
DTSTART:20261025T010000
END:STANDARD
END:VTIMEZONE
BEGIN:VEVENT
DTSTART;VALUE=DATE:20260430
DTEND;VALUE=DATE:20260501
DTSTAMP:20260423T130740
CREATED:20251105T081106Z
LAST-MODIFIED:20251105T081106Z
UID:6954-1777507200-1777593599@www.gkre.ch
SUMMARY:Bramboden / Gober
DESCRIPTION:
URL:https://www.gkre.ch/abfuhrtag/bramboden-gober-3/2026-04-30/
CATEGORIES:Abfuhrtage
END:VEVENT
BEGIN:VEVENT
DTSTART;VALUE=DATE:20260528
DTEND;VALUE=DATE:20260529
DTSTAMP:20260423T130740
CREATED:20251105T081106Z
LAST-MODIFIED:20251105T081106Z
UID:6955-1779926400-1780012799@www.gkre.ch
SUMMARY:Bramboden / Gober
DESCRIPTION:
URL:https://www.gkre.ch/abfuhrtag/bramboden-gober-3/2026-05-28/
CATEGORIES:Abfuhrtage
END:VEVENT
BEGIN:VEVENT
DTSTART;VALUE=DATE:20260625
DTEND;VALUE=DATE:20260626
DTSTAMP:20260423T130740
CREATED:20251105T081106Z
LAST-MODIFIED:20251105T081106Z
UID:6956-1782345600-1782431999@www.gkre.ch
SUMMARY:Bramboden / Gober
DESCRIPTION:
URL:https://www.gkre.ch/abfuhrtag/bramboden-gober-3/2026-06-25/
CATEGORIES:Abfuhrtage
END:VEVENT
BEGIN:VEVENT
DTSTART;VALUE=DATE:20260723
DTEND;VALUE=DATE:20260724
DTSTAMP:20260423T130740
CREATED:20251105T081106Z
LAST-MODIFIED:20251105T081106Z
UID:6957-1784764800-1784851199@www.gkre.ch
SUMMARY:Bramboden / Gober
DESCRIPTION:
URL:https://www.gkre.ch/abfuhrtag/bramboden-gober-3/2026-07-23/
CATEGORIES:Abfuhrtage
END:VEVENT
BEGIN:VEVENT
DTSTART;VALUE=DATE:20260820
DTEND;VALUE=DATE:20260821
DTSTAMP:20260423T130740
CREATED:20251105T081106Z
LAST-MODIFIED:20251105T081106Z
UID:6958-1787184000-1787270399@www.gkre.ch
SUMMARY:Bramboden / Gober
DESCRIPTION:
URL:https://www.gkre.ch/abfuhrtag/bramboden-gober-3/2026-08-20/
CATEGORIES:Abfuhrtage
END:VEVENT
BEGIN:VEVENT
DTSTART;VALUE=DATE:20260917
DTEND;VALUE=DATE:20260918
DTSTAMP:20260423T130740
CREATED:20251105T081106Z
LAST-MODIFIED:20251105T081106Z
UID:6959-1789603200-1789689599@www.gkre.ch
SUMMARY:Bramboden / Gober
DESCRIPTION:
URL:https://www.gkre.ch/abfuhrtag/bramboden-gober-3/2026-09-17/
CATEGORIES:Abfuhrtage
END:VEVENT
BEGIN:VEVENT
DTSTART;VALUE=DATE:20261015
DTEND;VALUE=DATE:20261016
DTSTAMP:20260423T130740
CREATED:20251105T081106Z
LAST-MODIFIED:20251105T081106Z
UID:6960-1792022400-1792108799@www.gkre.ch
SUMMARY:Bramboden / Gober
DESCRIPTION:
URL:https://www.gkre.ch/abfuhrtag/bramboden-gober-3/2026-10-15/
CATEGORIES:Abfuhrtage
END:VEVENT
END:VCALENDAR