BEGIN:VCALENDAR
VERSION:2.0
PRODID:-//Gemeindeverband Kehrichtentsorgung Region Entlebuch - ECPv6.2.4//NONSGML v1.0//EN
CALSCALE:GREGORIAN
METHOD:PUBLISH
X-WR-CALNAME:Gemeindeverband Kehrichtentsorgung Region Entlebuch
X-ORIGINAL-URL:https://www.gkre.ch
X-WR-CALDESC:Veranstaltungen im Gemeindeverband Kehrichtentsorgung Region Entlebuch
REFRESH-INTERVAL;VALUE=DURATION:PT1H
X-Robots-Tag:noindex
X-PUBLISHED-TTL:PT1H
BEGIN:VTIMEZONE
TZID:Europe/Zurich
BEGIN:DAYLIGHT
TZOFFSETFROM:+0100
TZOFFSETTO:+0200
TZNAME:CEST
DTSTART:20240331T010000
END:DAYLIGHT
BEGIN:STANDARD
TZOFFSETFROM:+0200
TZOFFSETTO:+0100
TZNAME:CET
DTSTART:20241027T010000
END:STANDARD
END:VTIMEZONE
BEGIN:VEVENT
DTSTART;VALUE=DATE:20241219
DTEND;VALUE=DATE:20241220
DTSTAMP:20260423T180109
CREATED:20231020T145430Z
LAST-MODIFIED:20231023T080141Z
UID:4072-1734566400-1734652799@www.gkre.ch
SUMMARY:Doppleschwand
DESCRIPTION:
URL:https://www.gkre.ch/abfuhrtag/doppleschwand-2/2024-12-19/
CATEGORIES:Abfuhrtage
END:VEVENT
BEGIN:VEVENT
DTSTART;VALUE=DATE:20241212
DTEND;VALUE=DATE:20241213
DTSTAMP:20260423T180109
CREATED:20231020T145430Z
LAST-MODIFIED:20231023T080141Z
UID:4071-1733961600-1734047999@www.gkre.ch
SUMMARY:Doppleschwand
DESCRIPTION:
URL:https://www.gkre.ch/abfuhrtag/doppleschwand-2/2024-12-12/
CATEGORIES:Abfuhrtage
END:VEVENT
BEGIN:VEVENT
DTSTART;VALUE=DATE:20241205
DTEND;VALUE=DATE:20241206
DTSTAMP:20260423T180109
CREATED:20231020T145430Z
LAST-MODIFIED:20231023T080141Z
UID:4070-1733356800-1733443199@www.gkre.ch
SUMMARY:Doppleschwand
DESCRIPTION:
URL:https://www.gkre.ch/abfuhrtag/doppleschwand-2/2024-12-05/
CATEGORIES:Abfuhrtage
END:VEVENT
BEGIN:VEVENT
DTSTART;VALUE=DATE:20241128
DTEND;VALUE=DATE:20241129
DTSTAMP:20260423T180109
CREATED:20231020T145430Z
LAST-MODIFIED:20231023T080141Z
UID:4069-1732752000-1732838399@www.gkre.ch
SUMMARY:Doppleschwand
DESCRIPTION:
URL:https://www.gkre.ch/abfuhrtag/doppleschwand-2/2024-11-28/
CATEGORIES:Abfuhrtage
END:VEVENT
BEGIN:VEVENT
DTSTART;VALUE=DATE:20241121
DTEND;VALUE=DATE:20241122
DTSTAMP:20260423T180109
CREATED:20231020T145430Z
LAST-MODIFIED:20231023T080141Z
UID:4068-1732147200-1732233599@www.gkre.ch
SUMMARY:Doppleschwand
DESCRIPTION:
URL:https://www.gkre.ch/abfuhrtag/doppleschwand-2/2024-11-21/
CATEGORIES:Abfuhrtage
END:VEVENT
BEGIN:VEVENT
DTSTART;VALUE=DATE:20241114
DTEND;VALUE=DATE:20241115
DTSTAMP:20260423T180109
CREATED:20231020T145430Z
LAST-MODIFIED:20231023T080141Z
UID:4067-1731542400-1731628799@www.gkre.ch
SUMMARY:Doppleschwand
DESCRIPTION:
URL:https://www.gkre.ch/abfuhrtag/doppleschwand-2/2024-11-14/
CATEGORIES:Abfuhrtage
END:VEVENT
BEGIN:VEVENT
DTSTART;VALUE=DATE:20241107
DTEND;VALUE=DATE:20241108
DTSTAMP:20260423T180109
CREATED:20231020T145430Z
LAST-MODIFIED:20231023T080141Z
UID:4066-1730937600-1731023999@www.gkre.ch
SUMMARY:Doppleschwand
DESCRIPTION:
URL:https://www.gkre.ch/abfuhrtag/doppleschwand-2/2024-11-07/
CATEGORIES:Abfuhrtage
END:VEVENT
BEGIN:VEVENT
DTSTART;VALUE=DATE:20241031
DTEND;VALUE=DATE:20241101
DTSTAMP:20260423T180109
CREATED:20231020T145430Z
LAST-MODIFIED:20231023T080141Z
UID:4065-1730332800-1730419199@www.gkre.ch
SUMMARY:Doppleschwand
DESCRIPTION:
URL:https://www.gkre.ch/abfuhrtag/doppleschwand-2/2024-10-31/
CATEGORIES:Abfuhrtage
END:VEVENT
BEGIN:VEVENT
DTSTART;VALUE=DATE:20241024
DTEND;VALUE=DATE:20241025
DTSTAMP:20260423T180109
CREATED:20231020T145430Z
LAST-MODIFIED:20231023T080140Z
UID:3569-1729728000-1729814399@www.gkre.ch
SUMMARY:Doppleschwand
DESCRIPTION:
URL:https://www.gkre.ch/abfuhrtag/doppleschwand-2/2024-10-24/
CATEGORIES:Abfuhrtage
END:VEVENT
BEGIN:VEVENT
DTSTART;VALUE=DATE:20241017
DTEND;VALUE=DATE:20241018
DTSTAMP:20260423T180109
CREATED:20231020T145430Z
LAST-MODIFIED:20231023T080140Z
UID:3568-1729123200-1729209599@www.gkre.ch
SUMMARY:Doppleschwand
DESCRIPTION:
URL:https://www.gkre.ch/abfuhrtag/doppleschwand-2/2024-10-17/
CATEGORIES:Abfuhrtage
END:VEVENT
BEGIN:VEVENT
DTSTART;VALUE=DATE:20241010
DTEND;VALUE=DATE:20241011
DTSTAMP:20260423T180109
CREATED:20231020T145430Z
LAST-MODIFIED:20231023T080140Z
UID:3567-1728518400-1728604799@www.gkre.ch
SUMMARY:Doppleschwand
DESCRIPTION:
URL:https://www.gkre.ch/abfuhrtag/doppleschwand-2/2024-10-10/
CATEGORIES:Abfuhrtage
END:VEVENT
BEGIN:VEVENT
DTSTART;VALUE=DATE:20241003
DTEND;VALUE=DATE:20241004
DTSTAMP:20260423T180109
CREATED:20231020T145430Z
LAST-MODIFIED:20231023T080140Z
UID:3566-1727913600-1727999999@www.gkre.ch
SUMMARY:Doppleschwand
DESCRIPTION:
URL:https://www.gkre.ch/abfuhrtag/doppleschwand-2/2024-10-03/
CATEGORIES:Abfuhrtage
END:VEVENT
BEGIN:VEVENT
DTSTART;VALUE=DATE:20240926
DTEND;VALUE=DATE:20240927
DTSTAMP:20260423T180109
CREATED:20231020T145430Z
LAST-MODIFIED:20231023T080140Z
UID:3565-1727308800-1727395199@www.gkre.ch
SUMMARY:Doppleschwand
DESCRIPTION:
URL:https://www.gkre.ch/abfuhrtag/doppleschwand-2/2024-09-26/
CATEGORIES:Abfuhrtage
END:VEVENT
BEGIN:VEVENT
DTSTART;VALUE=DATE:20240919
DTEND;VALUE=DATE:20240920
DTSTAMP:20260423T180109
CREATED:20231020T145430Z
LAST-MODIFIED:20231023T080140Z
UID:3564-1726704000-1726790399@www.gkre.ch
SUMMARY:Doppleschwand
DESCRIPTION:
URL:https://www.gkre.ch/abfuhrtag/doppleschwand-2/2024-09-19/
CATEGORIES:Abfuhrtage
END:VEVENT
BEGIN:VEVENT
DTSTART;VALUE=DATE:20240912
DTEND;VALUE=DATE:20240913
DTSTAMP:20260423T180109
CREATED:20231020T145430Z
LAST-MODIFIED:20231023T080140Z
UID:3563-1726099200-1726185599@www.gkre.ch
SUMMARY:Doppleschwand
DESCRIPTION:
URL:https://www.gkre.ch/abfuhrtag/doppleschwand-2/2024-09-12/
CATEGORIES:Abfuhrtage
END:VEVENT
BEGIN:VEVENT
DTSTART;VALUE=DATE:20240905
DTEND;VALUE=DATE:20240906
DTSTAMP:20260423T180109
CREATED:20231020T145430Z
LAST-MODIFIED:20231023T080140Z
UID:3562-1725494400-1725580799@www.gkre.ch
SUMMARY:Doppleschwand
DESCRIPTION:
URL:https://www.gkre.ch/abfuhrtag/doppleschwand-2/2024-09-05/
CATEGORIES:Abfuhrtage
END:VEVENT
BEGIN:VEVENT
DTSTART;VALUE=DATE:20240829
DTEND;VALUE=DATE:20240830
DTSTAMP:20260423T180109
CREATED:20231020T145430Z
LAST-MODIFIED:20231023T080140Z
UID:3561-1724889600-1724975999@www.gkre.ch
SUMMARY:Doppleschwand
DESCRIPTION:
URL:https://www.gkre.ch/abfuhrtag/doppleschwand-2/2024-08-29/
CATEGORIES:Abfuhrtage
END:VEVENT
BEGIN:VEVENT
DTSTART;VALUE=DATE:20240822
DTEND;VALUE=DATE:20240823
DTSTAMP:20260423T180109
CREATED:20231020T145430Z
LAST-MODIFIED:20231023T080140Z
UID:3560-1724284800-1724371199@www.gkre.ch
SUMMARY:Doppleschwand
DESCRIPTION:
URL:https://www.gkre.ch/abfuhrtag/doppleschwand-2/2024-08-22/
CATEGORIES:Abfuhrtage
END:VEVENT
BEGIN:VEVENT
DTSTART;VALUE=DATE:20240808
DTEND;VALUE=DATE:20240809
DTSTAMP:20260423T180109
CREATED:20231020T145430Z
LAST-MODIFIED:20231023T080139Z
UID:3558-1723075200-1723161599@www.gkre.ch
SUMMARY:Doppleschwand
DESCRIPTION:
URL:https://www.gkre.ch/abfuhrtag/doppleschwand-2/2024-08-08/
CATEGORIES:Abfuhrtage
END:VEVENT
BEGIN:VEVENT
DTSTART;VALUE=DATE:20240725
DTEND;VALUE=DATE:20240726
DTSTAMP:20260423T180109
CREATED:20231020T145430Z
LAST-MODIFIED:20231023T080139Z
UID:3556-1721865600-1721951999@www.gkre.ch
SUMMARY:Doppleschwand
DESCRIPTION:
URL:https://www.gkre.ch/abfuhrtag/doppleschwand-2/2024-07-25/
CATEGORIES:Abfuhrtage
END:VEVENT
BEGIN:VEVENT
DTSTART;VALUE=DATE:20240718
DTEND;VALUE=DATE:20240719
DTSTAMP:20260423T180109
CREATED:20231020T145430Z
LAST-MODIFIED:20231023T080139Z
UID:3555-1721260800-1721347199@www.gkre.ch
SUMMARY:Doppleschwand
DESCRIPTION:
URL:https://www.gkre.ch/abfuhrtag/doppleschwand-2/2024-07-18/
CATEGORIES:Abfuhrtage
END:VEVENT
BEGIN:VEVENT
DTSTART;VALUE=DATE:20240711
DTEND;VALUE=DATE:20240712
DTSTAMP:20260423T180109
CREATED:20231020T145430Z
LAST-MODIFIED:20231023T080139Z
UID:3554-1720656000-1720742399@www.gkre.ch
SUMMARY:Doppleschwand
DESCRIPTION:
URL:https://www.gkre.ch/abfuhrtag/doppleschwand-2/2024-07-11/
CATEGORIES:Abfuhrtage
END:VEVENT
BEGIN:VEVENT
DTSTART;VALUE=DATE:20240704
DTEND;VALUE=DATE:20240705
DTSTAMP:20260423T180109
CREATED:20231020T145430Z
LAST-MODIFIED:20231023T080139Z
UID:3553-1720051200-1720137599@www.gkre.ch
SUMMARY:Doppleschwand
DESCRIPTION:
URL:https://www.gkre.ch/abfuhrtag/doppleschwand-2/2024-07-04/
CATEGORIES:Abfuhrtage
END:VEVENT
BEGIN:VEVENT
DTSTART;VALUE=DATE:20240627
DTEND;VALUE=DATE:20240628
DTSTAMP:20260423T180109
CREATED:20231020T145430Z
LAST-MODIFIED:20231023T080138Z
UID:3552-1719446400-1719532799@www.gkre.ch
SUMMARY:Doppleschwand
DESCRIPTION:
URL:https://www.gkre.ch/abfuhrtag/doppleschwand-2/2024-06-27/
CATEGORIES:Abfuhrtage
END:VEVENT
BEGIN:VEVENT
DTSTART;VALUE=DATE:20240620
DTEND;VALUE=DATE:20240621
DTSTAMP:20260423T180109
CREATED:20231020T145430Z
LAST-MODIFIED:20231023T080138Z
UID:3551-1718841600-1718927999@www.gkre.ch
SUMMARY:Doppleschwand
DESCRIPTION:
URL:https://www.gkre.ch/abfuhrtag/doppleschwand-2/2024-06-20/
CATEGORIES:Abfuhrtage
END:VEVENT
BEGIN:VEVENT
DTSTART;VALUE=DATE:20240613
DTEND;VALUE=DATE:20240614
DTSTAMP:20260423T180109
CREATED:20231020T145430Z
LAST-MODIFIED:20231023T080138Z
UID:3550-1718236800-1718323199@www.gkre.ch
SUMMARY:Doppleschwand
DESCRIPTION:
URL:https://www.gkre.ch/abfuhrtag/doppleschwand-2/2024-06-13/
CATEGORIES:Abfuhrtage
END:VEVENT
BEGIN:VEVENT
DTSTART;VALUE=DATE:20240606
DTEND;VALUE=DATE:20240607
DTSTAMP:20260423T180109
CREATED:20231020T145430Z
LAST-MODIFIED:20231023T080136Z
UID:3549-1717632000-1717718399@www.gkre.ch
SUMMARY:Doppleschwand
DESCRIPTION:
URL:https://www.gkre.ch/abfuhrtag/doppleschwand-2/2024-06-06/
CATEGORIES:Abfuhrtage
END:VEVENT
BEGIN:VEVENT
DTSTART;VALUE=DATE:20240523
DTEND;VALUE=DATE:20240524
DTSTAMP:20260423T180109
CREATED:20231020T145430Z
LAST-MODIFIED:20231023T080136Z
UID:3547-1716422400-1716508799@www.gkre.ch
SUMMARY:Doppleschwand
DESCRIPTION:
URL:https://www.gkre.ch/abfuhrtag/doppleschwand-2/2024-05-23/
CATEGORIES:Abfuhrtage
END:VEVENT
BEGIN:VEVENT
DTSTART;VALUE=DATE:20240516
DTEND;VALUE=DATE:20240517
DTSTAMP:20260423T180109
CREATED:20231020T145430Z
LAST-MODIFIED:20231023T080136Z
UID:3546-1715817600-1715903999@www.gkre.ch
SUMMARY:Doppleschwand
DESCRIPTION:
URL:https://www.gkre.ch/abfuhrtag/doppleschwand-2/2024-05-16/
CATEGORIES:Abfuhrtage
END:VEVENT
BEGIN:VEVENT
DTSTART;VALUE=DATE:20240502
DTEND;VALUE=DATE:20240503
DTSTAMP:20260423T180109
CREATED:20231020T145430Z
LAST-MODIFIED:20231023T080135Z
UID:3544-1714608000-1714694399@www.gkre.ch
SUMMARY:Doppleschwand
DESCRIPTION:
URL:https://www.gkre.ch/abfuhrtag/doppleschwand-2/2024-05-02/
CATEGORIES:Abfuhrtage
END:VEVENT
END:VCALENDAR