BEGIN:VCALENDAR
VERSION:2.0
PRODID:-//Gemeindeverband Kehrichtentsorgung Region Entlebuch - ECPv6.2.4//NONSGML v1.0//EN
CALSCALE:GREGORIAN
METHOD:PUBLISH
X-ORIGINAL-URL:https://www.gkre.ch
X-WR-CALDESC:Veranstaltungen im Gemeindeverband Kehrichtentsorgung Region Entlebuch
REFRESH-INTERVAL;VALUE=DURATION:PT1H
X-Robots-Tag:noindex
X-PUBLISHED-TTL:PT1H
BEGIN:VTIMEZONE
TZID:Europe/Zurich
BEGIN:DAYLIGHT
TZOFFSETFROM:+0100
TZOFFSETTO:+0200
TZNAME:CEST
DTSTART:20260329T010000
END:DAYLIGHT
BEGIN:STANDARD
TZOFFSETFROM:+0200
TZOFFSETTO:+0100
TZNAME:CET
DTSTART:20261025T010000
END:STANDARD
END:VTIMEZONE
BEGIN:VEVENT
DTSTART;VALUE=DATE:20260416
DTEND;VALUE=DATE:20260417
DTSTAMP:20260421T163130
CREATED:20251105T080309Z
LAST-MODIFIED:20251105T080309Z
UID:6888-1776297600-1776383999@www.gkre.ch
SUMMARY:Doppleschwand / Romoos
DESCRIPTION:
URL:https://www.gkre.ch/abfuhrtag/doppleschwand-romoos-2/2026-04-16/
CATEGORIES:Abfuhrtage
END:VEVENT
BEGIN:VEVENT
DTSTART;VALUE=DATE:20260409
DTEND;VALUE=DATE:20260410
DTSTAMP:20260421T163130
CREATED:20251105T080309Z
LAST-MODIFIED:20251105T080309Z
UID:6887-1775692800-1775779199@www.gkre.ch
SUMMARY:Doppleschwand / Romoos
DESCRIPTION:
URL:https://www.gkre.ch/abfuhrtag/doppleschwand-romoos-2/2026-04-09/
CATEGORIES:Abfuhrtage
END:VEVENT
BEGIN:VEVENT
DTSTART;VALUE=DATE:20260402
DTEND;VALUE=DATE:20260403
DTSTAMP:20260421T163130
CREATED:20251105T080309Z
LAST-MODIFIED:20251105T080309Z
UID:6886-1775088000-1775174399@www.gkre.ch
SUMMARY:Doppleschwand / Romoos
DESCRIPTION:
URL:https://www.gkre.ch/abfuhrtag/doppleschwand-romoos-2/2026-04-02/
CATEGORIES:Abfuhrtage
END:VEVENT
BEGIN:VEVENT
DTSTART;VALUE=DATE:20260326
DTEND;VALUE=DATE:20260327
DTSTAMP:20260421T163130
CREATED:20251105T080309Z
LAST-MODIFIED:20251105T080309Z
UID:6885-1774483200-1774569599@www.gkre.ch
SUMMARY:Doppleschwand / Romoos
DESCRIPTION:
URL:https://www.gkre.ch/abfuhrtag/doppleschwand-romoos-2/2026-03-26/
CATEGORIES:Abfuhrtage
END:VEVENT
BEGIN:VEVENT
DTSTART;VALUE=DATE:20260312
DTEND;VALUE=DATE:20260313
DTSTAMP:20260421T163130
CREATED:20251105T080309Z
LAST-MODIFIED:20251105T080309Z
UID:6883-1773273600-1773359999@www.gkre.ch
SUMMARY:Doppleschwand / Romoos
DESCRIPTION:
URL:https://www.gkre.ch/abfuhrtag/doppleschwand-romoos-2/2026-03-12/
CATEGORIES:Abfuhrtage
END:VEVENT
BEGIN:VEVENT
DTSTART;VALUE=DATE:20260305
DTEND;VALUE=DATE:20260306
DTSTAMP:20260421T163130
CREATED:20251105T080309Z
LAST-MODIFIED:20251105T080309Z
UID:6882-1772668800-1772755199@www.gkre.ch
SUMMARY:Doppleschwand / Romoos
DESCRIPTION:
URL:https://www.gkre.ch/abfuhrtag/doppleschwand-romoos-2/2026-03-05/
CATEGORIES:Abfuhrtage
END:VEVENT
BEGIN:VEVENT
DTSTART;VALUE=DATE:20260226
DTEND;VALUE=DATE:20260227
DTSTAMP:20260421T163130
CREATED:20251105T080309Z
LAST-MODIFIED:20251105T080309Z
UID:6881-1772064000-1772150399@www.gkre.ch
SUMMARY:Doppleschwand / Romoos
DESCRIPTION:
URL:https://www.gkre.ch/abfuhrtag/doppleschwand-romoos-2/2026-02-26/
CATEGORIES:Abfuhrtage
END:VEVENT
BEGIN:VEVENT
DTSTART;VALUE=DATE:20260219
DTEND;VALUE=DATE:20260220
DTSTAMP:20260421T163130
CREATED:20251105T080309Z
LAST-MODIFIED:20251105T080309Z
UID:6880-1771459200-1771545599@www.gkre.ch
SUMMARY:Doppleschwand / Romoos
DESCRIPTION:
URL:https://www.gkre.ch/abfuhrtag/doppleschwand-romoos-2/2026-02-19/
CATEGORIES:Abfuhrtage
END:VEVENT
BEGIN:VEVENT
DTSTART;VALUE=DATE:20260212
DTEND;VALUE=DATE:20260213
DTSTAMP:20260421T163130
CREATED:20251105T080309Z
LAST-MODIFIED:20251105T080309Z
UID:6879-1770854400-1770940799@www.gkre.ch
SUMMARY:Doppleschwand / Romoos
DESCRIPTION:
URL:https://www.gkre.ch/abfuhrtag/doppleschwand-romoos-2/2026-02-12/
CATEGORIES:Abfuhrtage
END:VEVENT
BEGIN:VEVENT
DTSTART;VALUE=DATE:20260205
DTEND;VALUE=DATE:20260206
DTSTAMP:20260421T163130
CREATED:20251105T080309Z
LAST-MODIFIED:20251105T080309Z
UID:6878-1770249600-1770335999@www.gkre.ch
SUMMARY:Doppleschwand / Romoos
DESCRIPTION:
URL:https://www.gkre.ch/abfuhrtag/doppleschwand-romoos-2/2026-02-05/
CATEGORIES:Abfuhrtage
END:VEVENT
BEGIN:VEVENT
DTSTART;VALUE=DATE:20260129
DTEND;VALUE=DATE:20260130
DTSTAMP:20260421T163130
CREATED:20251105T080309Z
LAST-MODIFIED:20251105T080309Z
UID:6877-1769644800-1769731199@www.gkre.ch
SUMMARY:Doppleschwand / Romoos
DESCRIPTION:
URL:https://www.gkre.ch/abfuhrtag/doppleschwand-romoos-2/2026-01-29/
CATEGORIES:Abfuhrtage
END:VEVENT
BEGIN:VEVENT
DTSTART;VALUE=DATE:20260122
DTEND;VALUE=DATE:20260123
DTSTAMP:20260421T163130
CREATED:20251105T080309Z
LAST-MODIFIED:20251105T080309Z
UID:6876-1769040000-1769126399@www.gkre.ch
SUMMARY:Doppleschwand / Romoos
DESCRIPTION:
URL:https://www.gkre.ch/abfuhrtag/doppleschwand-romoos-2/2026-01-22/
CATEGORIES:Abfuhrtage
END:VEVENT
BEGIN:VEVENT
DTSTART;VALUE=DATE:20260115
DTEND;VALUE=DATE:20260116
DTSTAMP:20260421T163130
CREATED:20251105T080309Z
LAST-MODIFIED:20251105T080309Z
UID:6875-1768435200-1768521599@www.gkre.ch
SUMMARY:Doppleschwand / Romoos
DESCRIPTION:
URL:https://www.gkre.ch/abfuhrtag/doppleschwand-romoos-2/2026-01-15/
CATEGORIES:Abfuhrtage
END:VEVENT
BEGIN:VEVENT
DTSTART;VALUE=DATE:20260108
DTEND;VALUE=DATE:20260109
DTSTAMP:20260421T163130
CREATED:20251105T080309Z
LAST-MODIFIED:20251105T080309Z
UID:6874-1767830400-1767916799@www.gkre.ch
SUMMARY:Doppleschwand / Romoos
DESCRIPTION:
URL:https://www.gkre.ch/abfuhrtag/doppleschwand-romoos-2/2026-01-08/
CATEGORIES:Abfuhrtage
END:VEVENT
END:VCALENDAR