BEGIN:VCALENDAR
VERSION:2.0
PRODID:-//Gemeindeverband Kehrichtentsorgung Region Entlebuch - ECPv6.2.4//NONSGML v1.0//EN
CALSCALE:GREGORIAN
METHOD:PUBLISH
X-ORIGINAL-URL:https://www.gkre.ch
X-WR-CALDESC:Veranstaltungen im Gemeindeverband Kehrichtentsorgung Region Entlebuch
REFRESH-INTERVAL;VALUE=DURATION:PT1H
X-Robots-Tag:noindex
X-PUBLISHED-TTL:PT1H
BEGIN:VTIMEZONE
TZID:Europe/Zurich
BEGIN:DAYLIGHT
TZOFFSETFROM:+0100
TZOFFSETTO:+0200
TZNAME:CEST
DTSTART:20250330T010000
END:DAYLIGHT
BEGIN:STANDARD
TZOFFSETFROM:+0200
TZOFFSETTO:+0100
TZNAME:CET
DTSTART:20251026T010000
END:STANDARD
END:VTIMEZONE
BEGIN:VEVENT
DTSTART;VALUE=DATE:20251219
DTEND;VALUE=DATE:20251220
DTSTAMP:20260423T004234
CREATED:20241009T064804Z
LAST-MODIFIED:20241009T064804Z
UID:5934-1766102400-1766188799@www.gkre.ch
SUMMARY:Entlebuch Schwändi
DESCRIPTION:
URL:https://www.gkre.ch/abfuhrtag/entlebuch-schwaendi-2/2025-12-19/
CATEGORIES:Abfuhrtage
END:VEVENT
BEGIN:VEVENT
DTSTART;VALUE=DATE:20251121
DTEND;VALUE=DATE:20251122
DTSTAMP:20260423T004234
CREATED:20241009T064804Z
LAST-MODIFIED:20241009T064804Z
UID:5933-1763683200-1763769599@www.gkre.ch
SUMMARY:Entlebuch Schwändi
DESCRIPTION:
URL:https://www.gkre.ch/abfuhrtag/entlebuch-schwaendi-2/2025-11-21/
CATEGORIES:Abfuhrtage
END:VEVENT
BEGIN:VEVENT
DTSTART;VALUE=DATE:20251024
DTEND;VALUE=DATE:20251025
DTSTAMP:20260423T004234
CREATED:20241009T064804Z
LAST-MODIFIED:20241009T064804Z
UID:5932-1761264000-1761350399@www.gkre.ch
SUMMARY:Entlebuch Schwändi
DESCRIPTION:
URL:https://www.gkre.ch/abfuhrtag/entlebuch-schwaendi-2/2025-10-24/
CATEGORIES:Abfuhrtage
END:VEVENT
BEGIN:VEVENT
DTSTART;VALUE=DATE:20250926
DTEND;VALUE=DATE:20250927
DTSTAMP:20260423T004234
CREATED:20241009T064804Z
LAST-MODIFIED:20241009T064804Z
UID:5931-1758844800-1758931199@www.gkre.ch
SUMMARY:Entlebuch Schwändi
DESCRIPTION:
URL:https://www.gkre.ch/abfuhrtag/entlebuch-schwaendi-2/2025-09-26/
CATEGORIES:Abfuhrtage
END:VEVENT
BEGIN:VEVENT
DTSTART;VALUE=DATE:20250829
DTEND;VALUE=DATE:20250830
DTSTAMP:20260423T004234
CREATED:20241009T064804Z
LAST-MODIFIED:20241009T064804Z
UID:5930-1756425600-1756511999@www.gkre.ch
SUMMARY:Entlebuch Schwändi
DESCRIPTION:
URL:https://www.gkre.ch/abfuhrtag/entlebuch-schwaendi-2/2025-08-29/
CATEGORIES:Abfuhrtage
END:VEVENT
BEGIN:VEVENT
DTSTART;VALUE=DATE:20250704
DTEND;VALUE=DATE:20250705
DTSTAMP:20260423T004234
CREATED:20241009T064804Z
LAST-MODIFIED:20241009T064804Z
UID:5929-1751587200-1751673599@www.gkre.ch
SUMMARY:Entlebuch Schwändi
DESCRIPTION:
URL:https://www.gkre.ch/abfuhrtag/entlebuch-schwaendi-2/2025-07-04/
CATEGORIES:Abfuhrtage
END:VEVENT
BEGIN:VEVENT
DTSTART;VALUE=DATE:20250606
DTEND;VALUE=DATE:20250607
DTSTAMP:20260423T004234
CREATED:20241009T064804Z
LAST-MODIFIED:20241009T064804Z
UID:5928-1749168000-1749254399@www.gkre.ch
SUMMARY:Entlebuch Schwändi
DESCRIPTION:
URL:https://www.gkre.ch/abfuhrtag/entlebuch-schwaendi-2/2025-06-06/
CATEGORIES:Abfuhrtage
END:VEVENT
BEGIN:VEVENT
DTSTART;VALUE=DATE:20250509
DTEND;VALUE=DATE:20250510
DTSTAMP:20260423T004234
CREATED:20241009T064804Z
LAST-MODIFIED:20241009T064804Z
UID:5927-1746748800-1746835199@www.gkre.ch
SUMMARY:Entlebuch Schwändi
DESCRIPTION:
URL:https://www.gkre.ch/abfuhrtag/entlebuch-schwaendi-2/2025-05-09/
CATEGORIES:Abfuhrtage
END:VEVENT
BEGIN:VEVENT
DTSTART;VALUE=DATE:20250411
DTEND;VALUE=DATE:20250412
DTSTAMP:20260423T004234
CREATED:20241009T064804Z
LAST-MODIFIED:20241009T064804Z
UID:5926-1744329600-1744415999@www.gkre.ch
SUMMARY:Entlebuch Schwändi
DESCRIPTION:
URL:https://www.gkre.ch/abfuhrtag/entlebuch-schwaendi-2/2025-04-11/
CATEGORIES:Abfuhrtage
END:VEVENT
BEGIN:VEVENT
DTSTART;VALUE=DATE:20250314
DTEND;VALUE=DATE:20250315
DTSTAMP:20260423T004234
CREATED:20241009T064804Z
LAST-MODIFIED:20241009T064804Z
UID:5925-1741910400-1741996799@www.gkre.ch
SUMMARY:Entlebuch Schwändi
DESCRIPTION:
URL:https://www.gkre.ch/abfuhrtag/entlebuch-schwaendi-2/2025-03-14/
CATEGORIES:Abfuhrtage
END:VEVENT
BEGIN:VEVENT
DTSTART;VALUE=DATE:20250214
DTEND;VALUE=DATE:20250215
DTSTAMP:20260423T004234
CREATED:20241009T064804Z
LAST-MODIFIED:20241009T064804Z
UID:5924-1739491200-1739577599@www.gkre.ch
SUMMARY:Entlebuch Schwändi
DESCRIPTION:
URL:https://www.gkre.ch/abfuhrtag/entlebuch-schwaendi-2/2025-02-14/
CATEGORIES:Abfuhrtage
END:VEVENT
BEGIN:VEVENT
DTSTART;VALUE=DATE:20250117
DTEND;VALUE=DATE:20250118
DTSTAMP:20260423T004234
CREATED:20241009T064804Z
LAST-MODIFIED:20241015T073900Z
UID:4652-1737072000-1737158399@www.gkre.ch
SUMMARY:Entlebuch Schwändi
DESCRIPTION:
URL:https://www.gkre.ch/abfuhrtag/entlebuch-schwaendi-2/2025-01-17/
CATEGORIES:Abfuhrtage
END:VEVENT
END:VCALENDAR