BEGIN:VCALENDAR
VERSION:2.0
PRODID:-//Gemeindeverband Kehrichtentsorgung Region Entlebuch - ECPv6.2.4//NONSGML v1.0//EN
CALSCALE:GREGORIAN
METHOD:PUBLISH
X-ORIGINAL-URL:https://www.gkre.ch
X-WR-CALDESC:Veranstaltungen im Gemeindeverband Kehrichtentsorgung Region Entlebuch
REFRESH-INTERVAL;VALUE=DURATION:PT1H
X-Robots-Tag:noindex
X-PUBLISHED-TTL:PT1H
BEGIN:VTIMEZONE
TZID:Europe/Zurich
BEGIN:DAYLIGHT
TZOFFSETFROM:+0100
TZOFFSETTO:+0200
TZNAME:CEST
DTSTART:20250330T010000
END:DAYLIGHT
BEGIN:STANDARD
TZOFFSETFROM:+0200
TZOFFSETTO:+0100
TZNAME:CET
DTSTART:20251026T010000
END:STANDARD
END:VTIMEZONE
BEGIN:VEVENT
DTSTART;VALUE=DATE:20251205
DTEND;VALUE=DATE:20251206
DTSTAMP:20260423T043844
CREATED:20241009T070843Z
LAST-MODIFIED:20241009T070843Z
UID:5923-1764892800-1764979199@www.gkre.ch
SUMMARY:Entlebuch Schwändi Alp
DESCRIPTION:
URL:https://www.gkre.ch/abfuhrtag/entlebuch-schwaendi-alp-2/2025-12-05/
CATEGORIES:Abfuhrtage
END:VEVENT
BEGIN:VEVENT
DTSTART;VALUE=DATE:20251107
DTEND;VALUE=DATE:20251108
DTSTAMP:20260423T043844
CREATED:20241009T070843Z
LAST-MODIFIED:20241009T070843Z
UID:5922-1762473600-1762559999@www.gkre.ch
SUMMARY:Entlebuch Schwändi Alp
DESCRIPTION:
URL:https://www.gkre.ch/abfuhrtag/entlebuch-schwaendi-alp-2/2025-11-07/
CATEGORIES:Abfuhrtage
END:VEVENT
BEGIN:VEVENT
DTSTART;VALUE=DATE:20251010
DTEND;VALUE=DATE:20251011
DTSTAMP:20260423T043844
CREATED:20241009T070843Z
LAST-MODIFIED:20241009T070843Z
UID:5921-1760054400-1760140799@www.gkre.ch
SUMMARY:Entlebuch Schwändi Alp
DESCRIPTION:
URL:https://www.gkre.ch/abfuhrtag/entlebuch-schwaendi-alp-2/2025-10-10/
CATEGORIES:Abfuhrtage
END:VEVENT
BEGIN:VEVENT
DTSTART;VALUE=DATE:20250912
DTEND;VALUE=DATE:20250913
DTSTAMP:20260423T043844
CREATED:20241009T070843Z
LAST-MODIFIED:20241009T070843Z
UID:5920-1757635200-1757721599@www.gkre.ch
SUMMARY:Entlebuch Schwändi Alp
DESCRIPTION:
URL:https://www.gkre.ch/abfuhrtag/entlebuch-schwaendi-alp-2/2025-09-12/
CATEGORIES:Abfuhrtage
END:VEVENT
BEGIN:VEVENT
DTSTART;VALUE=DATE:20250718
DTEND;VALUE=DATE:20250719
DTSTAMP:20260423T043844
CREATED:20241009T070843Z
LAST-MODIFIED:20241009T070843Z
UID:5919-1752796800-1752883199@www.gkre.ch
SUMMARY:Entlebuch Schwändi Alp
DESCRIPTION:
URL:https://www.gkre.ch/abfuhrtag/entlebuch-schwaendi-alp-2/2025-07-18/
CATEGORIES:Abfuhrtage
END:VEVENT
BEGIN:VEVENT
DTSTART;VALUE=DATE:20250620
DTEND;VALUE=DATE:20250621
DTSTAMP:20260423T043844
CREATED:20241009T070843Z
LAST-MODIFIED:20241009T070843Z
UID:5918-1750377600-1750463999@www.gkre.ch
SUMMARY:Entlebuch Schwändi Alp
DESCRIPTION:
URL:https://www.gkre.ch/abfuhrtag/entlebuch-schwaendi-alp-2/2025-06-20/
CATEGORIES:Abfuhrtage
END:VEVENT
BEGIN:VEVENT
DTSTART;VALUE=DATE:20250523
DTEND;VALUE=DATE:20250524
DTSTAMP:20260423T043844
CREATED:20241009T070843Z
LAST-MODIFIED:20241009T070843Z
UID:5917-1747958400-1748044799@www.gkre.ch
SUMMARY:Entlebuch Schwändi Alp
DESCRIPTION:
URL:https://www.gkre.ch/abfuhrtag/entlebuch-schwaendi-alp-2/2025-05-23/
CATEGORIES:Abfuhrtage
END:VEVENT
BEGIN:VEVENT
DTSTART;VALUE=DATE:20250425
DTEND;VALUE=DATE:20250426
DTSTAMP:20260423T043844
CREATED:20241009T070843Z
LAST-MODIFIED:20241009T070843Z
UID:5916-1745539200-1745625599@www.gkre.ch
SUMMARY:Entlebuch Schwändi Alp
DESCRIPTION:
URL:https://www.gkre.ch/abfuhrtag/entlebuch-schwaendi-alp-2/2025-04-25/
CATEGORIES:Abfuhrtage
END:VEVENT
BEGIN:VEVENT
DTSTART;VALUE=DATE:20250328
DTEND;VALUE=DATE:20250329
DTSTAMP:20260423T043844
CREATED:20241009T070843Z
LAST-MODIFIED:20241009T070843Z
UID:5915-1743120000-1743206399@www.gkre.ch
SUMMARY:Entlebuch Schwändi Alp
DESCRIPTION:
URL:https://www.gkre.ch/abfuhrtag/entlebuch-schwaendi-alp-2/2025-03-28/
CATEGORIES:Abfuhrtage
END:VEVENT
BEGIN:VEVENT
DTSTART;VALUE=DATE:20250228
DTEND;VALUE=DATE:20250301
DTSTAMP:20260423T043844
CREATED:20241009T070843Z
LAST-MODIFIED:20241009T070843Z
UID:5914-1740700800-1740787199@www.gkre.ch
SUMMARY:Entlebuch Schwändi Alp
DESCRIPTION:
URL:https://www.gkre.ch/abfuhrtag/entlebuch-schwaendi-alp-2/2025-02-28/
CATEGORIES:Abfuhrtage
END:VEVENT
BEGIN:VEVENT
DTSTART;VALUE=DATE:20250131
DTEND;VALUE=DATE:20250201
DTSTAMP:20260423T043844
CREATED:20241009T070843Z
LAST-MODIFIED:20241009T070843Z
UID:5913-1738281600-1738367999@www.gkre.ch
SUMMARY:Entlebuch Schwändi Alp
DESCRIPTION:
URL:https://www.gkre.ch/abfuhrtag/entlebuch-schwaendi-alp-2/2025-01-31/
CATEGORIES:Abfuhrtage
END:VEVENT
BEGIN:VEVENT
DTSTART;VALUE=DATE:20250103
DTEND;VALUE=DATE:20250104
DTSTAMP:20260423T043844
CREATED:20241009T070843Z
LAST-MODIFIED:20241015T073326Z
UID:4668-1735862400-1735948799@www.gkre.ch
SUMMARY:Entlebuch Schwändi Alp
DESCRIPTION:
URL:https://www.gkre.ch/abfuhrtag/entlebuch-schwaendi-alp-2/2025-01-03/
CATEGORIES:Abfuhrtage
END:VEVENT
END:VCALENDAR