BEGIN:VCALENDAR
VERSION:2.0
PRODID:-//Gemeindeverband Kehrichtentsorgung Region Entlebuch - ECPv6.2.4//NONSGML v1.0//EN
CALSCALE:GREGORIAN
METHOD:PUBLISH
X-WR-CALNAME:Gemeindeverband Kehrichtentsorgung Region Entlebuch
X-ORIGINAL-URL:https://www.gkre.ch
X-WR-CALDESC:Veranstaltungen im Gemeindeverband Kehrichtentsorgung Region Entlebuch
REFRESH-INTERVAL;VALUE=DURATION:PT1H
X-Robots-Tag:noindex
X-PUBLISHED-TTL:PT1H
BEGIN:VTIMEZONE
TZID:Europe/Zurich
BEGIN:DAYLIGHT
TZOFFSETFROM:+0100
TZOFFSETTO:+0200
TZNAME:CEST
DTSTART:20250330T010000
END:DAYLIGHT
BEGIN:STANDARD
TZOFFSETFROM:+0200
TZOFFSETTO:+0100
TZNAME:CET
DTSTART:20251026T010000
END:STANDARD
END:VTIMEZONE
BEGIN:VEVENT
DTSTART;VALUE=DATE:20251128
DTEND;VALUE=DATE:20251129
DTSTAMP:20260423T061250
CREATED:20241009T092824Z
LAST-MODIFIED:20241009T092824Z
UID:5899-1764288000-1764374399@www.gkre.ch
SUMMARY:Entlebuch Schwändi / Rengg / Finsterwald / Rotmoos
DESCRIPTION:
URL:https://www.gkre.ch/abfuhrtag/entlebuch-schwaendi-rengg-finsterwald-rotmoos-2/2025-11-28/
CATEGORIES:Abfuhrtage
END:VEVENT
BEGIN:VEVENT
DTSTART;VALUE=DATE:20251031
DTEND;VALUE=DATE:20251101
DTSTAMP:20260423T061250
CREATED:20241009T092824Z
LAST-MODIFIED:20241009T092824Z
UID:5897-1761868800-1761955199@www.gkre.ch
SUMMARY:Entlebuch Schwändi / Rengg / Finsterwald / Rotmoos
DESCRIPTION:
URL:https://www.gkre.ch/abfuhrtag/entlebuch-schwaendi-rengg-finsterwald-rotmoos-2/2025-10-31/
CATEGORIES:Abfuhrtage
END:VEVENT
BEGIN:VEVENT
DTSTART;VALUE=DATE:20251017
DTEND;VALUE=DATE:20251018
DTSTAMP:20260423T061250
CREATED:20241009T092824Z
LAST-MODIFIED:20241009T092824Z
UID:5896-1760659200-1760745599@www.gkre.ch
SUMMARY:Entlebuch Schwändi / Rengg / Finsterwald / Rotmoos
DESCRIPTION:
URL:https://www.gkre.ch/abfuhrtag/entlebuch-schwaendi-rengg-finsterwald-rotmoos-2/2025-10-17/
CATEGORIES:Abfuhrtage
END:VEVENT
BEGIN:VEVENT
DTSTART;VALUE=DATE:20250919
DTEND;VALUE=DATE:20250920
DTSTAMP:20260423T061250
CREATED:20241009T092824Z
LAST-MODIFIED:20241009T092824Z
UID:5894-1758240000-1758326399@www.gkre.ch
SUMMARY:Entlebuch Schwändi / Rengg / Finsterwald / Rotmoos
DESCRIPTION:
URL:https://www.gkre.ch/abfuhrtag/entlebuch-schwaendi-rengg-finsterwald-rotmoos-2/2025-09-19/
CATEGORIES:Abfuhrtage
END:VEVENT
BEGIN:VEVENT
DTSTART;VALUE=DATE:20250905
DTEND;VALUE=DATE:20250906
DTSTAMP:20260423T061250
CREATED:20241009T092824Z
LAST-MODIFIED:20241009T092824Z
UID:5893-1757030400-1757116799@www.gkre.ch
SUMMARY:Entlebuch Schwändi / Rengg / Finsterwald / Rotmoos
DESCRIPTION:
URL:https://www.gkre.ch/abfuhrtag/entlebuch-schwaendi-rengg-finsterwald-rotmoos-2/2025-09-05/
CATEGORIES:Abfuhrtage
END:VEVENT
BEGIN:VEVENT
DTSTART;VALUE=DATE:20250822
DTEND;VALUE=DATE:20250823
DTSTAMP:20260423T061250
CREATED:20241009T092824Z
LAST-MODIFIED:20241009T092824Z
UID:5892-1755820800-1755907199@www.gkre.ch
SUMMARY:Entlebuch Schwändi / Rengg / Finsterwald / Rotmoos
DESCRIPTION:
URL:https://www.gkre.ch/abfuhrtag/entlebuch-schwaendi-rengg-finsterwald-rotmoos-2/2025-08-22/
CATEGORIES:Abfuhrtage
END:VEVENT
BEGIN:VEVENT
DTSTART;VALUE=DATE:20250808
DTEND;VALUE=DATE:20250809
DTSTAMP:20260423T061250
CREATED:20241009T092824Z
LAST-MODIFIED:20241009T092824Z
UID:5891-1754611200-1754697599@www.gkre.ch
SUMMARY:Entlebuch Schwändi / Rengg / Finsterwald / Rotmoos
DESCRIPTION:
URL:https://www.gkre.ch/abfuhrtag/entlebuch-schwaendi-rengg-finsterwald-rotmoos-2/2025-08-08/
CATEGORIES:Abfuhrtage
END:VEVENT
BEGIN:VEVENT
DTSTART;VALUE=DATE:20250725
DTEND;VALUE=DATE:20250726
DTSTAMP:20260423T061250
CREATED:20241009T092824Z
LAST-MODIFIED:20241009T092824Z
UID:5890-1753401600-1753487999@www.gkre.ch
SUMMARY:Entlebuch Schwändi / Rengg / Finsterwald / Rotmoos
DESCRIPTION:
URL:https://www.gkre.ch/abfuhrtag/entlebuch-schwaendi-rengg-finsterwald-rotmoos-2/2025-07-25/
CATEGORIES:Abfuhrtage
END:VEVENT
BEGIN:VEVENT
DTSTART;VALUE=DATE:20250711
DTEND;VALUE=DATE:20250712
DTSTAMP:20260423T061250
CREATED:20241009T092824Z
LAST-MODIFIED:20241009T092824Z
UID:5889-1752192000-1752278399@www.gkre.ch
SUMMARY:Entlebuch Schwändi / Rengg / Finsterwald / Rotmoos
DESCRIPTION:
URL:https://www.gkre.ch/abfuhrtag/entlebuch-schwaendi-rengg-finsterwald-rotmoos-2/2025-07-11/
CATEGORIES:Abfuhrtage
END:VEVENT
BEGIN:VEVENT
DTSTART;VALUE=DATE:20250627
DTEND;VALUE=DATE:20250628
DTSTAMP:20260423T061250
CREATED:20241009T092824Z
LAST-MODIFIED:20241009T092824Z
UID:5888-1750982400-1751068799@www.gkre.ch
SUMMARY:Entlebuch Schwändi / Rengg / Finsterwald / Rotmoos
DESCRIPTION:
URL:https://www.gkre.ch/abfuhrtag/entlebuch-schwaendi-rengg-finsterwald-rotmoos-2/2025-06-27/
CATEGORIES:Abfuhrtage
END:VEVENT
BEGIN:VEVENT
DTSTART;VALUE=DATE:20250613
DTEND;VALUE=DATE:20250614
DTSTAMP:20260423T061250
CREATED:20241009T092824Z
LAST-MODIFIED:20241009T092824Z
UID:5887-1749772800-1749859199@www.gkre.ch
SUMMARY:Entlebuch Schwändi / Rengg / Finsterwald / Rotmoos
DESCRIPTION:
URL:https://www.gkre.ch/abfuhrtag/entlebuch-schwaendi-rengg-finsterwald-rotmoos-2/2025-06-13/
CATEGORIES:Abfuhrtage
END:VEVENT
BEGIN:VEVENT
DTSTART;VALUE=DATE:20250530
DTEND;VALUE=DATE:20250531
DTSTAMP:20260423T061250
CREATED:20241009T092824Z
LAST-MODIFIED:20241009T092824Z
UID:5886-1748563200-1748649599@www.gkre.ch
SUMMARY:Entlebuch Schwändi / Rengg / Finsterwald / Rotmoos
DESCRIPTION:
URL:https://www.gkre.ch/abfuhrtag/entlebuch-schwaendi-rengg-finsterwald-rotmoos-2/2025-05-30/
CATEGORIES:Abfuhrtage
END:VEVENT
BEGIN:VEVENT
DTSTART;VALUE=DATE:20250516
DTEND;VALUE=DATE:20250517
DTSTAMP:20260423T061250
CREATED:20241009T092824Z
LAST-MODIFIED:20241009T092824Z
UID:5885-1747353600-1747439999@www.gkre.ch
SUMMARY:Entlebuch Schwändi / Rengg / Finsterwald / Rotmoos
DESCRIPTION:
URL:https://www.gkre.ch/abfuhrtag/entlebuch-schwaendi-rengg-finsterwald-rotmoos-2/2025-05-16/
CATEGORIES:Abfuhrtage
END:VEVENT
BEGIN:VEVENT
DTSTART;VALUE=DATE:20250502
DTEND;VALUE=DATE:20250503
DTSTAMP:20260423T061250
CREATED:20241009T092824Z
LAST-MODIFIED:20241009T092824Z
UID:5884-1746144000-1746230399@www.gkre.ch
SUMMARY:Entlebuch Schwändi / Rengg / Finsterwald / Rotmoos
DESCRIPTION:
URL:https://www.gkre.ch/abfuhrtag/entlebuch-schwaendi-rengg-finsterwald-rotmoos-2/2025-05-02/
CATEGORIES:Abfuhrtage
END:VEVENT
BEGIN:VEVENT
DTSTART;VALUE=DATE:20250404
DTEND;VALUE=DATE:20250405
DTSTAMP:20260423T061250
CREATED:20241009T092824Z
LAST-MODIFIED:20241009T092824Z
UID:5883-1743724800-1743811199@www.gkre.ch
SUMMARY:Entlebuch Schwändi / Rengg / Finsterwald / Rotmoos
DESCRIPTION:
URL:https://www.gkre.ch/abfuhrtag/entlebuch-schwaendi-rengg-finsterwald-rotmoos-2/2025-04-04/
CATEGORIES:Abfuhrtage
END:VEVENT
BEGIN:VEVENT
DTSTART;VALUE=DATE:20250321
DTEND;VALUE=DATE:20250322
DTSTAMP:20260423T061250
CREATED:20241009T092824Z
LAST-MODIFIED:20241009T092824Z
UID:5882-1742515200-1742601599@www.gkre.ch
SUMMARY:Entlebuch Schwändi / Rengg / Finsterwald / Rotmoos
DESCRIPTION:
URL:https://www.gkre.ch/abfuhrtag/entlebuch-schwaendi-rengg-finsterwald-rotmoos-2/2025-03-21/
CATEGORIES:Abfuhrtage
END:VEVENT
BEGIN:VEVENT
DTSTART;VALUE=DATE:20250221
DTEND;VALUE=DATE:20250222
DTSTAMP:20260423T061250
CREATED:20241009T092824Z
LAST-MODIFIED:20241009T092824Z
UID:5880-1740096000-1740182399@www.gkre.ch
SUMMARY:Entlebuch Schwändi / Rengg / Finsterwald / Rotmoos
DESCRIPTION:
URL:https://www.gkre.ch/abfuhrtag/entlebuch-schwaendi-rengg-finsterwald-rotmoos-2/2025-02-21/
CATEGORIES:Abfuhrtage
END:VEVENT
BEGIN:VEVENT
DTSTART;VALUE=DATE:20250124
DTEND;VALUE=DATE:20250125
DTSTAMP:20260423T061250
CREATED:20241009T092824Z
LAST-MODIFIED:20241015T073316Z
UID:5566-1737676800-1737763199@www.gkre.ch
SUMMARY:Entlebuch Schwändi / Rengg / Finsterwald / Rotmoos
DESCRIPTION:
URL:https://www.gkre.ch/abfuhrtag/entlebuch-schwaendi-rengg-finsterwald-rotmoos-2/2025-01-24/
CATEGORIES:Abfuhrtage
END:VEVENT
END:VCALENDAR