BEGIN:VCALENDAR
VERSION:2.0
PRODID:-//Gemeindeverband Kehrichtentsorgung Region Entlebuch - ECPv6.2.4//NONSGML v1.0//EN
CALSCALE:GREGORIAN
METHOD:PUBLISH
X-ORIGINAL-URL:https://www.gkre.ch
X-WR-CALDESC:Veranstaltungen im Gemeindeverband Kehrichtentsorgung Region Entlebuch
REFRESH-INTERVAL;VALUE=DURATION:PT1H
X-Robots-Tag:noindex
X-PUBLISHED-TTL:PT1H
BEGIN:VTIMEZONE
TZID:Europe/Zurich
BEGIN:DAYLIGHT
TZOFFSETFROM:+0100
TZOFFSETTO:+0200
TZNAME:CEST
DTSTART:20260329T010000
END:DAYLIGHT
BEGIN:STANDARD
TZOFFSETFROM:+0200
TZOFFSETTO:+0100
TZNAME:CET
DTSTART:20261025T010000
END:STANDARD
END:VTIMEZONE
BEGIN:VEVENT
DTSTART;VALUE=DATE:20260515
DTEND;VALUE=DATE:20260516
DTSTAMP:20260423T150815
CREATED:20251105T084017Z
LAST-MODIFIED:20251105T084017Z
UID:7017-1778803200-1778889599@www.gkre.ch
SUMMARY:Entlebuch Schwändi / Rengg / Finsterwald / Rotmoos
DESCRIPTION:
URL:https://www.gkre.ch/abfuhrtag/entlebuch-schwaendi-rengg-finsterwald-rotmoos-3/2026-05-15/
CATEGORIES:Abfuhrtage
END:VEVENT
BEGIN:VEVENT
DTSTART;VALUE=DATE:20260612
DTEND;VALUE=DATE:20260613
DTSTAMP:20260423T150815
CREATED:20251105T084017Z
LAST-MODIFIED:20251105T084017Z
UID:7018-1781222400-1781308799@www.gkre.ch
SUMMARY:Entlebuch Schwändi / Rengg / Finsterwald / Rotmoos
DESCRIPTION:
URL:https://www.gkre.ch/abfuhrtag/entlebuch-schwaendi-rengg-finsterwald-rotmoos-3/2026-06-12/
CATEGORIES:Abfuhrtage
END:VEVENT
BEGIN:VEVENT
DTSTART;VALUE=DATE:20260710
DTEND;VALUE=DATE:20260711
DTSTAMP:20260423T150815
CREATED:20251105T084017Z
LAST-MODIFIED:20251105T084017Z
UID:7019-1783641600-1783727999@www.gkre.ch
SUMMARY:Entlebuch Schwändi / Rengg / Finsterwald / Rotmoos
DESCRIPTION:
URL:https://www.gkre.ch/abfuhrtag/entlebuch-schwaendi-rengg-finsterwald-rotmoos-3/2026-07-10/
CATEGORIES:Abfuhrtage
END:VEVENT
BEGIN:VEVENT
DTSTART;VALUE=DATE:20260807
DTEND;VALUE=DATE:20260808
DTSTAMP:20260423T150815
CREATED:20251105T084017Z
LAST-MODIFIED:20251105T084017Z
UID:7020-1786060800-1786147199@www.gkre.ch
SUMMARY:Entlebuch Schwändi / Rengg / Finsterwald / Rotmoos
DESCRIPTION:
URL:https://www.gkre.ch/abfuhrtag/entlebuch-schwaendi-rengg-finsterwald-rotmoos-3/2026-08-07/
CATEGORIES:Abfuhrtage
END:VEVENT
BEGIN:VEVENT
DTSTART;VALUE=DATE:20260904
DTEND;VALUE=DATE:20260905
DTSTAMP:20260423T150815
CREATED:20251105T084017Z
LAST-MODIFIED:20251105T084017Z
UID:7021-1788480000-1788566399@www.gkre.ch
SUMMARY:Entlebuch Schwändi / Rengg / Finsterwald / Rotmoos
DESCRIPTION:
URL:https://www.gkre.ch/abfuhrtag/entlebuch-schwaendi-rengg-finsterwald-rotmoos-3/2026-09-04/
CATEGORIES:Abfuhrtage
END:VEVENT
BEGIN:VEVENT
DTSTART;VALUE=DATE:20261002
DTEND;VALUE=DATE:20261003
DTSTAMP:20260423T150815
CREATED:20251105T084017Z
LAST-MODIFIED:20251105T084017Z
UID:7022-1790899200-1790985599@www.gkre.ch
SUMMARY:Entlebuch Schwändi / Rengg / Finsterwald / Rotmoos
DESCRIPTION:
URL:https://www.gkre.ch/abfuhrtag/entlebuch-schwaendi-rengg-finsterwald-rotmoos-3/2026-10-02/
CATEGORIES:Abfuhrtage
END:VEVENT
BEGIN:VEVENT
DTSTART;VALUE=DATE:20261030
DTEND;VALUE=DATE:20261031
DTSTAMP:20260423T150815
CREATED:20251105T084017Z
LAST-MODIFIED:20251105T084017Z
UID:7023-1793318400-1793404799@www.gkre.ch
SUMMARY:Entlebuch Schwändi / Rengg / Finsterwald / Rotmoos
DESCRIPTION:
URL:https://www.gkre.ch/abfuhrtag/entlebuch-schwaendi-rengg-finsterwald-rotmoos-3/2026-10-30/
CATEGORIES:Abfuhrtage
END:VEVENT
BEGIN:VEVENT
DTSTART;VALUE=DATE:20261127
DTEND;VALUE=DATE:20261128
DTSTAMP:20260423T150815
CREATED:20251105T084017Z
LAST-MODIFIED:20251105T084017Z
UID:7024-1795737600-1795823999@www.gkre.ch
SUMMARY:Entlebuch Schwändi / Rengg / Finsterwald / Rotmoos
DESCRIPTION:
URL:https://www.gkre.ch/abfuhrtag/entlebuch-schwaendi-rengg-finsterwald-rotmoos-3/2026-11-27/
CATEGORIES:Abfuhrtage
END:VEVENT
END:VCALENDAR