BEGIN:VCALENDAR
VERSION:2.0
PRODID:-//Gemeindeverband Kehrichtentsorgung Region Entlebuch - ECPv6.2.4//NONSGML v1.0//EN
CALSCALE:GREGORIAN
METHOD:PUBLISH
X-WR-CALNAME:Gemeindeverband Kehrichtentsorgung Region Entlebuch
X-ORIGINAL-URL:https://www.gkre.ch
X-WR-CALDESC:Veranstaltungen im Gemeindeverband Kehrichtentsorgung Region Entlebuch
REFRESH-INTERVAL;VALUE=DURATION:PT1H
X-Robots-Tag:noindex
X-PUBLISHED-TTL:PT1H
BEGIN:VTIMEZONE
TZID:Europe/Zurich
BEGIN:DAYLIGHT
TZOFFSETFROM:+0100
TZOFFSETTO:+0200
TZNAME:CEST
DTSTART:20240331T010000
END:DAYLIGHT
BEGIN:STANDARD
TZOFFSETFROM:+0200
TZOFFSETTO:+0100
TZNAME:CET
DTSTART:20241027T010000
END:STANDARD
END:VTIMEZONE
BEGIN:VEVENT
DTSTART;VALUE=DATE:20241018
DTEND;VALUE=DATE:20241019
DTSTAMP:20260423T184336
CREATED:20231023T085413Z
LAST-MODIFIED:20231023T085824Z
UID:4203-1729209600-1729295999@www.gkre.ch
SUMMARY:Entlebuch Schwändi / Rengg / Finsterwald / Rotmoos
DESCRIPTION:
URL:https://www.gkre.ch/abfuhrtag/entlebuch-schwaendi-rengg-finsterwald-rotmoos-5/2024-10-18/
CATEGORIES:Abfuhrtage
END:VEVENT
BEGIN:VEVENT
DTSTART;VALUE=DATE:20240920
DTEND;VALUE=DATE:20240921
DTSTAMP:20260423T184336
CREATED:20231023T085413Z
LAST-MODIFIED:20231023T085824Z
UID:4202-1726790400-1726876799@www.gkre.ch
SUMMARY:Entlebuch Schwändi / Rengg / Finsterwald / Rotmoos
DESCRIPTION:
URL:https://www.gkre.ch/abfuhrtag/entlebuch-schwaendi-rengg-finsterwald-rotmoos-5/2024-09-20/
CATEGORIES:Abfuhrtage
END:VEVENT
BEGIN:VEVENT
DTSTART;VALUE=DATE:20240823
DTEND;VALUE=DATE:20240824
DTSTAMP:20260423T184336
CREATED:20231023T085413Z
LAST-MODIFIED:20231023T085824Z
UID:4201-1724371200-1724457599@www.gkre.ch
SUMMARY:Entlebuch Schwändi / Rengg / Finsterwald / Rotmoos
DESCRIPTION:
URL:https://www.gkre.ch/abfuhrtag/entlebuch-schwaendi-rengg-finsterwald-rotmoos-5/2024-08-23/
CATEGORIES:Abfuhrtage
END:VEVENT
BEGIN:VEVENT
DTSTART;VALUE=DATE:20240726
DTEND;VALUE=DATE:20240727
DTSTAMP:20260423T184336
CREATED:20231023T085413Z
LAST-MODIFIED:20231023T085824Z
UID:4200-1721952000-1722038399@www.gkre.ch
SUMMARY:Entlebuch Schwändi / Rengg / Finsterwald / Rotmoos
DESCRIPTION:
URL:https://www.gkre.ch/abfuhrtag/entlebuch-schwaendi-rengg-finsterwald-rotmoos-5/2024-07-26/
CATEGORIES:Abfuhrtage
END:VEVENT
BEGIN:VEVENT
DTSTART;VALUE=DATE:20240628
DTEND;VALUE=DATE:20240629
DTSTAMP:20260423T184336
CREATED:20231023T085413Z
LAST-MODIFIED:20231023T085824Z
UID:4198-1719532800-1719619199@www.gkre.ch
SUMMARY:Entlebuch Schwändi / Rengg / Finsterwald / Rotmoos
DESCRIPTION:
URL:https://www.gkre.ch/abfuhrtag/entlebuch-schwaendi-rengg-finsterwald-rotmoos-5/2024-06-28/
CATEGORIES:Abfuhrtage
END:VEVENT
END:VCALENDAR