BEGIN:VCALENDAR
VERSION:2.0
PRODID:-//Gemeindeverband Kehrichtentsorgung Region Entlebuch - ECPv6.2.4//NONSGML v1.0//EN
CALSCALE:GREGORIAN
METHOD:PUBLISH
X-ORIGINAL-URL:https://www.gkre.ch
X-WR-CALDESC:Veranstaltungen im Gemeindeverband Kehrichtentsorgung Region Entlebuch
REFRESH-INTERVAL;VALUE=DURATION:PT1H
X-Robots-Tag:noindex
X-PUBLISHED-TTL:PT1H
BEGIN:VTIMEZONE
TZID:Europe/Zurich
BEGIN:DAYLIGHT
TZOFFSETFROM:+0100
TZOFFSETTO:+0200
TZNAME:CEST
DTSTART:20240331T010000
END:DAYLIGHT
BEGIN:STANDARD
TZOFFSETFROM:+0200
TZOFFSETTO:+0100
TZNAME:CET
DTSTART:20241027T010000
END:STANDARD
END:VTIMEZONE
BEGIN:VEVENT
DTSTART;VALUE=DATE:20241227
DTEND;VALUE=DATE:20241228
DTSTAMP:20260423T122745
CREATED:20231020T152835Z
LAST-MODIFIED:20231023T085750Z
UID:3792-1735257600-1735343999@www.gkre.ch
SUMMARY:Entlebuch Schwändi / Rengg / Finsterwald / Rotmoos
DESCRIPTION:
URL:https://www.gkre.ch/abfuhrtag/entlebuch-schwaendi-rengg-finsterwald-rotmoos/2024-12-27/
CATEGORIES:Abfuhrtage
END:VEVENT
BEGIN:VEVENT
DTSTART;VALUE=DATE:20241129
DTEND;VALUE=DATE:20241130
DTSTAMP:20260423T122745
CREATED:20231020T152835Z
LAST-MODIFIED:20231023T085746Z
UID:3791-1732838400-1732924799@www.gkre.ch
SUMMARY:Entlebuch Schwändi / Rengg / Finsterwald / Rotmoos
DESCRIPTION:
URL:https://www.gkre.ch/abfuhrtag/entlebuch-schwaendi-rengg-finsterwald-rotmoos/2024-11-29/
CATEGORIES:Abfuhrtage
END:VEVENT
BEGIN:VEVENT
DTSTART;VALUE=DATE:20241004
DTEND;VALUE=DATE:20241005
DTSTAMP:20260423T122745
CREATED:20231020T152835Z
LAST-MODIFIED:20231023T085746Z
UID:3789-1728000000-1728086399@www.gkre.ch
SUMMARY:Entlebuch Schwändi / Rengg / Finsterwald / Rotmoos
DESCRIPTION:
URL:https://www.gkre.ch/abfuhrtag/entlebuch-schwaendi-rengg-finsterwald-rotmoos/2024-10-04/
CATEGORIES:Abfuhrtage
END:VEVENT
BEGIN:VEVENT
DTSTART;VALUE=DATE:20240906
DTEND;VALUE=DATE:20240907
DTSTAMP:20260423T122745
CREATED:20231020T152835Z
LAST-MODIFIED:20231023T085746Z
UID:3788-1725580800-1725667199@www.gkre.ch
SUMMARY:Entlebuch Schwändi / Rengg / Finsterwald / Rotmoos
DESCRIPTION:
URL:https://www.gkre.ch/abfuhrtag/entlebuch-schwaendi-rengg-finsterwald-rotmoos/2024-09-06/
CATEGORIES:Abfuhrtage
END:VEVENT
BEGIN:VEVENT
DTSTART;VALUE=DATE:20240809
DTEND;VALUE=DATE:20240810
DTSTAMP:20260423T122745
CREATED:20231020T152835Z
LAST-MODIFIED:20231023T085746Z
UID:3787-1723161600-1723247999@www.gkre.ch
SUMMARY:Entlebuch Schwändi / Rengg / Finsterwald / Rotmoos
DESCRIPTION:
URL:https://www.gkre.ch/abfuhrtag/entlebuch-schwaendi-rengg-finsterwald-rotmoos/2024-08-09/
CATEGORIES:Abfuhrtage
END:VEVENT
BEGIN:VEVENT
DTSTART;VALUE=DATE:20240712
DTEND;VALUE=DATE:20240713
DTSTAMP:20260423T122745
CREATED:20231020T152835Z
LAST-MODIFIED:20231023T085746Z
UID:3786-1720742400-1720828799@www.gkre.ch
SUMMARY:Entlebuch Schwändi / Rengg / Finsterwald / Rotmoos
DESCRIPTION:
URL:https://www.gkre.ch/abfuhrtag/entlebuch-schwaendi-rengg-finsterwald-rotmoos/2024-07-12/
CATEGORIES:Abfuhrtage
END:VEVENT
BEGIN:VEVENT
DTSTART;VALUE=DATE:20240614
DTEND;VALUE=DATE:20240615
DTSTAMP:20260423T122745
CREATED:20231020T152835Z
LAST-MODIFIED:20231023T085745Z
UID:3785-1718323200-1718409599@www.gkre.ch
SUMMARY:Entlebuch Schwändi / Rengg / Finsterwald / Rotmoos
DESCRIPTION:
URL:https://www.gkre.ch/abfuhrtag/entlebuch-schwaendi-rengg-finsterwald-rotmoos/2024-06-14/
CATEGORIES:Abfuhrtage
END:VEVENT
BEGIN:VEVENT
DTSTART;VALUE=DATE:20240517
DTEND;VALUE=DATE:20240518
DTSTAMP:20260423T122745
CREATED:20231020T152835Z
LAST-MODIFIED:20231023T085745Z
UID:3784-1715904000-1715990399@www.gkre.ch
SUMMARY:Entlebuch Schwändi / Rengg / Finsterwald / Rotmoos
DESCRIPTION:
URL:https://www.gkre.ch/abfuhrtag/entlebuch-schwaendi-rengg-finsterwald-rotmoos/2024-05-17/
CATEGORIES:Abfuhrtage
END:VEVENT
BEGIN:VEVENT
DTSTART;VALUE=DATE:20240126
DTEND;VALUE=DATE:20240127
DTSTAMP:20260423T122745
CREATED:20231020T152835Z
LAST-MODIFIED:20231023T085745Z
UID:3779-1706227200-1706313599@www.gkre.ch
SUMMARY:Entlebuch Schwändi / Rengg / Finsterwald / Rotmoos
DESCRIPTION:
URL:https://www.gkre.ch/abfuhrtag/entlebuch-schwaendi-rengg-finsterwald-rotmoos/2024-01-26/
CATEGORIES:Abfuhrtage
END:VEVENT
END:VCALENDAR