BEGIN:VCALENDAR
VERSION:2.0
PRODID:-//Gemeindeverband Kehrichtentsorgung Region Entlebuch - ECPv6.2.4//NONSGML v1.0//EN
CALSCALE:GREGORIAN
METHOD:PUBLISH
X-WR-CALNAME:Gemeindeverband Kehrichtentsorgung Region Entlebuch
X-ORIGINAL-URL:https://www.gkre.ch
X-WR-CALDESC:Veranstaltungen im Gemeindeverband Kehrichtentsorgung Region Entlebuch
REFRESH-INTERVAL;VALUE=DURATION:PT1H
X-Robots-Tag:noindex
X-PUBLISHED-TTL:PT1H
BEGIN:VTIMEZONE
TZID:Europe/Zurich
BEGIN:DAYLIGHT
TZOFFSETFROM:+0100
TZOFFSETTO:+0200
TZNAME:CEST
DTSTART:20240331T010000
END:DAYLIGHT
BEGIN:STANDARD
TZOFFSETFROM:+0200
TZOFFSETTO:+0100
TZNAME:CET
DTSTART:20241027T010000
END:STANDARD
END:VTIMEZONE
BEGIN:VEVENT
DTSTART;VALUE=DATE:20241220
DTEND;VALUE=DATE:20241221
DTSTAMP:20260423T182127
CREATED:20231020T150358Z
LAST-MODIFIED:20231020T150358Z
UID:3778-1734652800-1734739199@www.gkre.ch
SUMMARY:Entlebuch Schwändi
DESCRIPTION:
URL:https://www.gkre.ch/abfuhrtag/entlebuch-schwaendi/2024-12-20/
CATEGORIES:Abfuhrtage
END:VEVENT
BEGIN:VEVENT
DTSTART;VALUE=DATE:20241122
DTEND;VALUE=DATE:20241123
DTSTAMP:20260423T182127
CREATED:20231020T150358Z
LAST-MODIFIED:20231020T150358Z
UID:3777-1732233600-1732319999@www.gkre.ch
SUMMARY:Entlebuch Schwändi
DESCRIPTION:
URL:https://www.gkre.ch/abfuhrtag/entlebuch-schwaendi/2024-11-22/
CATEGORIES:Abfuhrtage
END:VEVENT
BEGIN:VEVENT
DTSTART;VALUE=DATE:20241025
DTEND;VALUE=DATE:20241026
DTSTAMP:20260423T182127
CREATED:20231020T150358Z
LAST-MODIFIED:20231020T150358Z
UID:3776-1729814400-1729900799@www.gkre.ch
SUMMARY:Entlebuch Schwändi
DESCRIPTION:
URL:https://www.gkre.ch/abfuhrtag/entlebuch-schwaendi/2024-10-25/
CATEGORIES:Abfuhrtage
END:VEVENT
BEGIN:VEVENT
DTSTART;VALUE=DATE:20240927
DTEND;VALUE=DATE:20240928
DTSTAMP:20260423T182127
CREATED:20231020T150358Z
LAST-MODIFIED:20231020T150358Z
UID:3775-1727395200-1727481599@www.gkre.ch
SUMMARY:Entlebuch Schwändi
DESCRIPTION:
URL:https://www.gkre.ch/abfuhrtag/entlebuch-schwaendi/2024-09-27/
CATEGORIES:Abfuhrtage
END:VEVENT
BEGIN:VEVENT
DTSTART;VALUE=DATE:20240830
DTEND;VALUE=DATE:20240831
DTSTAMP:20260423T182127
CREATED:20231020T150358Z
LAST-MODIFIED:20231020T150358Z
UID:3774-1724976000-1725062399@www.gkre.ch
SUMMARY:Entlebuch Schwändi
DESCRIPTION:
URL:https://www.gkre.ch/abfuhrtag/entlebuch-schwaendi/2024-08-30/
CATEGORIES:Abfuhrtage
END:VEVENT
BEGIN:VEVENT
DTSTART;VALUE=DATE:20240802
DTEND;VALUE=DATE:20240803
DTSTAMP:20260423T182127
CREATED:20231020T150358Z
LAST-MODIFIED:20231020T150358Z
UID:3773-1722556800-1722643199@www.gkre.ch
SUMMARY:Entlebuch Schwändi
DESCRIPTION:
URL:https://www.gkre.ch/abfuhrtag/entlebuch-schwaendi/2024-08-02/
CATEGORIES:Abfuhrtage
END:VEVENT
BEGIN:VEVENT
DTSTART;VALUE=DATE:20240705
DTEND;VALUE=DATE:20240706
DTSTAMP:20260423T182127
CREATED:20231020T150358Z
LAST-MODIFIED:20231020T150358Z
UID:3772-1720137600-1720223999@www.gkre.ch
SUMMARY:Entlebuch Schwändi
DESCRIPTION:
URL:https://www.gkre.ch/abfuhrtag/entlebuch-schwaendi/2024-07-05/
CATEGORIES:Abfuhrtage
END:VEVENT
BEGIN:VEVENT
DTSTART;VALUE=DATE:20240607
DTEND;VALUE=DATE:20240608
DTSTAMP:20260423T182127
CREATED:20231020T150358Z
LAST-MODIFIED:20231020T150358Z
UID:3771-1717718400-1717804799@www.gkre.ch
SUMMARY:Entlebuch Schwändi
DESCRIPTION:
URL:https://www.gkre.ch/abfuhrtag/entlebuch-schwaendi/2024-06-07/
CATEGORIES:Abfuhrtage
END:VEVENT
BEGIN:VEVENT
DTSTART;VALUE=DATE:20240510
DTEND;VALUE=DATE:20240511
DTSTAMP:20260423T182127
CREATED:20231020T150358Z
LAST-MODIFIED:20231020T150358Z
UID:3770-1715299200-1715385599@www.gkre.ch
SUMMARY:Entlebuch Schwändi
DESCRIPTION:
URL:https://www.gkre.ch/abfuhrtag/entlebuch-schwaendi/2024-05-10/
CATEGORIES:Abfuhrtage
END:VEVENT
BEGIN:VEVENT
DTSTART;VALUE=DATE:20240119
DTEND;VALUE=DATE:20240120
DTSTAMP:20260423T182127
CREATED:20231020T150358Z
LAST-MODIFIED:20231020T152551Z
UID:3388-1705622400-1705708799@www.gkre.ch
SUMMARY:Entlebuch Schwändi
DESCRIPTION:
URL:https://www.gkre.ch/abfuhrtag/entlebuch-schwaendi/2024-01-19/
CATEGORIES:Abfuhrtage
END:VEVENT
END:VCALENDAR