BEGIN:VCALENDAR
VERSION:2.0
PRODID:-//Gemeindeverband Kehrichtentsorgung Region Entlebuch - ECPv6.2.4//NONSGML v1.0//EN
CALSCALE:GREGORIAN
METHOD:PUBLISH
X-WR-CALNAME:Gemeindeverband Kehrichtentsorgung Region Entlebuch
X-ORIGINAL-URL:https://www.gkre.ch
X-WR-CALDESC:Veranstaltungen im Gemeindeverband Kehrichtentsorgung Region Entlebuch
REFRESH-INTERVAL;VALUE=DURATION:PT1H
X-Robots-Tag:noindex
X-PUBLISHED-TTL:PT1H
BEGIN:VTIMEZONE
TZID:Europe/Zurich
BEGIN:DAYLIGHT
TZOFFSETFROM:+0100
TZOFFSETTO:+0200
TZNAME:CEST
DTSTART:20260329T010000
END:DAYLIGHT
BEGIN:STANDARD
TZOFFSETFROM:+0200
TZOFFSETTO:+0100
TZNAME:CET
DTSTART:20261025T010000
END:STANDARD
END:VTIMEZONE
BEGIN:VEVENT
DTSTART;VALUE=DATE:20260420
DTEND;VALUE=DATE:20260421
DTSTAMP:20260423T184207
CREATED:20251105T072405Z
LAST-MODIFIED:20251105T072405Z
UID:6567-1776643200-1776729599@www.gkre.ch
SUMMARY:Escholzmatt
DESCRIPTION:
URL:https://www.gkre.ch/abfuhrtag/escholzmatt-3/2026-04-20/
CATEGORIES:Abfuhrtage
END:VEVENT
BEGIN:VEVENT
DTSTART;VALUE=DATE:20260413
DTEND;VALUE=DATE:20260414
DTSTAMP:20260423T184207
CREATED:20251105T072405Z
LAST-MODIFIED:20251105T072405Z
UID:6566-1776038400-1776124799@www.gkre.ch
SUMMARY:Escholzmatt
DESCRIPTION:
URL:https://www.gkre.ch/abfuhrtag/escholzmatt-3/2026-04-13/
CATEGORIES:Abfuhrtage
END:VEVENT
BEGIN:VEVENT
DTSTART;VALUE=DATE:20260330
DTEND;VALUE=DATE:20260331
DTSTAMP:20260423T184207
CREATED:20251105T072405Z
LAST-MODIFIED:20251105T072405Z
UID:6564-1774828800-1774915199@www.gkre.ch
SUMMARY:Escholzmatt
DESCRIPTION:
URL:https://www.gkre.ch/abfuhrtag/escholzmatt-3/2026-03-30/
CATEGORIES:Abfuhrtage
END:VEVENT
BEGIN:VEVENT
DTSTART;VALUE=DATE:20260323
DTEND;VALUE=DATE:20260324
DTSTAMP:20260423T184207
CREATED:20251105T072405Z
LAST-MODIFIED:20251105T072405Z
UID:6563-1774224000-1774310399@www.gkre.ch
SUMMARY:Escholzmatt
DESCRIPTION:
URL:https://www.gkre.ch/abfuhrtag/escholzmatt-3/2026-03-23/
CATEGORIES:Abfuhrtage
END:VEVENT
BEGIN:VEVENT
DTSTART;VALUE=DATE:20260316
DTEND;VALUE=DATE:20260317
DTSTAMP:20260423T184207
CREATED:20251105T072405Z
LAST-MODIFIED:20251105T072405Z
UID:6562-1773619200-1773705599@www.gkre.ch
SUMMARY:Escholzmatt
DESCRIPTION:
URL:https://www.gkre.ch/abfuhrtag/escholzmatt-3/2026-03-16/
CATEGORIES:Abfuhrtage
END:VEVENT
BEGIN:VEVENT
DTSTART;VALUE=DATE:20260309
DTEND;VALUE=DATE:20260310
DTSTAMP:20260423T184207
CREATED:20251105T072405Z
LAST-MODIFIED:20251105T072405Z
UID:6561-1773014400-1773100799@www.gkre.ch
SUMMARY:Escholzmatt
DESCRIPTION:
URL:https://www.gkre.ch/abfuhrtag/escholzmatt-3/2026-03-09/
CATEGORIES:Abfuhrtage
END:VEVENT
BEGIN:VEVENT
DTSTART;VALUE=DATE:20260302
DTEND;VALUE=DATE:20260303
DTSTAMP:20260423T184207
CREATED:20251105T072405Z
LAST-MODIFIED:20251105T072405Z
UID:6560-1772409600-1772495999@www.gkre.ch
SUMMARY:Escholzmatt
DESCRIPTION:
URL:https://www.gkre.ch/abfuhrtag/escholzmatt-3/2026-03-02/
CATEGORIES:Abfuhrtage
END:VEVENT
BEGIN:VEVENT
DTSTART;VALUE=DATE:20260223
DTEND;VALUE=DATE:20260224
DTSTAMP:20260423T184207
CREATED:20251105T072405Z
LAST-MODIFIED:20251105T072405Z
UID:6559-1771804800-1771891199@www.gkre.ch
SUMMARY:Escholzmatt
DESCRIPTION:
URL:https://www.gkre.ch/abfuhrtag/escholzmatt-3/2026-02-23/
CATEGORIES:Abfuhrtage
END:VEVENT
BEGIN:VEVENT
DTSTART;VALUE=DATE:20260216
DTEND;VALUE=DATE:20260217
DTSTAMP:20260423T184207
CREATED:20251105T072405Z
LAST-MODIFIED:20251105T072405Z
UID:6558-1771200000-1771286399@www.gkre.ch
SUMMARY:Escholzmatt
DESCRIPTION:
URL:https://www.gkre.ch/abfuhrtag/escholzmatt-3/2026-02-16/
CATEGORIES:Abfuhrtage
END:VEVENT
BEGIN:VEVENT
DTSTART;VALUE=DATE:20260209
DTEND;VALUE=DATE:20260210
DTSTAMP:20260423T184207
CREATED:20251105T072405Z
LAST-MODIFIED:20251105T072405Z
UID:6557-1770595200-1770681599@www.gkre.ch
SUMMARY:Escholzmatt
DESCRIPTION:
URL:https://www.gkre.ch/abfuhrtag/escholzmatt-3/2026-02-09/
CATEGORIES:Abfuhrtage
END:VEVENT
BEGIN:VEVENT
DTSTART;VALUE=DATE:20260202
DTEND;VALUE=DATE:20260203
DTSTAMP:20260423T184207
CREATED:20251105T072405Z
LAST-MODIFIED:20251105T072405Z
UID:6556-1769990400-1770076799@www.gkre.ch
SUMMARY:Escholzmatt
DESCRIPTION:
URL:https://www.gkre.ch/abfuhrtag/escholzmatt-3/2026-02-02/
CATEGORIES:Abfuhrtage
END:VEVENT
BEGIN:VEVENT
DTSTART;VALUE=DATE:20260126
DTEND;VALUE=DATE:20260127
DTSTAMP:20260423T184207
CREATED:20251105T072405Z
LAST-MODIFIED:20251105T072405Z
UID:6555-1769385600-1769471999@www.gkre.ch
SUMMARY:Escholzmatt
DESCRIPTION:
URL:https://www.gkre.ch/abfuhrtag/escholzmatt-3/2026-01-26/
CATEGORIES:Abfuhrtage
END:VEVENT
BEGIN:VEVENT
DTSTART;VALUE=DATE:20260119
DTEND;VALUE=DATE:20260120
DTSTAMP:20260423T184207
CREATED:20251105T072405Z
LAST-MODIFIED:20251105T072405Z
UID:6554-1768780800-1768867199@www.gkre.ch
SUMMARY:Escholzmatt
DESCRIPTION:
URL:https://www.gkre.ch/abfuhrtag/escholzmatt-3/2026-01-19/
CATEGORIES:Abfuhrtage
END:VEVENT
BEGIN:VEVENT
DTSTART;VALUE=DATE:20260112
DTEND;VALUE=DATE:20260113
DTSTAMP:20260423T184207
CREATED:20251105T072405Z
LAST-MODIFIED:20251105T072405Z
UID:6553-1768176000-1768262399@www.gkre.ch
SUMMARY:Escholzmatt
DESCRIPTION:
URL:https://www.gkre.ch/abfuhrtag/escholzmatt-3/2026-01-12/
CATEGORIES:Abfuhrtage
END:VEVENT
BEGIN:VEVENT
DTSTART;VALUE=DATE:20260105
DTEND;VALUE=DATE:20260106
DTSTAMP:20260423T184207
CREATED:20251105T072405Z
LAST-MODIFIED:20251105T072405Z
UID:6552-1767571200-1767657599@www.gkre.ch
SUMMARY:Escholzmatt
DESCRIPTION:
URL:https://www.gkre.ch/abfuhrtag/escholzmatt-3/2026-01-05/
CATEGORIES:Abfuhrtage
END:VEVENT
END:VCALENDAR