BEGIN:VCALENDAR
VERSION:2.0
PRODID:-//Gemeindeverband Kehrichtentsorgung Region Entlebuch - ECPv6.2.4//NONSGML v1.0//EN
CALSCALE:GREGORIAN
METHOD:PUBLISH
X-ORIGINAL-URL:https://www.gkre.ch
X-WR-CALDESC:Veranstaltungen im Gemeindeverband Kehrichtentsorgung Region Entlebuch
REFRESH-INTERVAL;VALUE=DURATION:PT1H
X-Robots-Tag:noindex
X-PUBLISHED-TTL:PT1H
BEGIN:VTIMEZONE
TZID:Europe/Zurich
BEGIN:DAYLIGHT
TZOFFSETFROM:+0100
TZOFFSETTO:+0200
TZNAME:CEST
DTSTART:20260329T010000
END:DAYLIGHT
BEGIN:STANDARD
TZOFFSETFROM:+0200
TZOFFSETTO:+0100
TZNAME:CET
DTSTART:20261025T010000
END:STANDARD
END:VTIMEZONE
BEGIN:VEVENT
DTSTART;VALUE=DATE:20260427
DTEND;VALUE=DATE:20260428
DTSTAMP:20260423T130749
CREATED:20251105T072405Z
LAST-MODIFIED:20251105T072405Z
UID:6568-1777248000-1777334399@www.gkre.ch
SUMMARY:Escholzmatt
DESCRIPTION:
URL:https://www.gkre.ch/abfuhrtag/escholzmatt-3/2026-04-27/
CATEGORIES:Abfuhrtage
END:VEVENT
BEGIN:VEVENT
DTSTART;VALUE=DATE:20260504
DTEND;VALUE=DATE:20260505
DTSTAMP:20260423T130749
CREATED:20251105T072405Z
LAST-MODIFIED:20251105T072405Z
UID:6569-1777852800-1777939199@www.gkre.ch
SUMMARY:Escholzmatt
DESCRIPTION:
URL:https://www.gkre.ch/abfuhrtag/escholzmatt-3/2026-05-04/
CATEGORIES:Abfuhrtage
END:VEVENT
BEGIN:VEVENT
DTSTART;VALUE=DATE:20260511
DTEND;VALUE=DATE:20260512
DTSTAMP:20260423T130749
CREATED:20251105T072405Z
LAST-MODIFIED:20251105T072405Z
UID:6570-1778457600-1778543999@www.gkre.ch
SUMMARY:Escholzmatt
DESCRIPTION:
URL:https://www.gkre.ch/abfuhrtag/escholzmatt-3/2026-05-11/
CATEGORIES:Abfuhrtage
END:VEVENT
BEGIN:VEVENT
DTSTART;VALUE=DATE:20260518
DTEND;VALUE=DATE:20260519
DTSTAMP:20260423T130749
CREATED:20251105T072405Z
LAST-MODIFIED:20251105T072405Z
UID:6571-1779062400-1779148799@www.gkre.ch
SUMMARY:Escholzmatt
DESCRIPTION:
URL:https://www.gkre.ch/abfuhrtag/escholzmatt-3/2026-05-18/
CATEGORIES:Abfuhrtage
END:VEVENT
BEGIN:VEVENT
DTSTART;VALUE=DATE:20260601
DTEND;VALUE=DATE:20260602
DTSTAMP:20260423T130749
CREATED:20251105T072405Z
LAST-MODIFIED:20251105T072405Z
UID:6573-1780272000-1780358399@www.gkre.ch
SUMMARY:Escholzmatt
DESCRIPTION:
URL:https://www.gkre.ch/abfuhrtag/escholzmatt-3/2026-06-01/
CATEGORIES:Abfuhrtage
END:VEVENT
BEGIN:VEVENT
DTSTART;VALUE=DATE:20260608
DTEND;VALUE=DATE:20260609
DTSTAMP:20260423T130749
CREATED:20251105T072405Z
LAST-MODIFIED:20251105T072405Z
UID:6574-1780876800-1780963199@www.gkre.ch
SUMMARY:Escholzmatt
DESCRIPTION:
URL:https://www.gkre.ch/abfuhrtag/escholzmatt-3/2026-06-08/
CATEGORIES:Abfuhrtage
END:VEVENT
BEGIN:VEVENT
DTSTART;VALUE=DATE:20260615
DTEND;VALUE=DATE:20260616
DTSTAMP:20260423T130749
CREATED:20251105T072405Z
LAST-MODIFIED:20251105T072405Z
UID:6575-1781481600-1781567999@www.gkre.ch
SUMMARY:Escholzmatt
DESCRIPTION:
URL:https://www.gkre.ch/abfuhrtag/escholzmatt-3/2026-06-15/
CATEGORIES:Abfuhrtage
END:VEVENT
BEGIN:VEVENT
DTSTART;VALUE=DATE:20260622
DTEND;VALUE=DATE:20260623
DTSTAMP:20260423T130749
CREATED:20251105T072405Z
LAST-MODIFIED:20251105T072405Z
UID:6576-1782086400-1782172799@www.gkre.ch
SUMMARY:Escholzmatt
DESCRIPTION:
URL:https://www.gkre.ch/abfuhrtag/escholzmatt-3/2026-06-22/
CATEGORIES:Abfuhrtage
END:VEVENT
BEGIN:VEVENT
DTSTART;VALUE=DATE:20260629
DTEND;VALUE=DATE:20260630
DTSTAMP:20260423T130749
CREATED:20251105T072405Z
LAST-MODIFIED:20251105T072405Z
UID:6577-1782691200-1782777599@www.gkre.ch
SUMMARY:Escholzmatt
DESCRIPTION:
URL:https://www.gkre.ch/abfuhrtag/escholzmatt-3/2026-06-29/
CATEGORIES:Abfuhrtage
END:VEVENT
BEGIN:VEVENT
DTSTART;VALUE=DATE:20260706
DTEND;VALUE=DATE:20260707
DTSTAMP:20260423T130749
CREATED:20251105T072405Z
LAST-MODIFIED:20251105T072405Z
UID:6578-1783296000-1783382399@www.gkre.ch
SUMMARY:Escholzmatt
DESCRIPTION:
URL:https://www.gkre.ch/abfuhrtag/escholzmatt-3/2026-07-06/
CATEGORIES:Abfuhrtage
END:VEVENT
BEGIN:VEVENT
DTSTART;VALUE=DATE:20260713
DTEND;VALUE=DATE:20260714
DTSTAMP:20260423T130749
CREATED:20251105T072405Z
LAST-MODIFIED:20251105T072405Z
UID:6579-1783900800-1783987199@www.gkre.ch
SUMMARY:Escholzmatt
DESCRIPTION:
URL:https://www.gkre.ch/abfuhrtag/escholzmatt-3/2026-07-13/
CATEGORIES:Abfuhrtage
END:VEVENT
BEGIN:VEVENT
DTSTART;VALUE=DATE:20260720
DTEND;VALUE=DATE:20260721
DTSTAMP:20260423T130749
CREATED:20251105T072405Z
LAST-MODIFIED:20251105T072405Z
UID:6580-1784505600-1784591999@www.gkre.ch
SUMMARY:Escholzmatt
DESCRIPTION:
URL:https://www.gkre.ch/abfuhrtag/escholzmatt-3/2026-07-20/
CATEGORIES:Abfuhrtage
END:VEVENT
BEGIN:VEVENT
DTSTART;VALUE=DATE:20260727
DTEND;VALUE=DATE:20260728
DTSTAMP:20260423T130749
CREATED:20251105T072405Z
LAST-MODIFIED:20251105T072405Z
UID:6581-1785110400-1785196799@www.gkre.ch
SUMMARY:Escholzmatt
DESCRIPTION:
URL:https://www.gkre.ch/abfuhrtag/escholzmatt-3/2026-07-27/
CATEGORIES:Abfuhrtage
END:VEVENT
BEGIN:VEVENT
DTSTART;VALUE=DATE:20260803
DTEND;VALUE=DATE:20260804
DTSTAMP:20260423T130749
CREATED:20251105T072405Z
LAST-MODIFIED:20251105T072405Z
UID:6582-1785715200-1785801599@www.gkre.ch
SUMMARY:Escholzmatt
DESCRIPTION:
URL:https://www.gkre.ch/abfuhrtag/escholzmatt-3/2026-08-03/
CATEGORIES:Abfuhrtage
END:VEVENT
BEGIN:VEVENT
DTSTART;VALUE=DATE:20260810
DTEND;VALUE=DATE:20260811
DTSTAMP:20260423T130749
CREATED:20251105T072405Z
LAST-MODIFIED:20251105T072405Z
UID:6583-1786320000-1786406399@www.gkre.ch
SUMMARY:Escholzmatt
DESCRIPTION:
URL:https://www.gkre.ch/abfuhrtag/escholzmatt-3/2026-08-10/
CATEGORIES:Abfuhrtage
END:VEVENT
BEGIN:VEVENT
DTSTART;VALUE=DATE:20260817
DTEND;VALUE=DATE:20260818
DTSTAMP:20260423T130749
CREATED:20251105T072405Z
LAST-MODIFIED:20251105T072405Z
UID:6584-1786924800-1787011199@www.gkre.ch
SUMMARY:Escholzmatt
DESCRIPTION:
URL:https://www.gkre.ch/abfuhrtag/escholzmatt-3/2026-08-17/
CATEGORIES:Abfuhrtage
END:VEVENT
BEGIN:VEVENT
DTSTART;VALUE=DATE:20260824
DTEND;VALUE=DATE:20260825
DTSTAMP:20260423T130749
CREATED:20251105T072405Z
LAST-MODIFIED:20251105T072405Z
UID:6585-1787529600-1787615999@www.gkre.ch
SUMMARY:Escholzmatt
DESCRIPTION:
URL:https://www.gkre.ch/abfuhrtag/escholzmatt-3/2026-08-24/
CATEGORIES:Abfuhrtage
END:VEVENT
BEGIN:VEVENT
DTSTART;VALUE=DATE:20260831
DTEND;VALUE=DATE:20260901
DTSTAMP:20260423T130749
CREATED:20251105T072405Z
LAST-MODIFIED:20251105T072405Z
UID:6586-1788134400-1788220799@www.gkre.ch
SUMMARY:Escholzmatt
DESCRIPTION:
URL:https://www.gkre.ch/abfuhrtag/escholzmatt-3/2026-08-31/
CATEGORIES:Abfuhrtage
END:VEVENT
BEGIN:VEVENT
DTSTART;VALUE=DATE:20260907
DTEND;VALUE=DATE:20260908
DTSTAMP:20260423T130749
CREATED:20251105T072405Z
LAST-MODIFIED:20251105T072405Z
UID:6587-1788739200-1788825599@www.gkre.ch
SUMMARY:Escholzmatt
DESCRIPTION:
URL:https://www.gkre.ch/abfuhrtag/escholzmatt-3/2026-09-07/
CATEGORIES:Abfuhrtage
END:VEVENT
BEGIN:VEVENT
DTSTART;VALUE=DATE:20260914
DTEND;VALUE=DATE:20260915
DTSTAMP:20260423T130749
CREATED:20251105T072405Z
LAST-MODIFIED:20251105T072405Z
UID:6588-1789344000-1789430399@www.gkre.ch
SUMMARY:Escholzmatt
DESCRIPTION:
URL:https://www.gkre.ch/abfuhrtag/escholzmatt-3/2026-09-14/
CATEGORIES:Abfuhrtage
END:VEVENT
BEGIN:VEVENT
DTSTART;VALUE=DATE:20260921
DTEND;VALUE=DATE:20260922
DTSTAMP:20260423T130749
CREATED:20251105T072405Z
LAST-MODIFIED:20251105T072405Z
UID:6589-1789948800-1790035199@www.gkre.ch
SUMMARY:Escholzmatt
DESCRIPTION:
URL:https://www.gkre.ch/abfuhrtag/escholzmatt-3/2026-09-21/
CATEGORIES:Abfuhrtage
END:VEVENT
BEGIN:VEVENT
DTSTART;VALUE=DATE:20260928
DTEND;VALUE=DATE:20260929
DTSTAMP:20260423T130749
CREATED:20251105T072405Z
LAST-MODIFIED:20251105T072405Z
UID:6590-1790553600-1790639999@www.gkre.ch
SUMMARY:Escholzmatt
DESCRIPTION:
URL:https://www.gkre.ch/abfuhrtag/escholzmatt-3/2026-09-28/
CATEGORIES:Abfuhrtage
END:VEVENT
BEGIN:VEVENT
DTSTART;VALUE=DATE:20261005
DTEND;VALUE=DATE:20261006
DTSTAMP:20260423T130749
CREATED:20251105T072405Z
LAST-MODIFIED:20251105T072405Z
UID:6591-1791158400-1791244799@www.gkre.ch
SUMMARY:Escholzmatt
DESCRIPTION:
URL:https://www.gkre.ch/abfuhrtag/escholzmatt-3/2026-10-05/
CATEGORIES:Abfuhrtage
END:VEVENT
BEGIN:VEVENT
DTSTART;VALUE=DATE:20261012
DTEND;VALUE=DATE:20261013
DTSTAMP:20260423T130749
CREATED:20251105T072405Z
LAST-MODIFIED:20251105T072405Z
UID:6592-1791763200-1791849599@www.gkre.ch
SUMMARY:Escholzmatt
DESCRIPTION:
URL:https://www.gkre.ch/abfuhrtag/escholzmatt-3/2026-10-12/
CATEGORIES:Abfuhrtage
END:VEVENT
BEGIN:VEVENT
DTSTART;VALUE=DATE:20261019
DTEND;VALUE=DATE:20261020
DTSTAMP:20260423T130749
CREATED:20251105T072405Z
LAST-MODIFIED:20251105T072405Z
UID:6593-1792368000-1792454399@www.gkre.ch
SUMMARY:Escholzmatt
DESCRIPTION:
URL:https://www.gkre.ch/abfuhrtag/escholzmatt-3/2026-10-19/
CATEGORIES:Abfuhrtage
END:VEVENT
BEGIN:VEVENT
DTSTART;VALUE=DATE:20261026
DTEND;VALUE=DATE:20261027
DTSTAMP:20260423T130749
CREATED:20251105T072405Z
LAST-MODIFIED:20251105T072405Z
UID:6594-1792972800-1793059199@www.gkre.ch
SUMMARY:Escholzmatt
DESCRIPTION:
URL:https://www.gkre.ch/abfuhrtag/escholzmatt-3/2026-10-26/
CATEGORIES:Abfuhrtage
END:VEVENT
BEGIN:VEVENT
DTSTART;VALUE=DATE:20261102
DTEND;VALUE=DATE:20261103
DTSTAMP:20260423T130749
CREATED:20251105T072405Z
LAST-MODIFIED:20251105T072405Z
UID:6595-1793577600-1793663999@www.gkre.ch
SUMMARY:Escholzmatt
DESCRIPTION:
URL:https://www.gkre.ch/abfuhrtag/escholzmatt-3/2026-11-02/
CATEGORIES:Abfuhrtage
END:VEVENT
BEGIN:VEVENT
DTSTART;VALUE=DATE:20261109
DTEND;VALUE=DATE:20261110
DTSTAMP:20260423T130749
CREATED:20251105T072405Z
LAST-MODIFIED:20251105T072405Z
UID:6596-1794182400-1794268799@www.gkre.ch
SUMMARY:Escholzmatt
DESCRIPTION:
URL:https://www.gkre.ch/abfuhrtag/escholzmatt-3/2026-11-09/
CATEGORIES:Abfuhrtage
END:VEVENT
BEGIN:VEVENT
DTSTART;VALUE=DATE:20261116
DTEND;VALUE=DATE:20261117
DTSTAMP:20260423T130749
CREATED:20251105T072405Z
LAST-MODIFIED:20251105T072405Z
UID:6597-1794787200-1794873599@www.gkre.ch
SUMMARY:Escholzmatt
DESCRIPTION:
URL:https://www.gkre.ch/abfuhrtag/escholzmatt-3/2026-11-16/
CATEGORIES:Abfuhrtage
END:VEVENT
BEGIN:VEVENT
DTSTART;VALUE=DATE:20261123
DTEND;VALUE=DATE:20261124
DTSTAMP:20260423T130749
CREATED:20251105T072405Z
LAST-MODIFIED:20251105T072405Z
UID:6598-1795392000-1795478399@www.gkre.ch
SUMMARY:Escholzmatt
DESCRIPTION:
URL:https://www.gkre.ch/abfuhrtag/escholzmatt-3/2026-11-23/
CATEGORIES:Abfuhrtage
END:VEVENT
END:VCALENDAR