BEGIN:VCALENDAR
VERSION:2.0
PRODID:-//Gemeindeverband Kehrichtentsorgung Region Entlebuch - ECPv6.2.4//NONSGML v1.0//EN
CALSCALE:GREGORIAN
METHOD:PUBLISH
X-ORIGINAL-URL:https://www.gkre.ch
X-WR-CALDESC:Veranstaltungen im Gemeindeverband Kehrichtentsorgung Region Entlebuch
REFRESH-INTERVAL;VALUE=DURATION:PT1H
X-Robots-Tag:noindex
X-PUBLISHED-TTL:PT1H
BEGIN:VTIMEZONE
TZID:Europe/Zurich
BEGIN:DAYLIGHT
TZOFFSETFROM:+0100
TZOFFSETTO:+0200
TZNAME:CEST
DTSTART:20250330T010000
END:DAYLIGHT
BEGIN:STANDARD
TZOFFSETFROM:+0200
TZOFFSETTO:+0100
TZNAME:CET
DTSTART:20251026T010000
END:STANDARD
END:VTIMEZONE
BEGIN:VEVENT
DTSTART;VALUE=DATE:20251127
DTEND;VALUE=DATE:20251128
DTSTAMP:20260423T063411
CREATED:20241015T143003Z
LAST-MODIFIED:20241015T143003Z
UID:6059-1764201600-1764287999@www.gkre.ch
SUMMARY:Heiligkreuz / Hasle
DESCRIPTION:
URL:https://www.gkre.ch/abfuhrtag/heiligkreuz-hasle-3/2025-11-27/
CATEGORIES:Abfuhrtage
END:VEVENT
BEGIN:VEVENT
DTSTART;VALUE=DATE:20251030
DTEND;VALUE=DATE:20251031
DTSTAMP:20260423T063411
CREATED:20241015T143003Z
LAST-MODIFIED:20241015T143003Z
UID:6057-1761782400-1761868799@www.gkre.ch
SUMMARY:Heiligkreuz / Hasle
DESCRIPTION:
URL:https://www.gkre.ch/abfuhrtag/heiligkreuz-hasle-3/2025-10-30/
CATEGORIES:Abfuhrtage
END:VEVENT
BEGIN:VEVENT
DTSTART;VALUE=DATE:20251016
DTEND;VALUE=DATE:20251017
DTSTAMP:20260423T063411
CREATED:20241015T143003Z
LAST-MODIFIED:20241015T143003Z
UID:6056-1760572800-1760659199@www.gkre.ch
SUMMARY:Heiligkreuz / Hasle
DESCRIPTION:
URL:https://www.gkre.ch/abfuhrtag/heiligkreuz-hasle-3/2025-10-16/
CATEGORIES:Abfuhrtage
END:VEVENT
BEGIN:VEVENT
DTSTART;VALUE=DATE:20251002
DTEND;VALUE=DATE:20251003
DTSTAMP:20260423T063411
CREATED:20241015T143003Z
LAST-MODIFIED:20241015T143003Z
UID:6055-1759363200-1759449599@www.gkre.ch
SUMMARY:Heiligkreuz / Hasle
DESCRIPTION:
URL:https://www.gkre.ch/abfuhrtag/heiligkreuz-hasle-3/2025-10-02/
CATEGORIES:Abfuhrtage
END:VEVENT
BEGIN:VEVENT
DTSTART;VALUE=DATE:20250918
DTEND;VALUE=DATE:20250919
DTSTAMP:20260423T063411
CREATED:20241015T143003Z
LAST-MODIFIED:20241015T143003Z
UID:6054-1758153600-1758239999@www.gkre.ch
SUMMARY:Heiligkreuz / Hasle
DESCRIPTION:
URL:https://www.gkre.ch/abfuhrtag/heiligkreuz-hasle-3/2025-09-18/
CATEGORIES:Abfuhrtage
END:VEVENT
BEGIN:VEVENT
DTSTART;VALUE=DATE:20250904
DTEND;VALUE=DATE:20250905
DTSTAMP:20260423T063411
CREATED:20241015T143003Z
LAST-MODIFIED:20241015T143003Z
UID:6053-1756944000-1757030399@www.gkre.ch
SUMMARY:Heiligkreuz / Hasle
DESCRIPTION:
URL:https://www.gkre.ch/abfuhrtag/heiligkreuz-hasle-3/2025-09-04/
CATEGORIES:Abfuhrtage
END:VEVENT
BEGIN:VEVENT
DTSTART;VALUE=DATE:20250821
DTEND;VALUE=DATE:20250822
DTSTAMP:20260423T063411
CREATED:20241015T143003Z
LAST-MODIFIED:20241015T143003Z
UID:6052-1755734400-1755820799@www.gkre.ch
SUMMARY:Heiligkreuz / Hasle
DESCRIPTION:
URL:https://www.gkre.ch/abfuhrtag/heiligkreuz-hasle-3/2025-08-21/
CATEGORIES:Abfuhrtage
END:VEVENT
BEGIN:VEVENT
DTSTART;VALUE=DATE:20250807
DTEND;VALUE=DATE:20250808
DTSTAMP:20260423T063411
CREATED:20241015T143003Z
LAST-MODIFIED:20241015T143003Z
UID:6051-1754524800-1754611199@www.gkre.ch
SUMMARY:Heiligkreuz / Hasle
DESCRIPTION:
URL:https://www.gkre.ch/abfuhrtag/heiligkreuz-hasle-3/2025-08-07/
CATEGORIES:Abfuhrtage
END:VEVENT
BEGIN:VEVENT
DTSTART;VALUE=DATE:20250724
DTEND;VALUE=DATE:20250725
DTSTAMP:20260423T063411
CREATED:20241015T143003Z
LAST-MODIFIED:20241015T143003Z
UID:6050-1753315200-1753401599@www.gkre.ch
SUMMARY:Heiligkreuz / Hasle
DESCRIPTION:
URL:https://www.gkre.ch/abfuhrtag/heiligkreuz-hasle-3/2025-07-24/
CATEGORIES:Abfuhrtage
END:VEVENT
BEGIN:VEVENT
DTSTART;VALUE=DATE:20250710
DTEND;VALUE=DATE:20250711
DTSTAMP:20260423T063411
CREATED:20241015T143003Z
LAST-MODIFIED:20241015T143003Z
UID:6049-1752105600-1752191999@www.gkre.ch
SUMMARY:Heiligkreuz / Hasle
DESCRIPTION:
URL:https://www.gkre.ch/abfuhrtag/heiligkreuz-hasle-3/2025-07-10/
CATEGORIES:Abfuhrtage
END:VEVENT
BEGIN:VEVENT
DTSTART;VALUE=DATE:20250626
DTEND;VALUE=DATE:20250627
DTSTAMP:20260423T063411
CREATED:20241015T143003Z
LAST-MODIFIED:20241015T143003Z
UID:6048-1750896000-1750982399@www.gkre.ch
SUMMARY:Heiligkreuz / Hasle
DESCRIPTION:
URL:https://www.gkre.ch/abfuhrtag/heiligkreuz-hasle-3/2025-06-26/
CATEGORIES:Abfuhrtage
END:VEVENT
BEGIN:VEVENT
DTSTART;VALUE=DATE:20250612
DTEND;VALUE=DATE:20250613
DTSTAMP:20260423T063411
CREATED:20241015T143003Z
LAST-MODIFIED:20241015T143003Z
UID:6046-1749686400-1749772799@www.gkre.ch
SUMMARY:Heiligkreuz / Hasle
DESCRIPTION:
URL:https://www.gkre.ch/abfuhrtag/heiligkreuz-hasle-3/2025-06-12/
CATEGORIES:Abfuhrtage
END:VEVENT
END:VCALENDAR