BEGIN:VCALENDAR
VERSION:2.0
PRODID:-//Gemeindeverband Kehrichtentsorgung Region Entlebuch - ECPv6.2.4//NONSGML v1.0//EN
CALSCALE:GREGORIAN
METHOD:PUBLISH
X-ORIGINAL-URL:https://www.gkre.ch
X-WR-CALDESC:Veranstaltungen im Gemeindeverband Kehrichtentsorgung Region Entlebuch
REFRESH-INTERVAL;VALUE=DURATION:PT1H
X-Robots-Tag:noindex
X-PUBLISHED-TTL:PT1H
BEGIN:VTIMEZONE
TZID:Europe/Zurich
BEGIN:DAYLIGHT
TZOFFSETFROM:+0100
TZOFFSETTO:+0200
TZNAME:CEST
DTSTART:20260329T010000
END:DAYLIGHT
BEGIN:STANDARD
TZOFFSETFROM:+0200
TZOFFSETTO:+0100
TZNAME:CET
DTSTART:20261025T010000
END:STANDARD
END:VTIMEZONE
BEGIN:VEVENT
DTSTART;VALUE=DATE:20260430
DTEND;VALUE=DATE:20260501
DTSTAMP:20260423T111738
CREATED:20251105T074447Z
LAST-MODIFIED:20251105T074447Z
UID:6859-1777507200-1777593599@www.gkre.ch
SUMMARY:Heiligkreuz / Hasle
DESCRIPTION:
URL:https://www.gkre.ch/abfuhrtag/heiligkreuz-hasle-4/2026-04-30/
CATEGORIES:Abfuhrtage
END:VEVENT
BEGIN:VEVENT
DTSTART;VALUE=DATE:20260528
DTEND;VALUE=DATE:20260529
DTSTAMP:20260423T111738
CREATED:20251105T074447Z
LAST-MODIFIED:20251105T074447Z
UID:6860-1779926400-1780012799@www.gkre.ch
SUMMARY:Heiligkreuz / Hasle
DESCRIPTION:
URL:https://www.gkre.ch/abfuhrtag/heiligkreuz-hasle-4/2026-05-28/
CATEGORIES:Abfuhrtage
END:VEVENT
BEGIN:VEVENT
DTSTART;VALUE=DATE:20260611
DTEND;VALUE=DATE:20260612
DTSTAMP:20260423T111738
CREATED:20251105T074447Z
LAST-MODIFIED:20251105T074853Z
UID:6848-1781136000-1781222399@www.gkre.ch
SUMMARY:Heiligkreuz / Hasle
DESCRIPTION:
URL:https://www.gkre.ch/abfuhrtag/heiligkreuz-hasle-4/2026-06-11/
CATEGORIES:Abfuhrtage
END:VEVENT
BEGIN:VEVENT
DTSTART;VALUE=DATE:20260625
DTEND;VALUE=DATE:20260626
DTSTAMP:20260423T111738
CREATED:20251105T074447Z
LAST-MODIFIED:20251105T074447Z
UID:6861-1782345600-1782431999@www.gkre.ch
SUMMARY:Heiligkreuz / Hasle
DESCRIPTION:
URL:https://www.gkre.ch/abfuhrtag/heiligkreuz-hasle-4/2026-06-25/
CATEGORIES:Abfuhrtage
END:VEVENT
BEGIN:VEVENT
DTSTART;VALUE=DATE:20260709
DTEND;VALUE=DATE:20260710
DTSTAMP:20260423T111738
CREATED:20251105T074447Z
LAST-MODIFIED:20251105T074854Z
UID:6849-1783555200-1783641599@www.gkre.ch
SUMMARY:Heiligkreuz / Hasle
DESCRIPTION:
URL:https://www.gkre.ch/abfuhrtag/heiligkreuz-hasle-4/2026-07-09/
CATEGORIES:Abfuhrtage
END:VEVENT
BEGIN:VEVENT
DTSTART;VALUE=DATE:20260723
DTEND;VALUE=DATE:20260724
DTSTAMP:20260423T111738
CREATED:20251105T074447Z
LAST-MODIFIED:20251105T074447Z
UID:6862-1784764800-1784851199@www.gkre.ch
SUMMARY:Heiligkreuz / Hasle
DESCRIPTION:
URL:https://www.gkre.ch/abfuhrtag/heiligkreuz-hasle-4/2026-07-23/
CATEGORIES:Abfuhrtage
END:VEVENT
BEGIN:VEVENT
DTSTART;VALUE=DATE:20260806
DTEND;VALUE=DATE:20260807
DTSTAMP:20260423T111738
CREATED:20251105T074447Z
LAST-MODIFIED:20251105T074854Z
UID:6850-1785974400-1786060799@www.gkre.ch
SUMMARY:Heiligkreuz / Hasle
DESCRIPTION:
URL:https://www.gkre.ch/abfuhrtag/heiligkreuz-hasle-4/2026-08-06/
CATEGORIES:Abfuhrtage
END:VEVENT
BEGIN:VEVENT
DTSTART;VALUE=DATE:20260820
DTEND;VALUE=DATE:20260821
DTSTAMP:20260423T111738
CREATED:20251105T074447Z
LAST-MODIFIED:20251105T074447Z
UID:6863-1787184000-1787270399@www.gkre.ch
SUMMARY:Heiligkreuz / Hasle
DESCRIPTION:
URL:https://www.gkre.ch/abfuhrtag/heiligkreuz-hasle-4/2026-08-20/
CATEGORIES:Abfuhrtage
END:VEVENT
BEGIN:VEVENT
DTSTART;VALUE=DATE:20260903
DTEND;VALUE=DATE:20260904
DTSTAMP:20260423T111738
CREATED:20251105T074447Z
LAST-MODIFIED:20251105T074854Z
UID:6851-1788393600-1788479999@www.gkre.ch
SUMMARY:Heiligkreuz / Hasle
DESCRIPTION:
URL:https://www.gkre.ch/abfuhrtag/heiligkreuz-hasle-4/2026-09-03/
CATEGORIES:Abfuhrtage
END:VEVENT
BEGIN:VEVENT
DTSTART;VALUE=DATE:20260917
DTEND;VALUE=DATE:20260918
DTSTAMP:20260423T111738
CREATED:20251105T074447Z
LAST-MODIFIED:20251105T074447Z
UID:6864-1789603200-1789689599@www.gkre.ch
SUMMARY:Heiligkreuz / Hasle
DESCRIPTION:
URL:https://www.gkre.ch/abfuhrtag/heiligkreuz-hasle-4/2026-09-17/
CATEGORIES:Abfuhrtage
END:VEVENT
BEGIN:VEVENT
DTSTART;VALUE=DATE:20261001
DTEND;VALUE=DATE:20261002
DTSTAMP:20260423T111738
CREATED:20251105T074447Z
LAST-MODIFIED:20251105T074856Z
UID:6852-1790812800-1790899199@www.gkre.ch
SUMMARY:Heiligkreuz / Hasle
DESCRIPTION:
URL:https://www.gkre.ch/abfuhrtag/heiligkreuz-hasle-4/2026-10-01/
CATEGORIES:Abfuhrtage
END:VEVENT
BEGIN:VEVENT
DTSTART;VALUE=DATE:20261015
DTEND;VALUE=DATE:20261016
DTSTAMP:20260423T111738
CREATED:20251105T074447Z
LAST-MODIFIED:20251105T074447Z
UID:6865-1792022400-1792108799@www.gkre.ch
SUMMARY:Heiligkreuz / Hasle
DESCRIPTION:
URL:https://www.gkre.ch/abfuhrtag/heiligkreuz-hasle-4/2026-10-15/
CATEGORIES:Abfuhrtage
END:VEVENT
BEGIN:VEVENT
DTSTART;VALUE=DATE:20261029
DTEND;VALUE=DATE:20261030
DTSTAMP:20260423T111738
CREATED:20251105T074447Z
LAST-MODIFIED:20251105T074856Z
UID:6853-1793232000-1793318399@www.gkre.ch
SUMMARY:Heiligkreuz / Hasle
DESCRIPTION:
URL:https://www.gkre.ch/abfuhrtag/heiligkreuz-hasle-4/2026-10-29/
CATEGORIES:Abfuhrtage
END:VEVENT
BEGIN:VEVENT
DTSTART;VALUE=DATE:20261126
DTEND;VALUE=DATE:20261127
DTSTAMP:20260423T111738
CREATED:20251105T074447Z
LAST-MODIFIED:20251105T074856Z
UID:6854-1795651200-1795737599@www.gkre.ch
SUMMARY:Heiligkreuz / Hasle
DESCRIPTION:
URL:https://www.gkre.ch/abfuhrtag/heiligkreuz-hasle-4/2026-11-26/
CATEGORIES:Abfuhrtage
END:VEVENT
BEGIN:VEVENT
DTSTART;VALUE=DATE:20261224
DTEND;VALUE=DATE:20261225
DTSTAMP:20260423T111738
CREATED:20251105T074447Z
LAST-MODIFIED:20251105T074856Z
UID:6855-1798070400-1798156799@www.gkre.ch
SUMMARY:Heiligkreuz / Hasle
DESCRIPTION:
URL:https://www.gkre.ch/abfuhrtag/heiligkreuz-hasle-4/2026-12-24/
CATEGORIES:Abfuhrtage
END:VEVENT
END:VCALENDAR