BEGIN:VCALENDAR
VERSION:2.0
PRODID:-//Gemeindeverband Kehrichtentsorgung Region Entlebuch - ECPv6.2.4//NONSGML v1.0//EN
CALSCALE:GREGORIAN
METHOD:PUBLISH
X-ORIGINAL-URL:https://www.gkre.ch
X-WR-CALDESC:Veranstaltungen im Gemeindeverband Kehrichtentsorgung Region Entlebuch
REFRESH-INTERVAL;VALUE=DURATION:PT1H
X-Robots-Tag:noindex
X-PUBLISHED-TTL:PT1H
BEGIN:VTIMEZONE
TZID:Europe/Zurich
BEGIN:DAYLIGHT
TZOFFSETFROM:+0100
TZOFFSETTO:+0200
TZNAME:CEST
DTSTART:20250330T010000
END:DAYLIGHT
BEGIN:STANDARD
TZOFFSETFROM:+0200
TZOFFSETTO:+0100
TZNAME:CET
DTSTART:20251026T010000
END:STANDARD
END:VTIMEZONE
BEGIN:VEVENT
DTSTART;VALUE=DATE:20251211
DTEND;VALUE=DATE:20251212
DTSTAMP:20260423T025032
CREATED:20241009T085634Z
LAST-MODIFIED:20241009T085634Z
UID:5760-1765411200-1765497599@www.gkre.ch
SUMMARY:Heiligkreuz / Hasle bis Kaspersmatt
DESCRIPTION:
URL:https://www.gkre.ch/abfuhrtag/heiligkreuz-hasle-bis-kaspersmatt-2/2025-12-11/
CATEGORIES:Abfuhrtage
END:VEVENT
BEGIN:VEVENT
DTSTART;VALUE=DATE:20251113
DTEND;VALUE=DATE:20251114
DTSTAMP:20260423T025032
CREATED:20241009T085634Z
LAST-MODIFIED:20241009T085634Z
UID:5759-1762992000-1763078399@www.gkre.ch
SUMMARY:Heiligkreuz / Hasle bis Kaspersmatt
DESCRIPTION:
URL:https://www.gkre.ch/abfuhrtag/heiligkreuz-hasle-bis-kaspersmatt-2/2025-11-13/
CATEGORIES:Abfuhrtage
END:VEVENT
BEGIN:VEVENT
DTSTART;VALUE=DATE:20250306
DTEND;VALUE=DATE:20250307
DTSTAMP:20260423T025032
CREATED:20241009T085634Z
LAST-MODIFIED:20241009T085634Z
UID:5750-1741219200-1741305599@www.gkre.ch
SUMMARY:Heiligkreuz / Hasle bis Kaspersmatt
DESCRIPTION:
URL:https://www.gkre.ch/abfuhrtag/heiligkreuz-hasle-bis-kaspersmatt-2/2025-03-06/
CATEGORIES:Abfuhrtage
END:VEVENT
BEGIN:VEVENT
DTSTART;VALUE=DATE:20250206
DTEND;VALUE=DATE:20250207
DTSTAMP:20260423T025032
CREATED:20241009T085634Z
LAST-MODIFIED:20241009T085634Z
UID:5749-1738800000-1738886399@www.gkre.ch
SUMMARY:Heiligkreuz / Hasle bis Kaspersmatt
DESCRIPTION:
URL:https://www.gkre.ch/abfuhrtag/heiligkreuz-hasle-bis-kaspersmatt-2/2025-02-06/
CATEGORIES:Abfuhrtage
END:VEVENT
BEGIN:VEVENT
DTSTART;VALUE=DATE:20250109
DTEND;VALUE=DATE:20250110
DTSTAMP:20260423T025032
CREATED:20241009T085634Z
LAST-MODIFIED:20241015T072850Z
UID:5332-1736380800-1736467199@www.gkre.ch
SUMMARY:Heiligkreuz / Hasle bis Kaspersmatt
DESCRIPTION:
URL:https://www.gkre.ch/abfuhrtag/heiligkreuz-hasle-bis-kaspersmatt-2/2025-01-09/
CATEGORIES:Abfuhrtage
END:VEVENT
END:VCALENDAR