BEGIN:VCALENDAR
VERSION:2.0
PRODID:-//Gemeindeverband Kehrichtentsorgung Region Entlebuch - ECPv6.2.4//NONSGML v1.0//EN
CALSCALE:GREGORIAN
METHOD:PUBLISH
X-WR-CALNAME:Gemeindeverband Kehrichtentsorgung Region Entlebuch
X-ORIGINAL-URL:https://www.gkre.ch
X-WR-CALDESC:Veranstaltungen im Gemeindeverband Kehrichtentsorgung Region Entlebuch
REFRESH-INTERVAL;VALUE=DURATION:PT1H
X-Robots-Tag:noindex
X-PUBLISHED-TTL:PT1H
BEGIN:VTIMEZONE
TZID:Europe/Zurich
BEGIN:DAYLIGHT
TZOFFSETFROM:+0100
TZOFFSETTO:+0200
TZNAME:CEST
DTSTART:20260329T010000
END:DAYLIGHT
BEGIN:STANDARD
TZOFFSETFROM:+0200
TZOFFSETTO:+0100
TZNAME:CET
DTSTART:20261025T010000
END:STANDARD
END:VTIMEZONE
BEGIN:VEVENT
DTSTART;VALUE=DATE:20260305
DTEND;VALUE=DATE:20260306
DTSTAMP:20260422T001258
CREATED:20251105T075346Z
LAST-MODIFIED:20251105T075346Z
UID:6870-1772668800-1772755199@www.gkre.ch
SUMMARY:Heiligkreuz / Hasle bis Kaspersmatt
DESCRIPTION:
URL:https://www.gkre.ch/abfuhrtag/heiligkreuz-hasle-bis-kaspersmatt-3/2026-03-05/
CATEGORIES:Abfuhrtage
END:VEVENT
BEGIN:VEVENT
DTSTART;VALUE=DATE:20260205
DTEND;VALUE=DATE:20260206
DTSTAMP:20260422T001258
CREATED:20251105T075346Z
LAST-MODIFIED:20251105T075750Z
UID:6869-1770249600-1770335999@www.gkre.ch
SUMMARY:Heiligkreuz / Hasle bis Kaspersmatt
DESCRIPTION:
URL:https://www.gkre.ch/abfuhrtag/heiligkreuz-hasle-bis-kaspersmatt-3/2026-02-05/
CATEGORIES:Abfuhrtage
END:VEVENT
BEGIN:VEVENT
DTSTART;VALUE=DATE:20260108
DTEND;VALUE=DATE:20260109
DTSTAMP:20260422T001258
CREATED:20251105T075346Z
LAST-MODIFIED:20251105T075750Z
UID:6868-1767830400-1767916799@www.gkre.ch
SUMMARY:Heiligkreuz / Hasle bis Kaspersmatt
DESCRIPTION:
URL:https://www.gkre.ch/abfuhrtag/heiligkreuz-hasle-bis-kaspersmatt-3/2026-01-08/
CATEGORIES:Abfuhrtage
END:VEVENT
END:VCALENDAR