BEGIN:VCALENDAR
VERSION:2.0
PRODID:-//Gemeindeverband Kehrichtentsorgung Region Entlebuch - ECPv6.2.4//NONSGML v1.0//EN
CALSCALE:GREGORIAN
METHOD:PUBLISH
X-WR-CALNAME:Gemeindeverband Kehrichtentsorgung Region Entlebuch
X-ORIGINAL-URL:https://www.gkre.ch
X-WR-CALDESC:Veranstaltungen im Gemeindeverband Kehrichtentsorgung Region Entlebuch
REFRESH-INTERVAL;VALUE=DURATION:PT1H
X-Robots-Tag:noindex
X-PUBLISHED-TTL:PT1H
BEGIN:VTIMEZONE
TZID:Europe/Zurich
BEGIN:DAYLIGHT
TZOFFSETFROM:+0100
TZOFFSETTO:+0200
TZNAME:CEST
DTSTART:20260329T010000
END:DAYLIGHT
BEGIN:STANDARD
TZOFFSETFROM:+0200
TZOFFSETTO:+0100
TZNAME:CET
DTSTART:20261025T010000
END:STANDARD
BEGIN:DAYLIGHT
TZOFFSETFROM:+0100
TZOFFSETTO:+0200
TZNAME:CEST
DTSTART:20270328T010000
END:DAYLIGHT
BEGIN:STANDARD
TZOFFSETFROM:+0200
TZOFFSETTO:+0100
TZNAME:CET
DTSTART:20271031T010000
END:STANDARD
END:VTIMEZONE
BEGIN:VEVENT
DTSTART;VALUE=DATE:20261112
DTEND;VALUE=DATE:20261113
DTSTAMP:20260422T062352
CREATED:20251105T075956Z
LAST-MODIFIED:20251105T075956Z
UID:6871-1794441600-1794527999@www.gkre.ch
SUMMARY:Heiligkreuz / Hasle bis Kaspersmatt
DESCRIPTION:
URL:https://www.gkre.ch/abfuhrtag/heiligkreuz-hasle-bis-kaspersmatt-4/2026-11-12/
CATEGORIES:Abfuhrtage
END:VEVENT
BEGIN:VEVENT
DTSTART;VALUE=DATE:20261210
DTEND;VALUE=DATE:20261211
DTSTAMP:20260422T062352
CREATED:20251105T075956Z
LAST-MODIFIED:20251105T075956Z
UID:6872-1796860800-1796947199@www.gkre.ch
SUMMARY:Heiligkreuz / Hasle bis Kaspersmatt
DESCRIPTION:
URL:https://www.gkre.ch/abfuhrtag/heiligkreuz-hasle-bis-kaspersmatt-4/2026-12-10/
CATEGORIES:Abfuhrtage
END:VEVENT
BEGIN:VEVENT
DTSTART;VALUE=DATE:20270107
DTEND;VALUE=DATE:20270108
DTSTAMP:20260422T062352
CREATED:20251105T075956Z
LAST-MODIFIED:20251105T075956Z
UID:6873-1799280000-1799366399@www.gkre.ch
SUMMARY:Heiligkreuz / Hasle bis Kaspersmatt
DESCRIPTION:
URL:https://www.gkre.ch/abfuhrtag/heiligkreuz-hasle-bis-kaspersmatt-4/2027-01-07/
CATEGORIES:Abfuhrtage
END:VEVENT
END:VCALENDAR