BEGIN:VCALENDAR
VERSION:2.0
PRODID:-//Gemeindeverband Kehrichtentsorgung Region Entlebuch - ECPv6.2.4//NONSGML v1.0//EN
CALSCALE:GREGORIAN
METHOD:PUBLISH
X-ORIGINAL-URL:https://www.gkre.ch
X-WR-CALDESC:Veranstaltungen im Gemeindeverband Kehrichtentsorgung Region Entlebuch
REFRESH-INTERVAL;VALUE=DURATION:PT1H
X-Robots-Tag:noindex
X-PUBLISHED-TTL:PT1H
BEGIN:VTIMEZONE
TZID:Europe/Zurich
BEGIN:DAYLIGHT
TZOFFSETFROM:+0100
TZOFFSETTO:+0200
TZNAME:CEST
DTSTART:20250330T010000
END:DAYLIGHT
BEGIN:STANDARD
TZOFFSETFROM:+0200
TZOFFSETTO:+0100
TZNAME:CET
DTSTART:20251026T010000
END:STANDARD
END:VTIMEZONE
BEGIN:VEVENT
DTSTART;VALUE=DATE:20251230
DTEND;VALUE=DATE:20251231
DTSTAMP:20260422T185344
CREATED:20241009T082748Z
LAST-MODIFIED:20241009T082748Z
UID:5728-1767052800-1767139199@www.gkre.ch
SUMMARY:Lehn / Schüpfheim (+Chilewald)
DESCRIPTION:
URL:https://www.gkre.ch/abfuhrtag/lehn-schuepfheim-chilewald-2/2025-12-30/
CATEGORIES:Abfuhrtage
END:VEVENT
BEGIN:VEVENT
DTSTART;VALUE=DATE:20251216
DTEND;VALUE=DATE:20251217
DTSTAMP:20260422T185344
CREATED:20241009T082748Z
LAST-MODIFIED:20241009T082748Z
UID:5727-1765843200-1765929599@www.gkre.ch
SUMMARY:Lehn / Schüpfheim (+Chilewald)
DESCRIPTION:
URL:https://www.gkre.ch/abfuhrtag/lehn-schuepfheim-chilewald-2/2025-12-16/
CATEGORIES:Abfuhrtage
END:VEVENT
BEGIN:VEVENT
DTSTART;VALUE=DATE:20251202
DTEND;VALUE=DATE:20251203
DTSTAMP:20260422T185344
CREATED:20241009T082748Z
LAST-MODIFIED:20241009T082748Z
UID:5726-1764633600-1764719999@www.gkre.ch
SUMMARY:Lehn / Schüpfheim (+Chilewald)
DESCRIPTION:
URL:https://www.gkre.ch/abfuhrtag/lehn-schuepfheim-chilewald-2/2025-12-02/
CATEGORIES:Abfuhrtage
END:VEVENT
BEGIN:VEVENT
DTSTART;VALUE=DATE:20251118
DTEND;VALUE=DATE:20251119
DTSTAMP:20260422T185344
CREATED:20241009T082748Z
LAST-MODIFIED:20241009T082748Z
UID:5725-1763424000-1763510399@www.gkre.ch
SUMMARY:Lehn / Schüpfheim (+Chilewald)
DESCRIPTION:
URL:https://www.gkre.ch/abfuhrtag/lehn-schuepfheim-chilewald-2/2025-11-18/
CATEGORIES:Abfuhrtage
END:VEVENT
BEGIN:VEVENT
DTSTART;VALUE=DATE:20251104
DTEND;VALUE=DATE:20251105
DTSTAMP:20260422T185344
CREATED:20241009T082748Z
LAST-MODIFIED:20241009T082748Z
UID:5724-1762214400-1762300799@www.gkre.ch
SUMMARY:Lehn / Schüpfheim (+Chilewald)
DESCRIPTION:
URL:https://www.gkre.ch/abfuhrtag/lehn-schuepfheim-chilewald-2/2025-11-04/
CATEGORIES:Abfuhrtage
END:VEVENT
BEGIN:VEVENT
DTSTART;VALUE=DATE:20251021
DTEND;VALUE=DATE:20251022
DTSTAMP:20260422T185344
CREATED:20241009T082748Z
LAST-MODIFIED:20241009T082748Z
UID:5723-1761004800-1761091199@www.gkre.ch
SUMMARY:Lehn / Schüpfheim (+Chilewald)
DESCRIPTION:
URL:https://www.gkre.ch/abfuhrtag/lehn-schuepfheim-chilewald-2/2025-10-21/
CATEGORIES:Abfuhrtage
END:VEVENT
BEGIN:VEVENT
DTSTART;VALUE=DATE:20251007
DTEND;VALUE=DATE:20251008
DTSTAMP:20260422T185344
CREATED:20241009T082748Z
LAST-MODIFIED:20241009T082748Z
UID:5722-1759795200-1759881599@www.gkre.ch
SUMMARY:Lehn / Schüpfheim (+Chilewald)
DESCRIPTION:
URL:https://www.gkre.ch/abfuhrtag/lehn-schuepfheim-chilewald-2/2025-10-07/
CATEGORIES:Abfuhrtage
END:VEVENT
BEGIN:VEVENT
DTSTART;VALUE=DATE:20250923
DTEND;VALUE=DATE:20250924
DTSTAMP:20260422T185344
CREATED:20241009T082748Z
LAST-MODIFIED:20241009T082748Z
UID:5721-1758585600-1758671999@www.gkre.ch
SUMMARY:Lehn / Schüpfheim (+Chilewald)
DESCRIPTION:
URL:https://www.gkre.ch/abfuhrtag/lehn-schuepfheim-chilewald-2/2025-09-23/
CATEGORIES:Abfuhrtage
END:VEVENT
BEGIN:VEVENT
DTSTART;VALUE=DATE:20250909
DTEND;VALUE=DATE:20250910
DTSTAMP:20260422T185344
CREATED:20241009T082748Z
LAST-MODIFIED:20241009T082748Z
UID:5720-1757376000-1757462399@www.gkre.ch
SUMMARY:Lehn / Schüpfheim (+Chilewald)
DESCRIPTION:
URL:https://www.gkre.ch/abfuhrtag/lehn-schuepfheim-chilewald-2/2025-09-09/
CATEGORIES:Abfuhrtage
END:VEVENT
BEGIN:VEVENT
DTSTART;VALUE=DATE:20250826
DTEND;VALUE=DATE:20250827
DTSTAMP:20260422T185344
CREATED:20241009T082748Z
LAST-MODIFIED:20241009T082748Z
UID:5719-1756166400-1756252799@www.gkre.ch
SUMMARY:Lehn / Schüpfheim (+Chilewald)
DESCRIPTION:
URL:https://www.gkre.ch/abfuhrtag/lehn-schuepfheim-chilewald-2/2025-08-26/
CATEGORIES:Abfuhrtage
END:VEVENT
BEGIN:VEVENT
DTSTART;VALUE=DATE:20250812
DTEND;VALUE=DATE:20250813
DTSTAMP:20260422T185344
CREATED:20241009T082748Z
LAST-MODIFIED:20241009T082748Z
UID:5718-1754956800-1755043199@www.gkre.ch
SUMMARY:Lehn / Schüpfheim (+Chilewald)
DESCRIPTION:
URL:https://www.gkre.ch/abfuhrtag/lehn-schuepfheim-chilewald-2/2025-08-12/
CATEGORIES:Abfuhrtage
END:VEVENT
BEGIN:VEVENT
DTSTART;VALUE=DATE:20250729
DTEND;VALUE=DATE:20250730
DTSTAMP:20260422T185344
CREATED:20241009T082748Z
LAST-MODIFIED:20241009T082748Z
UID:5717-1753747200-1753833599@www.gkre.ch
SUMMARY:Lehn / Schüpfheim (+Chilewald)
DESCRIPTION:
URL:https://www.gkre.ch/abfuhrtag/lehn-schuepfheim-chilewald-2/2025-07-29/
CATEGORIES:Abfuhrtage
END:VEVENT
BEGIN:VEVENT
DTSTART;VALUE=DATE:20250715
DTEND;VALUE=DATE:20250716
DTSTAMP:20260422T185344
CREATED:20241009T082748Z
LAST-MODIFIED:20241009T082748Z
UID:5716-1752537600-1752623999@www.gkre.ch
SUMMARY:Lehn / Schüpfheim (+Chilewald)
DESCRIPTION:
URL:https://www.gkre.ch/abfuhrtag/lehn-schuepfheim-chilewald-2/2025-07-15/
CATEGORIES:Abfuhrtage
END:VEVENT
BEGIN:VEVENT
DTSTART;VALUE=DATE:20250701
DTEND;VALUE=DATE:20250702
DTSTAMP:20260422T185344
CREATED:20241009T082748Z
LAST-MODIFIED:20241009T082748Z
UID:5715-1751328000-1751414399@www.gkre.ch
SUMMARY:Lehn / Schüpfheim (+Chilewald)
DESCRIPTION:
URL:https://www.gkre.ch/abfuhrtag/lehn-schuepfheim-chilewald-2/2025-07-01/
CATEGORIES:Abfuhrtage
END:VEVENT
BEGIN:VEVENT
DTSTART;VALUE=DATE:20250617
DTEND;VALUE=DATE:20250618
DTSTAMP:20260422T185344
CREATED:20241009T082748Z
LAST-MODIFIED:20241009T082748Z
UID:5714-1750118400-1750204799@www.gkre.ch
SUMMARY:Lehn / Schüpfheim (+Chilewald)
DESCRIPTION:
URL:https://www.gkre.ch/abfuhrtag/lehn-schuepfheim-chilewald-2/2025-06-17/
CATEGORIES:Abfuhrtage
END:VEVENT
BEGIN:VEVENT
DTSTART;VALUE=DATE:20250603
DTEND;VALUE=DATE:20250604
DTSTAMP:20260422T185344
CREATED:20241009T082748Z
LAST-MODIFIED:20241009T082748Z
UID:5713-1748908800-1748995199@www.gkre.ch
SUMMARY:Lehn / Schüpfheim (+Chilewald)
DESCRIPTION:
URL:https://www.gkre.ch/abfuhrtag/lehn-schuepfheim-chilewald-2/2025-06-03/
CATEGORIES:Abfuhrtage
END:VEVENT
BEGIN:VEVENT
DTSTART;VALUE=DATE:20250520
DTEND;VALUE=DATE:20250521
DTSTAMP:20260422T185344
CREATED:20241009T082748Z
LAST-MODIFIED:20241009T082748Z
UID:5712-1747699200-1747785599@www.gkre.ch
SUMMARY:Lehn / Schüpfheim (+Chilewald)
DESCRIPTION:
URL:https://www.gkre.ch/abfuhrtag/lehn-schuepfheim-chilewald-2/2025-05-20/
CATEGORIES:Abfuhrtage
END:VEVENT
BEGIN:VEVENT
DTSTART;VALUE=DATE:20250506
DTEND;VALUE=DATE:20250507
DTSTAMP:20260422T185344
CREATED:20241009T082748Z
LAST-MODIFIED:20241009T082748Z
UID:5711-1746489600-1746575999@www.gkre.ch
SUMMARY:Lehn / Schüpfheim (+Chilewald)
DESCRIPTION:
URL:https://www.gkre.ch/abfuhrtag/lehn-schuepfheim-chilewald-2/2025-05-06/
CATEGORIES:Abfuhrtage
END:VEVENT
BEGIN:VEVENT
DTSTART;VALUE=DATE:20250422
DTEND;VALUE=DATE:20250423
DTSTAMP:20260422T185344
CREATED:20241009T082748Z
LAST-MODIFIED:20241009T082748Z
UID:5710-1745280000-1745366399@www.gkre.ch
SUMMARY:Lehn / Schüpfheim (+Chilewald)
DESCRIPTION:
URL:https://www.gkre.ch/abfuhrtag/lehn-schuepfheim-chilewald-2/2025-04-22/
CATEGORIES:Abfuhrtage
END:VEVENT
BEGIN:VEVENT
DTSTART;VALUE=DATE:20250408
DTEND;VALUE=DATE:20250409
DTSTAMP:20260422T185344
CREATED:20241009T082748Z
LAST-MODIFIED:20241009T082748Z
UID:5709-1744070400-1744156799@www.gkre.ch
SUMMARY:Lehn / Schüpfheim (+Chilewald)
DESCRIPTION:
URL:https://www.gkre.ch/abfuhrtag/lehn-schuepfheim-chilewald-2/2025-04-08/
CATEGORIES:Abfuhrtage
END:VEVENT
BEGIN:VEVENT
DTSTART;VALUE=DATE:20250325
DTEND;VALUE=DATE:20250326
DTSTAMP:20260422T185344
CREATED:20241009T082748Z
LAST-MODIFIED:20241009T082748Z
UID:5684-1742860800-1742947199@www.gkre.ch
SUMMARY:Lehn / Schüpfheim (+Chilewald)
DESCRIPTION:
URL:https://www.gkre.ch/abfuhrtag/lehn-schuepfheim-chilewald-2/2025-03-25/
CATEGORIES:Abfuhrtage
END:VEVENT
BEGIN:VEVENT
DTSTART;VALUE=DATE:20250311
DTEND;VALUE=DATE:20250312
DTSTAMP:20260422T185344
CREATED:20241009T082748Z
LAST-MODIFIED:20241009T082748Z
UID:5682-1741651200-1741737599@www.gkre.ch
SUMMARY:Lehn / Schüpfheim (+Chilewald)
DESCRIPTION:
URL:https://www.gkre.ch/abfuhrtag/lehn-schuepfheim-chilewald-2/2025-03-11/
CATEGORIES:Abfuhrtage
END:VEVENT
BEGIN:VEVENT
DTSTART;VALUE=DATE:20250225
DTEND;VALUE=DATE:20250226
DTSTAMP:20260422T185344
CREATED:20241009T082748Z
LAST-MODIFIED:20241009T082748Z
UID:5680-1740441600-1740527999@www.gkre.ch
SUMMARY:Lehn / Schüpfheim (+Chilewald)
DESCRIPTION:
URL:https://www.gkre.ch/abfuhrtag/lehn-schuepfheim-chilewald-2/2025-02-25/
CATEGORIES:Abfuhrtage
END:VEVENT
BEGIN:VEVENT
DTSTART;VALUE=DATE:20250211
DTEND;VALUE=DATE:20250212
DTSTAMP:20260422T185344
CREATED:20241009T082748Z
LAST-MODIFIED:20241009T082748Z
UID:5679-1739232000-1739318399@www.gkre.ch
SUMMARY:Lehn / Schüpfheim (+Chilewald)
DESCRIPTION:
URL:https://www.gkre.ch/abfuhrtag/lehn-schuepfheim-chilewald-2/2025-02-11/
CATEGORIES:Abfuhrtage
END:VEVENT
BEGIN:VEVENT
DTSTART;VALUE=DATE:20250128
DTEND;VALUE=DATE:20250129
DTSTAMP:20260422T185344
CREATED:20241009T082748Z
LAST-MODIFIED:20241009T082748Z
UID:5677-1738022400-1738108799@www.gkre.ch
SUMMARY:Lehn / Schüpfheim (+Chilewald)
DESCRIPTION:
URL:https://www.gkre.ch/abfuhrtag/lehn-schuepfheim-chilewald-2/2025-01-28/
CATEGORIES:Abfuhrtage
END:VEVENT
BEGIN:VEVENT
DTSTART;VALUE=DATE:20250114
DTEND;VALUE=DATE:20250115
DTSTAMP:20260422T185344
CREATED:20241009T082748Z
LAST-MODIFIED:20241015T071631Z
UID:4858-1736812800-1736899199@www.gkre.ch
SUMMARY:Lehn / Schüpfheim (+Chilewald)
DESCRIPTION:
URL:https://www.gkre.ch/abfuhrtag/lehn-schuepfheim-chilewald-2/2025-01-14/
CATEGORIES:Abfuhrtage
END:VEVENT
END:VCALENDAR