BEGIN:VCALENDAR
VERSION:2.0
PRODID:-//Gemeindeverband Kehrichtentsorgung Region Entlebuch - ECPv6.2.4//NONSGML v1.0//EN
CALSCALE:GREGORIAN
METHOD:PUBLISH
X-WR-CALNAME:Gemeindeverband Kehrichtentsorgung Region Entlebuch
X-ORIGINAL-URL:https://www.gkre.ch
X-WR-CALDESC:Veranstaltungen im Gemeindeverband Kehrichtentsorgung Region Entlebuch
REFRESH-INTERVAL;VALUE=DURATION:PT1H
X-Robots-Tag:noindex
X-PUBLISHED-TTL:PT1H
BEGIN:VTIMEZONE
TZID:Europe/Zurich
BEGIN:DAYLIGHT
TZOFFSETFROM:+0100
TZOFFSETTO:+0200
TZNAME:CEST
DTSTART:20260329T010000
END:DAYLIGHT
BEGIN:STANDARD
TZOFFSETFROM:+0200
TZOFFSETTO:+0100
TZNAME:CET
DTSTART:20261025T010000
END:STANDARD
END:VTIMEZONE
BEGIN:VEVENT
DTSTART;VALUE=DATE:20260421
DTEND;VALUE=DATE:20260422
DTSTAMP:20260423T184218
CREATED:20251105T072901Z
LAST-MODIFIED:20251105T072901Z
UID:6639-1776729600-1776815999@www.gkre.ch
SUMMARY:Lehn / Schüpfheim (+Chilewald)
DESCRIPTION:
URL:https://www.gkre.ch/abfuhrtag/lehn-schuepfheim-chilewald-3/2026-04-21/
CATEGORIES:Abfuhrtage
END:VEVENT
BEGIN:VEVENT
DTSTART;VALUE=DATE:20260407
DTEND;VALUE=DATE:20260408
DTSTAMP:20260423T184218
CREATED:20251105T072901Z
LAST-MODIFIED:20251105T072901Z
UID:6638-1775520000-1775606399@www.gkre.ch
SUMMARY:Lehn / Schüpfheim (+Chilewald)
DESCRIPTION:
URL:https://www.gkre.ch/abfuhrtag/lehn-schuepfheim-chilewald-3/2026-04-07/
CATEGORIES:Abfuhrtage
END:VEVENT
BEGIN:VEVENT
DTSTART;VALUE=DATE:20260324
DTEND;VALUE=DATE:20260325
DTSTAMP:20260423T184218
CREATED:20251105T072901Z
LAST-MODIFIED:20251105T072901Z
UID:6637-1774310400-1774396799@www.gkre.ch
SUMMARY:Lehn / Schüpfheim (+Chilewald)
DESCRIPTION:
URL:https://www.gkre.ch/abfuhrtag/lehn-schuepfheim-chilewald-3/2026-03-24/
CATEGORIES:Abfuhrtage
END:VEVENT
BEGIN:VEVENT
DTSTART;VALUE=DATE:20260310
DTEND;VALUE=DATE:20260311
DTSTAMP:20260423T184218
CREATED:20251105T072901Z
LAST-MODIFIED:20251105T072901Z
UID:6636-1773100800-1773187199@www.gkre.ch
SUMMARY:Lehn / Schüpfheim (+Chilewald)
DESCRIPTION:
URL:https://www.gkre.ch/abfuhrtag/lehn-schuepfheim-chilewald-3/2026-03-10/
CATEGORIES:Abfuhrtage
END:VEVENT
BEGIN:VEVENT
DTSTART;VALUE=DATE:20260224
DTEND;VALUE=DATE:20260225
DTSTAMP:20260423T184218
CREATED:20251105T072901Z
LAST-MODIFIED:20251105T072901Z
UID:6635-1771891200-1771977599@www.gkre.ch
SUMMARY:Lehn / Schüpfheim (+Chilewald)
DESCRIPTION:
URL:https://www.gkre.ch/abfuhrtag/lehn-schuepfheim-chilewald-3/2026-02-24/
CATEGORIES:Abfuhrtage
END:VEVENT
BEGIN:VEVENT
DTSTART;VALUE=DATE:20260210
DTEND;VALUE=DATE:20260211
DTSTAMP:20260423T184218
CREATED:20251105T072901Z
LAST-MODIFIED:20251105T072901Z
UID:6634-1770681600-1770767999@www.gkre.ch
SUMMARY:Lehn / Schüpfheim (+Chilewald)
DESCRIPTION:
URL:https://www.gkre.ch/abfuhrtag/lehn-schuepfheim-chilewald-3/2026-02-10/
CATEGORIES:Abfuhrtage
END:VEVENT
BEGIN:VEVENT
DTSTART;VALUE=DATE:20260127
DTEND;VALUE=DATE:20260128
DTSTAMP:20260423T184218
CREATED:20251105T072901Z
LAST-MODIFIED:20251105T072901Z
UID:6633-1769472000-1769558399@www.gkre.ch
SUMMARY:Lehn / Schüpfheim (+Chilewald)
DESCRIPTION:
URL:https://www.gkre.ch/abfuhrtag/lehn-schuepfheim-chilewald-3/2026-01-27/
CATEGORIES:Abfuhrtage
END:VEVENT
BEGIN:VEVENT
DTSTART;VALUE=DATE:20260113
DTEND;VALUE=DATE:20260114
DTSTAMP:20260423T184218
CREATED:20251105T072901Z
LAST-MODIFIED:20251105T072901Z
UID:6632-1768262400-1768348799@www.gkre.ch
SUMMARY:Lehn / Schüpfheim (+Chilewald)
DESCRIPTION:
URL:https://www.gkre.ch/abfuhrtag/lehn-schuepfheim-chilewald-3/2026-01-13/
CATEGORIES:Abfuhrtage
END:VEVENT
END:VCALENDAR