BEGIN:VCALENDAR
VERSION:2.0
PRODID:-//Gemeindeverband Kehrichtentsorgung Region Entlebuch - ECPv6.2.4//NONSGML v1.0//EN
CALSCALE:GREGORIAN
METHOD:PUBLISH
X-ORIGINAL-URL:https://www.gkre.ch
X-WR-CALDESC:Veranstaltungen im Gemeindeverband Kehrichtentsorgung Region Entlebuch
REFRESH-INTERVAL;VALUE=DURATION:PT1H
X-Robots-Tag:noindex
X-PUBLISHED-TTL:PT1H
BEGIN:VTIMEZONE
TZID:Europe/Zurich
BEGIN:DAYLIGHT
TZOFFSETFROM:+0100
TZOFFSETTO:+0200
TZNAME:CEST
DTSTART:20260329T010000
END:DAYLIGHT
BEGIN:STANDARD
TZOFFSETFROM:+0200
TZOFFSETTO:+0100
TZNAME:CET
DTSTART:20261025T010000
END:STANDARD
END:VTIMEZONE
BEGIN:VEVENT
DTSTART;VALUE=DATE:20260505
DTEND;VALUE=DATE:20260506
DTSTAMP:20260423T131005
CREATED:20251105T072901Z
LAST-MODIFIED:20251105T072901Z
UID:6640-1777939200-1778025599@www.gkre.ch
SUMMARY:Lehn / Schüpfheim (+Chilewald)
DESCRIPTION:
URL:https://www.gkre.ch/abfuhrtag/lehn-schuepfheim-chilewald-3/2026-05-05/
CATEGORIES:Abfuhrtage
END:VEVENT
BEGIN:VEVENT
DTSTART;VALUE=DATE:20260519
DTEND;VALUE=DATE:20260520
DTSTAMP:20260423T131005
CREATED:20251105T072901Z
LAST-MODIFIED:20251105T072901Z
UID:6641-1779148800-1779235199@www.gkre.ch
SUMMARY:Lehn / Schüpfheim (+Chilewald)
DESCRIPTION:
URL:https://www.gkre.ch/abfuhrtag/lehn-schuepfheim-chilewald-3/2026-05-19/
CATEGORIES:Abfuhrtage
END:VEVENT
BEGIN:VEVENT
DTSTART;VALUE=DATE:20260602
DTEND;VALUE=DATE:20260603
DTSTAMP:20260423T131005
CREATED:20251105T072901Z
LAST-MODIFIED:20251105T072901Z
UID:6642-1780358400-1780444799@www.gkre.ch
SUMMARY:Lehn / Schüpfheim (+Chilewald)
DESCRIPTION:
URL:https://www.gkre.ch/abfuhrtag/lehn-schuepfheim-chilewald-3/2026-06-02/
CATEGORIES:Abfuhrtage
END:VEVENT
BEGIN:VEVENT
DTSTART;VALUE=DATE:20260616
DTEND;VALUE=DATE:20260617
DTSTAMP:20260423T131005
CREATED:20251105T072901Z
LAST-MODIFIED:20251105T072901Z
UID:6643-1781568000-1781654399@www.gkre.ch
SUMMARY:Lehn / Schüpfheim (+Chilewald)
DESCRIPTION:
URL:https://www.gkre.ch/abfuhrtag/lehn-schuepfheim-chilewald-3/2026-06-16/
CATEGORIES:Abfuhrtage
END:VEVENT
BEGIN:VEVENT
DTSTART;VALUE=DATE:20260630
DTEND;VALUE=DATE:20260701
DTSTAMP:20260423T131005
CREATED:20251105T072901Z
LAST-MODIFIED:20251105T072901Z
UID:6644-1782777600-1782863999@www.gkre.ch
SUMMARY:Lehn / Schüpfheim (+Chilewald)
DESCRIPTION:
URL:https://www.gkre.ch/abfuhrtag/lehn-schuepfheim-chilewald-3/2026-06-30/
CATEGORIES:Abfuhrtage
END:VEVENT
BEGIN:VEVENT
DTSTART;VALUE=DATE:20260714
DTEND;VALUE=DATE:20260715
DTSTAMP:20260423T131005
CREATED:20251105T072901Z
LAST-MODIFIED:20251105T072901Z
UID:6645-1783987200-1784073599@www.gkre.ch
SUMMARY:Lehn / Schüpfheim (+Chilewald)
DESCRIPTION:
URL:https://www.gkre.ch/abfuhrtag/lehn-schuepfheim-chilewald-3/2026-07-14/
CATEGORIES:Abfuhrtage
END:VEVENT
BEGIN:VEVENT
DTSTART;VALUE=DATE:20260728
DTEND;VALUE=DATE:20260729
DTSTAMP:20260423T131005
CREATED:20251105T072901Z
LAST-MODIFIED:20251105T072901Z
UID:6646-1785196800-1785283199@www.gkre.ch
SUMMARY:Lehn / Schüpfheim (+Chilewald)
DESCRIPTION:
URL:https://www.gkre.ch/abfuhrtag/lehn-schuepfheim-chilewald-3/2026-07-28/
CATEGORIES:Abfuhrtage
END:VEVENT
BEGIN:VEVENT
DTSTART;VALUE=DATE:20260811
DTEND;VALUE=DATE:20260812
DTSTAMP:20260423T131005
CREATED:20251105T072901Z
LAST-MODIFIED:20251105T072901Z
UID:6647-1786406400-1786492799@www.gkre.ch
SUMMARY:Lehn / Schüpfheim (+Chilewald)
DESCRIPTION:
URL:https://www.gkre.ch/abfuhrtag/lehn-schuepfheim-chilewald-3/2026-08-11/
CATEGORIES:Abfuhrtage
END:VEVENT
BEGIN:VEVENT
DTSTART;VALUE=DATE:20260825
DTEND;VALUE=DATE:20260826
DTSTAMP:20260423T131005
CREATED:20251105T072901Z
LAST-MODIFIED:20251105T072901Z
UID:6648-1787616000-1787702399@www.gkre.ch
SUMMARY:Lehn / Schüpfheim (+Chilewald)
DESCRIPTION:
URL:https://www.gkre.ch/abfuhrtag/lehn-schuepfheim-chilewald-3/2026-08-25/
CATEGORIES:Abfuhrtage
END:VEVENT
BEGIN:VEVENT
DTSTART;VALUE=DATE:20260908
DTEND;VALUE=DATE:20260909
DTSTAMP:20260423T131005
CREATED:20251105T072901Z
LAST-MODIFIED:20251105T072901Z
UID:6649-1788825600-1788911999@www.gkre.ch
SUMMARY:Lehn / Schüpfheim (+Chilewald)
DESCRIPTION:
URL:https://www.gkre.ch/abfuhrtag/lehn-schuepfheim-chilewald-3/2026-09-08/
CATEGORIES:Abfuhrtage
END:VEVENT
BEGIN:VEVENT
DTSTART;VALUE=DATE:20260922
DTEND;VALUE=DATE:20260923
DTSTAMP:20260423T131005
CREATED:20251105T072901Z
LAST-MODIFIED:20251105T072901Z
UID:6650-1790035200-1790121599@www.gkre.ch
SUMMARY:Lehn / Schüpfheim (+Chilewald)
DESCRIPTION:
URL:https://www.gkre.ch/abfuhrtag/lehn-schuepfheim-chilewald-3/2026-09-22/
CATEGORIES:Abfuhrtage
END:VEVENT
BEGIN:VEVENT
DTSTART;VALUE=DATE:20261006
DTEND;VALUE=DATE:20261007
DTSTAMP:20260423T131005
CREATED:20251105T072901Z
LAST-MODIFIED:20251105T072901Z
UID:6651-1791244800-1791331199@www.gkre.ch
SUMMARY:Lehn / Schüpfheim (+Chilewald)
DESCRIPTION:
URL:https://www.gkre.ch/abfuhrtag/lehn-schuepfheim-chilewald-3/2026-10-06/
CATEGORIES:Abfuhrtage
END:VEVENT
BEGIN:VEVENT
DTSTART;VALUE=DATE:20261020
DTEND;VALUE=DATE:20261021
DTSTAMP:20260423T131005
CREATED:20251105T072901Z
LAST-MODIFIED:20251105T072901Z
UID:6652-1792454400-1792540799@www.gkre.ch
SUMMARY:Lehn / Schüpfheim (+Chilewald)
DESCRIPTION:
URL:https://www.gkre.ch/abfuhrtag/lehn-schuepfheim-chilewald-3/2026-10-20/
CATEGORIES:Abfuhrtage
END:VEVENT
BEGIN:VEVENT
DTSTART;VALUE=DATE:20261103
DTEND;VALUE=DATE:20261104
DTSTAMP:20260423T131005
CREATED:20251105T072901Z
LAST-MODIFIED:20251105T072901Z
UID:6653-1793664000-1793750399@www.gkre.ch
SUMMARY:Lehn / Schüpfheim (+Chilewald)
DESCRIPTION:
URL:https://www.gkre.ch/abfuhrtag/lehn-schuepfheim-chilewald-3/2026-11-03/
CATEGORIES:Abfuhrtage
END:VEVENT
BEGIN:VEVENT
DTSTART;VALUE=DATE:20261117
DTEND;VALUE=DATE:20261118
DTSTAMP:20260423T131005
CREATED:20251105T072901Z
LAST-MODIFIED:20251105T072901Z
UID:6654-1794873600-1794959999@www.gkre.ch
SUMMARY:Lehn / Schüpfheim (+Chilewald)
DESCRIPTION:
URL:https://www.gkre.ch/abfuhrtag/lehn-schuepfheim-chilewald-3/2026-11-17/
CATEGORIES:Abfuhrtage
END:VEVENT
BEGIN:VEVENT
DTSTART;VALUE=DATE:20261201
DTEND;VALUE=DATE:20261202
DTSTAMP:20260423T131005
CREATED:20251105T072901Z
LAST-MODIFIED:20251105T072901Z
UID:6655-1796083200-1796169599@www.gkre.ch
SUMMARY:Lehn / Schüpfheim (+Chilewald)
DESCRIPTION:
URL:https://www.gkre.ch/abfuhrtag/lehn-schuepfheim-chilewald-3/2026-12-01/
CATEGORIES:Abfuhrtage
END:VEVENT
BEGIN:VEVENT
DTSTART;VALUE=DATE:20261215
DTEND;VALUE=DATE:20261216
DTSTAMP:20260423T131005
CREATED:20251105T072901Z
LAST-MODIFIED:20251105T072901Z
UID:6656-1797292800-1797379199@www.gkre.ch
SUMMARY:Lehn / Schüpfheim (+Chilewald)
DESCRIPTION:
URL:https://www.gkre.ch/abfuhrtag/lehn-schuepfheim-chilewald-3/2026-12-15/
CATEGORIES:Abfuhrtage
END:VEVENT
BEGIN:VEVENT
DTSTART;VALUE=DATE:20261229
DTEND;VALUE=DATE:20261230
DTSTAMP:20260423T131005
CREATED:20251105T072901Z
LAST-MODIFIED:20251105T072901Z
UID:6657-1798502400-1798588799@www.gkre.ch
SUMMARY:Lehn / Schüpfheim (+Chilewald)
DESCRIPTION:
URL:https://www.gkre.ch/abfuhrtag/lehn-schuepfheim-chilewald-3/2026-12-29/
CATEGORIES:Abfuhrtage
END:VEVENT
END:VCALENDAR