BEGIN:VCALENDAR
VERSION:2.0
PRODID:-//Gemeindeverband Kehrichtentsorgung Region Entlebuch - ECPv6.2.4//NONSGML v1.0//EN
CALSCALE:GREGORIAN
METHOD:PUBLISH
X-ORIGINAL-URL:https://www.gkre.ch
X-WR-CALDESC:Veranstaltungen im Gemeindeverband Kehrichtentsorgung Region Entlebuch
REFRESH-INTERVAL;VALUE=DURATION:PT1H
X-Robots-Tag:noindex
X-PUBLISHED-TTL:PT1H
BEGIN:VTIMEZONE
TZID:Europe/Zurich
BEGIN:DAYLIGHT
TZOFFSETFROM:+0100
TZOFFSETTO:+0200
TZNAME:CEST
DTSTART:20260329T010000
END:DAYLIGHT
BEGIN:STANDARD
TZOFFSETFROM:+0200
TZOFFSETTO:+0100
TZNAME:CET
DTSTART:20261025T010000
END:STANDARD
BEGIN:DAYLIGHT
TZOFFSETFROM:+0100
TZOFFSETTO:+0200
TZNAME:CEST
DTSTART:20270328T010000
END:DAYLIGHT
BEGIN:STANDARD
TZOFFSETFROM:+0200
TZOFFSETTO:+0100
TZNAME:CET
DTSTART:20271031T010000
END:STANDARD
END:VTIMEZONE
BEGIN:VEVENT
DTSTART;VALUE=DATE:20260428
DTEND;VALUE=DATE:20260429
DTSTAMP:20260423T111912
CREATED:20251105T072644Z
LAST-MODIFIED:20251105T072644Z
UID:6613-1777334400-1777420799@www.gkre.ch
SUMMARY:Lehn / Schüpfheim (+Frutteggstrasse)
DESCRIPTION:
URL:https://www.gkre.ch/abfuhrtag/lehn-schuepfheim-frutteggstrasse-2/2026-04-28/
CATEGORIES:Abfuhrtage
END:VEVENT
BEGIN:VEVENT
DTSTART;VALUE=DATE:20260512
DTEND;VALUE=DATE:20260513
DTSTAMP:20260423T111912
CREATED:20251105T072644Z
LAST-MODIFIED:20251105T072644Z
UID:6614-1778544000-1778630399@www.gkre.ch
SUMMARY:Lehn / Schüpfheim (+Frutteggstrasse)
DESCRIPTION:
URL:https://www.gkre.ch/abfuhrtag/lehn-schuepfheim-frutteggstrasse-2/2026-05-12/
CATEGORIES:Abfuhrtage
END:VEVENT
BEGIN:VEVENT
DTSTART;VALUE=DATE:20260526
DTEND;VALUE=DATE:20260527
DTSTAMP:20260423T111912
CREATED:20251105T072644Z
LAST-MODIFIED:20251105T072644Z
UID:6615-1779753600-1779839999@www.gkre.ch
SUMMARY:Lehn / Schüpfheim (+Frutteggstrasse)
DESCRIPTION:
URL:https://www.gkre.ch/abfuhrtag/lehn-schuepfheim-frutteggstrasse-2/2026-05-26/
CATEGORIES:Abfuhrtage
END:VEVENT
BEGIN:VEVENT
DTSTART;VALUE=DATE:20260609
DTEND;VALUE=DATE:20260610
DTSTAMP:20260423T111912
CREATED:20251105T072644Z
LAST-MODIFIED:20251105T072644Z
UID:6616-1780963200-1781049599@www.gkre.ch
SUMMARY:Lehn / Schüpfheim (+Frutteggstrasse)
DESCRIPTION:
URL:https://www.gkre.ch/abfuhrtag/lehn-schuepfheim-frutteggstrasse-2/2026-06-09/
CATEGORIES:Abfuhrtage
END:VEVENT
BEGIN:VEVENT
DTSTART;VALUE=DATE:20260623
DTEND;VALUE=DATE:20260624
DTSTAMP:20260423T111912
CREATED:20251105T072644Z
LAST-MODIFIED:20251105T072644Z
UID:6617-1782172800-1782259199@www.gkre.ch
SUMMARY:Lehn / Schüpfheim (+Frutteggstrasse)
DESCRIPTION:
URL:https://www.gkre.ch/abfuhrtag/lehn-schuepfheim-frutteggstrasse-2/2026-06-23/
CATEGORIES:Abfuhrtage
END:VEVENT
BEGIN:VEVENT
DTSTART;VALUE=DATE:20260707
DTEND;VALUE=DATE:20260708
DTSTAMP:20260423T111912
CREATED:20251105T072644Z
LAST-MODIFIED:20251105T072644Z
UID:6618-1783382400-1783468799@www.gkre.ch
SUMMARY:Lehn / Schüpfheim (+Frutteggstrasse)
DESCRIPTION:
URL:https://www.gkre.ch/abfuhrtag/lehn-schuepfheim-frutteggstrasse-2/2026-07-07/
CATEGORIES:Abfuhrtage
END:VEVENT
BEGIN:VEVENT
DTSTART;VALUE=DATE:20260721
DTEND;VALUE=DATE:20260722
DTSTAMP:20260423T111912
CREATED:20251105T072644Z
LAST-MODIFIED:20251105T072644Z
UID:6619-1784592000-1784678399@www.gkre.ch
SUMMARY:Lehn / Schüpfheim (+Frutteggstrasse)
DESCRIPTION:
URL:https://www.gkre.ch/abfuhrtag/lehn-schuepfheim-frutteggstrasse-2/2026-07-21/
CATEGORIES:Abfuhrtage
END:VEVENT
BEGIN:VEVENT
DTSTART;VALUE=DATE:20260804
DTEND;VALUE=DATE:20260805
DTSTAMP:20260423T111912
CREATED:20251105T072644Z
LAST-MODIFIED:20251105T072644Z
UID:6620-1785801600-1785887999@www.gkre.ch
SUMMARY:Lehn / Schüpfheim (+Frutteggstrasse)
DESCRIPTION:
URL:https://www.gkre.ch/abfuhrtag/lehn-schuepfheim-frutteggstrasse-2/2026-08-04/
CATEGORIES:Abfuhrtage
END:VEVENT
BEGIN:VEVENT
DTSTART;VALUE=DATE:20260818
DTEND;VALUE=DATE:20260819
DTSTAMP:20260423T111912
CREATED:20251105T072644Z
LAST-MODIFIED:20251105T072644Z
UID:6621-1787011200-1787097599@www.gkre.ch
SUMMARY:Lehn / Schüpfheim (+Frutteggstrasse)
DESCRIPTION:
URL:https://www.gkre.ch/abfuhrtag/lehn-schuepfheim-frutteggstrasse-2/2026-08-18/
CATEGORIES:Abfuhrtage
END:VEVENT
BEGIN:VEVENT
DTSTART;VALUE=DATE:20260901
DTEND;VALUE=DATE:20260902
DTSTAMP:20260423T111912
CREATED:20251105T072644Z
LAST-MODIFIED:20251105T072644Z
UID:6622-1788220800-1788307199@www.gkre.ch
SUMMARY:Lehn / Schüpfheim (+Frutteggstrasse)
DESCRIPTION:
URL:https://www.gkre.ch/abfuhrtag/lehn-schuepfheim-frutteggstrasse-2/2026-09-01/
CATEGORIES:Abfuhrtage
END:VEVENT
BEGIN:VEVENT
DTSTART;VALUE=DATE:20260915
DTEND;VALUE=DATE:20260916
DTSTAMP:20260423T111912
CREATED:20251105T072644Z
LAST-MODIFIED:20251105T072644Z
UID:6623-1789430400-1789516799@www.gkre.ch
SUMMARY:Lehn / Schüpfheim (+Frutteggstrasse)
DESCRIPTION:
URL:https://www.gkre.ch/abfuhrtag/lehn-schuepfheim-frutteggstrasse-2/2026-09-15/
CATEGORIES:Abfuhrtage
END:VEVENT
BEGIN:VEVENT
DTSTART;VALUE=DATE:20260929
DTEND;VALUE=DATE:20260930
DTSTAMP:20260423T111912
CREATED:20251105T072644Z
LAST-MODIFIED:20251105T072644Z
UID:6624-1790640000-1790726399@www.gkre.ch
SUMMARY:Lehn / Schüpfheim (+Frutteggstrasse)
DESCRIPTION:
URL:https://www.gkre.ch/abfuhrtag/lehn-schuepfheim-frutteggstrasse-2/2026-09-29/
CATEGORIES:Abfuhrtage
END:VEVENT
BEGIN:VEVENT
DTSTART;VALUE=DATE:20261013
DTEND;VALUE=DATE:20261014
DTSTAMP:20260423T111912
CREATED:20251105T072644Z
LAST-MODIFIED:20251105T072644Z
UID:6625-1791849600-1791935999@www.gkre.ch
SUMMARY:Lehn / Schüpfheim (+Frutteggstrasse)
DESCRIPTION:
URL:https://www.gkre.ch/abfuhrtag/lehn-schuepfheim-frutteggstrasse-2/2026-10-13/
CATEGORIES:Abfuhrtage
END:VEVENT
BEGIN:VEVENT
DTSTART;VALUE=DATE:20261027
DTEND;VALUE=DATE:20261028
DTSTAMP:20260423T111912
CREATED:20251105T072644Z
LAST-MODIFIED:20251105T072644Z
UID:6626-1793059200-1793145599@www.gkre.ch
SUMMARY:Lehn / Schüpfheim (+Frutteggstrasse)
DESCRIPTION:
URL:https://www.gkre.ch/abfuhrtag/lehn-schuepfheim-frutteggstrasse-2/2026-10-27/
CATEGORIES:Abfuhrtage
END:VEVENT
BEGIN:VEVENT
DTSTART;VALUE=DATE:20261110
DTEND;VALUE=DATE:20261111
DTSTAMP:20260423T111912
CREATED:20251105T072644Z
LAST-MODIFIED:20251105T072644Z
UID:6627-1794268800-1794355199@www.gkre.ch
SUMMARY:Lehn / Schüpfheim (+Frutteggstrasse)
DESCRIPTION:
URL:https://www.gkre.ch/abfuhrtag/lehn-schuepfheim-frutteggstrasse-2/2026-11-10/
CATEGORIES:Abfuhrtage
END:VEVENT
BEGIN:VEVENT
DTSTART;VALUE=DATE:20261124
DTEND;VALUE=DATE:20261125
DTSTAMP:20260423T111912
CREATED:20251105T072644Z
LAST-MODIFIED:20251105T072644Z
UID:6628-1795478400-1795564799@www.gkre.ch
SUMMARY:Lehn / Schüpfheim (+Frutteggstrasse)
DESCRIPTION:
URL:https://www.gkre.ch/abfuhrtag/lehn-schuepfheim-frutteggstrasse-2/2026-11-24/
CATEGORIES:Abfuhrtage
END:VEVENT
BEGIN:VEVENT
DTSTART;VALUE=DATE:20261222
DTEND;VALUE=DATE:20261223
DTSTAMP:20260423T111912
CREATED:20251105T072644Z
LAST-MODIFIED:20251105T072644Z
UID:6630-1797897600-1797983999@www.gkre.ch
SUMMARY:Lehn / Schüpfheim (+Frutteggstrasse)
DESCRIPTION:
URL:https://www.gkre.ch/abfuhrtag/lehn-schuepfheim-frutteggstrasse-2/2026-12-22/
CATEGORIES:Abfuhrtage
END:VEVENT
BEGIN:VEVENT
DTSTART;VALUE=DATE:20270105
DTEND;VALUE=DATE:20270106
DTSTAMP:20260423T111912
CREATED:20251105T072644Z
LAST-MODIFIED:20251105T072644Z
UID:6631-1799107200-1799193599@www.gkre.ch
SUMMARY:Lehn / Schüpfheim (+Frutteggstrasse)
DESCRIPTION:
URL:https://www.gkre.ch/abfuhrtag/lehn-schuepfheim-frutteggstrasse-2/2027-01-05/
CATEGORIES:Abfuhrtage
END:VEVENT
END:VCALENDAR