BEGIN:VCALENDAR
VERSION:2.0
PRODID:-//Gemeindeverband Kehrichtentsorgung Region Entlebuch - ECPv6.2.4//NONSGML v1.0//EN
CALSCALE:GREGORIAN
METHOD:PUBLISH
X-ORIGINAL-URL:https://www.gkre.ch
X-WR-CALDESC:Veranstaltungen im Gemeindeverband Kehrichtentsorgung Region Entlebuch
REFRESH-INTERVAL;VALUE=DURATION:PT1H
X-Robots-Tag:noindex
X-PUBLISHED-TTL:PT1H
BEGIN:VTIMEZONE
TZID:Europe/Zurich
BEGIN:DAYLIGHT
TZOFFSETFROM:+0100
TZOFFSETTO:+0200
TZNAME:CEST
DTSTART:20250330T010000
END:DAYLIGHT
BEGIN:STANDARD
TZOFFSETFROM:+0200
TZOFFSETTO:+0100
TZNAME:CET
DTSTART:20251026T010000
END:STANDARD
END:VTIMEZONE
BEGIN:VEVENT
DTSTART;VALUE=DATE:20251014
DTEND;VALUE=DATE:20251015
DTSTAMP:20260423T004429
CREATED:20241015T132618Z
LAST-MODIFIED:20241015T132618Z
UID:5990-1760400000-1760486399@www.gkre.ch
SUMMARY:Lehn / Schüpfheim (+Frutteggstrasse)
DESCRIPTION:
URL:https://www.gkre.ch/abfuhrtag/lehn-schuepfheim-frutteggstrasse-3/2025-10-14/
CATEGORIES:Abfuhrtage
END:VEVENT
BEGIN:VEVENT
DTSTART;VALUE=DATE:20250930
DTEND;VALUE=DATE:20251001
DTSTAMP:20260423T004429
CREATED:20241015T132618Z
LAST-MODIFIED:20241015T132618Z
UID:5989-1759190400-1759276799@www.gkre.ch
SUMMARY:Lehn / Schüpfheim (+Frutteggstrasse)
DESCRIPTION:
URL:https://www.gkre.ch/abfuhrtag/lehn-schuepfheim-frutteggstrasse-3/2025-09-30/
CATEGORIES:Abfuhrtage
END:VEVENT
BEGIN:VEVENT
DTSTART;VALUE=DATE:20250916
DTEND;VALUE=DATE:20250917
DTSTAMP:20260423T004429
CREATED:20241015T132618Z
LAST-MODIFIED:20241015T132618Z
UID:5988-1757980800-1758067199@www.gkre.ch
SUMMARY:Lehn / Schüpfheim (+Frutteggstrasse)
DESCRIPTION:
URL:https://www.gkre.ch/abfuhrtag/lehn-schuepfheim-frutteggstrasse-3/2025-09-16/
CATEGORIES:Abfuhrtage
END:VEVENT
BEGIN:VEVENT
DTSTART;VALUE=DATE:20250902
DTEND;VALUE=DATE:20250903
DTSTAMP:20260423T004429
CREATED:20241015T132618Z
LAST-MODIFIED:20241015T132618Z
UID:5987-1756771200-1756857599@www.gkre.ch
SUMMARY:Lehn / Schüpfheim (+Frutteggstrasse)
DESCRIPTION:
URL:https://www.gkre.ch/abfuhrtag/lehn-schuepfheim-frutteggstrasse-3/2025-09-02/
CATEGORIES:Abfuhrtage
END:VEVENT
BEGIN:VEVENT
DTSTART;VALUE=DATE:20250819
DTEND;VALUE=DATE:20250820
DTSTAMP:20260423T004429
CREATED:20241015T132618Z
LAST-MODIFIED:20241015T132618Z
UID:5986-1755561600-1755647999@www.gkre.ch
SUMMARY:Lehn / Schüpfheim (+Frutteggstrasse)
DESCRIPTION:
URL:https://www.gkre.ch/abfuhrtag/lehn-schuepfheim-frutteggstrasse-3/2025-08-19/
CATEGORIES:Abfuhrtage
END:VEVENT
BEGIN:VEVENT
DTSTART;VALUE=DATE:20250805
DTEND;VALUE=DATE:20250806
DTSTAMP:20260423T004429
CREATED:20241015T132618Z
LAST-MODIFIED:20241015T132618Z
UID:5985-1754352000-1754438399@www.gkre.ch
SUMMARY:Lehn / Schüpfheim (+Frutteggstrasse)
DESCRIPTION:
URL:https://www.gkre.ch/abfuhrtag/lehn-schuepfheim-frutteggstrasse-3/2025-08-05/
CATEGORIES:Abfuhrtage
END:VEVENT
BEGIN:VEVENT
DTSTART;VALUE=DATE:20250722
DTEND;VALUE=DATE:20250723
DTSTAMP:20260423T004429
CREATED:20241015T132618Z
LAST-MODIFIED:20241015T132618Z
UID:5984-1753142400-1753228799@www.gkre.ch
SUMMARY:Lehn / Schüpfheim (+Frutteggstrasse)
DESCRIPTION:
URL:https://www.gkre.ch/abfuhrtag/lehn-schuepfheim-frutteggstrasse-3/2025-07-22/
CATEGORIES:Abfuhrtage
END:VEVENT
BEGIN:VEVENT
DTSTART;VALUE=DATE:20250708
DTEND;VALUE=DATE:20250709
DTSTAMP:20260423T004429
CREATED:20241015T132618Z
LAST-MODIFIED:20241015T132618Z
UID:5983-1751932800-1752019199@www.gkre.ch
SUMMARY:Lehn / Schüpfheim (+Frutteggstrasse)
DESCRIPTION:
URL:https://www.gkre.ch/abfuhrtag/lehn-schuepfheim-frutteggstrasse-3/2025-07-08/
CATEGORIES:Abfuhrtage
END:VEVENT
BEGIN:VEVENT
DTSTART;VALUE=DATE:20250624
DTEND;VALUE=DATE:20250625
DTSTAMP:20260423T004429
CREATED:20241015T132618Z
LAST-MODIFIED:20241015T132618Z
UID:5982-1750723200-1750809599@www.gkre.ch
SUMMARY:Lehn / Schüpfheim (+Frutteggstrasse)
DESCRIPTION:
URL:https://www.gkre.ch/abfuhrtag/lehn-schuepfheim-frutteggstrasse-3/2025-06-24/
CATEGORIES:Abfuhrtage
END:VEVENT
BEGIN:VEVENT
DTSTART;VALUE=DATE:20250610
DTEND;VALUE=DATE:20250611
DTSTAMP:20260423T004429
CREATED:20241015T132618Z
LAST-MODIFIED:20241015T132618Z
UID:5981-1749513600-1749599999@www.gkre.ch
SUMMARY:Lehn / Schüpfheim (+Frutteggstrasse)
DESCRIPTION:
URL:https://www.gkre.ch/abfuhrtag/lehn-schuepfheim-frutteggstrasse-3/2025-06-10/
CATEGORIES:Abfuhrtage
END:VEVENT
BEGIN:VEVENT
DTSTART;VALUE=DATE:20250527
DTEND;VALUE=DATE:20250528
DTSTAMP:20260423T004429
CREATED:20241015T132618Z
LAST-MODIFIED:20241015T132618Z
UID:5980-1748304000-1748390399@www.gkre.ch
SUMMARY:Lehn / Schüpfheim (+Frutteggstrasse)
DESCRIPTION:
URL:https://www.gkre.ch/abfuhrtag/lehn-schuepfheim-frutteggstrasse-3/2025-05-27/
CATEGORIES:Abfuhrtage
END:VEVENT
BEGIN:VEVENT
DTSTART;VALUE=DATE:20250513
DTEND;VALUE=DATE:20250514
DTSTAMP:20260423T004429
CREATED:20241015T132618Z
LAST-MODIFIED:20241015T132618Z
UID:5979-1747094400-1747180799@www.gkre.ch
SUMMARY:Lehn / Schüpfheim (+Frutteggstrasse)
DESCRIPTION:
URL:https://www.gkre.ch/abfuhrtag/lehn-schuepfheim-frutteggstrasse-3/2025-05-13/
CATEGORIES:Abfuhrtage
END:VEVENT
BEGIN:VEVENT
DTSTART;VALUE=DATE:20250429
DTEND;VALUE=DATE:20250430
DTSTAMP:20260423T004429
CREATED:20241015T132618Z
LAST-MODIFIED:20241015T132618Z
UID:5978-1745884800-1745971199@www.gkre.ch
SUMMARY:Lehn / Schüpfheim (+Frutteggstrasse)
DESCRIPTION:
URL:https://www.gkre.ch/abfuhrtag/lehn-schuepfheim-frutteggstrasse-3/2025-04-29/
CATEGORIES:Abfuhrtage
END:VEVENT
BEGIN:VEVENT
DTSTART;VALUE=DATE:20250415
DTEND;VALUE=DATE:20250416
DTSTAMP:20260423T004429
CREATED:20241015T132618Z
LAST-MODIFIED:20241015T132618Z
UID:5977-1744675200-1744761599@www.gkre.ch
SUMMARY:Lehn / Schüpfheim (+Frutteggstrasse)
DESCRIPTION:
URL:https://www.gkre.ch/abfuhrtag/lehn-schuepfheim-frutteggstrasse-3/2025-04-15/
CATEGORIES:Abfuhrtage
END:VEVENT
BEGIN:VEVENT
DTSTART;VALUE=DATE:20250401
DTEND;VALUE=DATE:20250402
DTSTAMP:20260423T004429
CREATED:20241015T132618Z
LAST-MODIFIED:20241015T132618Z
UID:5976-1743465600-1743551999@www.gkre.ch
SUMMARY:Lehn / Schüpfheim (+Frutteggstrasse)
DESCRIPTION:
URL:https://www.gkre.ch/abfuhrtag/lehn-schuepfheim-frutteggstrasse-3/2025-04-01/
CATEGORIES:Abfuhrtage
END:VEVENT
BEGIN:VEVENT
DTSTART;VALUE=DATE:20250318
DTEND;VALUE=DATE:20250319
DTSTAMP:20260423T004429
CREATED:20241015T132618Z
LAST-MODIFIED:20241015T132618Z
UID:5975-1742256000-1742342399@www.gkre.ch
SUMMARY:Lehn / Schüpfheim (+Frutteggstrasse)
DESCRIPTION:
URL:https://www.gkre.ch/abfuhrtag/lehn-schuepfheim-frutteggstrasse-3/2025-03-18/
CATEGORIES:Abfuhrtage
END:VEVENT
BEGIN:VEVENT
DTSTART;VALUE=DATE:20250304
DTEND;VALUE=DATE:20250305
DTSTAMP:20260423T004429
CREATED:20241015T132618Z
LAST-MODIFIED:20241015T132618Z
UID:5974-1741046400-1741132799@www.gkre.ch
SUMMARY:Lehn / Schüpfheim (+Frutteggstrasse)
DESCRIPTION:
URL:https://www.gkre.ch/abfuhrtag/lehn-schuepfheim-frutteggstrasse-3/2025-03-04/
CATEGORIES:Abfuhrtage
END:VEVENT
BEGIN:VEVENT
DTSTART;VALUE=DATE:20250218
DTEND;VALUE=DATE:20250219
DTSTAMP:20260423T004429
CREATED:20241015T132618Z
LAST-MODIFIED:20241015T132618Z
UID:5973-1739836800-1739923199@www.gkre.ch
SUMMARY:Lehn / Schüpfheim (+Frutteggstrasse)
DESCRIPTION:
URL:https://www.gkre.ch/abfuhrtag/lehn-schuepfheim-frutteggstrasse-3/2025-02-18/
CATEGORIES:Abfuhrtage
END:VEVENT
BEGIN:VEVENT
DTSTART;VALUE=DATE:20250204
DTEND;VALUE=DATE:20250205
DTSTAMP:20260423T004429
CREATED:20241015T132618Z
LAST-MODIFIED:20241015T132618Z
UID:5972-1738627200-1738713599@www.gkre.ch
SUMMARY:Lehn / Schüpfheim (+Frutteggstrasse)
DESCRIPTION:
URL:https://www.gkre.ch/abfuhrtag/lehn-schuepfheim-frutteggstrasse-3/2025-02-04/
CATEGORIES:Abfuhrtage
END:VEVENT
BEGIN:VEVENT
DTSTART;VALUE=DATE:20250121
DTEND;VALUE=DATE:20250122
DTSTAMP:20260423T004429
CREATED:20241015T132618Z
LAST-MODIFIED:20241015T132618Z
UID:5970-1737417600-1737503999@www.gkre.ch
SUMMARY:Lehn / Schüpfheim (+Frutteggstrasse)
DESCRIPTION:
URL:https://www.gkre.ch/abfuhrtag/lehn-schuepfheim-frutteggstrasse-3/2025-01-21/
CATEGORIES:Abfuhrtage
END:VEVENT
END:VCALENDAR