BEGIN:VCALENDAR
VERSION:2.0
PRODID:-//Gemeindeverband Kehrichtentsorgung Region Entlebuch - ECPv6.2.4//NONSGML v1.0//EN
CALSCALE:GREGORIAN
METHOD:PUBLISH
X-WR-CALNAME:Gemeindeverband Kehrichtentsorgung Region Entlebuch
X-ORIGINAL-URL:https://www.gkre.ch
X-WR-CALDESC:Veranstaltungen im Gemeindeverband Kehrichtentsorgung Region Entlebuch
REFRESH-INTERVAL;VALUE=DURATION:PT1H
X-Robots-Tag:noindex
X-PUBLISHED-TTL:PT1H
BEGIN:VTIMEZONE
TZID:Europe/Zurich
BEGIN:DAYLIGHT
TZOFFSETFROM:+0100
TZOFFSETTO:+0200
TZNAME:CEST
DTSTART:20250330T010000
END:DAYLIGHT
BEGIN:STANDARD
TZOFFSETFROM:+0200
TZOFFSETTO:+0100
TZNAME:CET
DTSTART:20251026T010000
END:STANDARD
END:VTIMEZONE
BEGIN:VEVENT
DTSTART;VALUE=DATE:20251223
DTEND;VALUE=DATE:20251224
DTSTAMP:20260423T004432
CREATED:20241016T094131Z
LAST-MODIFIED:20241016T094131Z
UID:6301-1766448000-1766534399@www.gkre.ch
SUMMARY:Lehn / Schüpfheim (+Frutteggstrasse)
DESCRIPTION:
URL:https://www.gkre.ch/abfuhrtag/lehn-schuepfheim-frutteggstrasse-5/2025-12-23/
CATEGORIES:Abfuhrtage
END:VEVENT
BEGIN:VEVENT
DTSTART;VALUE=DATE:20251209
DTEND;VALUE=DATE:20251210
DTSTAMP:20260423T004432
CREATED:20241016T094131Z
LAST-MODIFIED:20241016T094131Z
UID:6300-1765238400-1765324799@www.gkre.ch
SUMMARY:Lehn / Schüpfheim (+Frutteggstrasse)
DESCRIPTION:
URL:https://www.gkre.ch/abfuhrtag/lehn-schuepfheim-frutteggstrasse-5/2025-12-09/
CATEGORIES:Abfuhrtage
END:VEVENT
BEGIN:VEVENT
DTSTART;VALUE=DATE:20251125
DTEND;VALUE=DATE:20251126
DTSTAMP:20260423T004432
CREATED:20241016T094131Z
LAST-MODIFIED:20241016T094131Z
UID:6299-1764028800-1764115199@www.gkre.ch
SUMMARY:Lehn / Schüpfheim (+Frutteggstrasse)
DESCRIPTION:
URL:https://www.gkre.ch/abfuhrtag/lehn-schuepfheim-frutteggstrasse-5/2025-11-25/
CATEGORIES:Abfuhrtage
END:VEVENT
BEGIN:VEVENT
DTSTART;VALUE=DATE:20251111
DTEND;VALUE=DATE:20251112
DTSTAMP:20260423T004432
CREATED:20241016T094131Z
LAST-MODIFIED:20241016T094131Z
UID:6297-1762819200-1762905599@www.gkre.ch
SUMMARY:Lehn / Schüpfheim (+Frutteggstrasse)
DESCRIPTION:
URL:https://www.gkre.ch/abfuhrtag/lehn-schuepfheim-frutteggstrasse-5/2025-11-11/
CATEGORIES:Abfuhrtage
END:VEVENT
END:VCALENDAR