BEGIN:VCALENDAR
VERSION:2.0
PRODID:-//Gemeindeverband Kehrichtentsorgung Region Entlebuch - ECPv6.2.4//NONSGML v1.0//EN
CALSCALE:GREGORIAN
METHOD:PUBLISH
X-WR-CALNAME:Gemeindeverband Kehrichtentsorgung Region Entlebuch
X-ORIGINAL-URL:https://www.gkre.ch
X-WR-CALDESC:Veranstaltungen im Gemeindeverband Kehrichtentsorgung Region Entlebuch
REFRESH-INTERVAL;VALUE=DURATION:PT1H
X-Robots-Tag:noindex
X-PUBLISHED-TTL:PT1H
BEGIN:VTIMEZONE
TZID:Europe/Zurich
BEGIN:DAYLIGHT
TZOFFSETFROM:+0100
TZOFFSETTO:+0200
TZNAME:CEST
DTSTART:20240331T010000
END:DAYLIGHT
BEGIN:STANDARD
TZOFFSETFROM:+0200
TZOFFSETTO:+0100
TZNAME:CET
DTSTART:20241027T010000
END:STANDARD
END:VTIMEZONE
BEGIN:VEVENT
DTSTART;VALUE=DATE:20241230
DTEND;VALUE=DATE:20241231
DTSTAMP:20260423T105925
CREATED:20231020T145028Z
LAST-MODIFIED:20231020T145028Z
UID:3439-1735516800-1735603199@www.gkre.ch
SUMMARY:Marbach
DESCRIPTION:
URL:https://www.gkre.ch/abfuhrtag/marbach-2/2024-12-30/
CATEGORIES:Abfuhrtage
END:VEVENT
BEGIN:VEVENT
DTSTART;VALUE=DATE:20241223
DTEND;VALUE=DATE:20241224
DTSTAMP:20260423T105925
CREATED:20231020T145028Z
LAST-MODIFIED:20231020T145028Z
UID:3438-1734912000-1734998399@www.gkre.ch
SUMMARY:Marbach
DESCRIPTION:
URL:https://www.gkre.ch/abfuhrtag/marbach-2/2024-12-23/
CATEGORIES:Abfuhrtage
END:VEVENT
BEGIN:VEVENT
DTSTART;VALUE=DATE:20241216
DTEND;VALUE=DATE:20241217
DTSTAMP:20260423T105925
CREATED:20231020T145028Z
LAST-MODIFIED:20231020T145028Z
UID:3437-1734307200-1734393599@www.gkre.ch
SUMMARY:Marbach
DESCRIPTION:
URL:https://www.gkre.ch/abfuhrtag/marbach-2/2024-12-16/
CATEGORIES:Abfuhrtage
END:VEVENT
BEGIN:VEVENT
DTSTART;VALUE=DATE:20241209
DTEND;VALUE=DATE:20241210
DTSTAMP:20260423T105925
CREATED:20231020T145028Z
LAST-MODIFIED:20231020T145028Z
UID:3436-1733702400-1733788799@www.gkre.ch
SUMMARY:Marbach
DESCRIPTION:
URL:https://www.gkre.ch/abfuhrtag/marbach-2/2024-12-09/
CATEGORIES:Abfuhrtage
END:VEVENT
BEGIN:VEVENT
DTSTART;VALUE=DATE:20241202
DTEND;VALUE=DATE:20241203
DTSTAMP:20260423T105925
CREATED:20231020T145028Z
LAST-MODIFIED:20231020T145028Z
UID:3435-1733097600-1733183999@www.gkre.ch
SUMMARY:Marbach
DESCRIPTION:
URL:https://www.gkre.ch/abfuhrtag/marbach-2/2024-12-02/
CATEGORIES:Abfuhrtage
END:VEVENT
BEGIN:VEVENT
DTSTART;VALUE=DATE:20241125
DTEND;VALUE=DATE:20241126
DTSTAMP:20260423T105925
CREATED:20231020T145028Z
LAST-MODIFIED:20231020T145028Z
UID:3434-1732492800-1732579199@www.gkre.ch
SUMMARY:Marbach
DESCRIPTION:
URL:https://www.gkre.ch/abfuhrtag/marbach-2/2024-11-25/
CATEGORIES:Abfuhrtage
END:VEVENT
BEGIN:VEVENT
DTSTART;VALUE=DATE:20241118
DTEND;VALUE=DATE:20241119
DTSTAMP:20260423T105925
CREATED:20231020T145028Z
LAST-MODIFIED:20231020T145028Z
UID:3433-1731888000-1731974399@www.gkre.ch
SUMMARY:Marbach
DESCRIPTION:
URL:https://www.gkre.ch/abfuhrtag/marbach-2/2024-11-18/
CATEGORIES:Abfuhrtage
END:VEVENT
BEGIN:VEVENT
DTSTART;VALUE=DATE:20241111
DTEND;VALUE=DATE:20241112
DTSTAMP:20260423T105925
CREATED:20231020T145028Z
LAST-MODIFIED:20231020T145028Z
UID:3432-1731283200-1731369599@www.gkre.ch
SUMMARY:Marbach
DESCRIPTION:
URL:https://www.gkre.ch/abfuhrtag/marbach-2/2024-11-11/
CATEGORIES:Abfuhrtage
END:VEVENT
BEGIN:VEVENT
DTSTART;VALUE=DATE:20241104
DTEND;VALUE=DATE:20241105
DTSTAMP:20260423T105925
CREATED:20231020T145028Z
LAST-MODIFIED:20231020T145028Z
UID:3431-1730678400-1730764799@www.gkre.ch
SUMMARY:Marbach
DESCRIPTION:
URL:https://www.gkre.ch/abfuhrtag/marbach-2/2024-11-04/
CATEGORIES:Abfuhrtage
END:VEVENT
BEGIN:VEVENT
DTSTART;VALUE=DATE:20241028
DTEND;VALUE=DATE:20241029
DTSTAMP:20260423T105925
CREATED:20231020T145028Z
LAST-MODIFIED:20231020T145028Z
UID:3430-1730073600-1730159999@www.gkre.ch
SUMMARY:Marbach
DESCRIPTION:
URL:https://www.gkre.ch/abfuhrtag/marbach-2/2024-10-28/
CATEGORIES:Abfuhrtage
END:VEVENT
BEGIN:VEVENT
DTSTART;VALUE=DATE:20241021
DTEND;VALUE=DATE:20241022
DTSTAMP:20260423T105925
CREATED:20231020T145028Z
LAST-MODIFIED:20231020T145028Z
UID:3429-1729468800-1729555199@www.gkre.ch
SUMMARY:Marbach
DESCRIPTION:
URL:https://www.gkre.ch/abfuhrtag/marbach-2/2024-10-21/
CATEGORIES:Abfuhrtage
END:VEVENT
BEGIN:VEVENT
DTSTART;VALUE=DATE:20241014
DTEND;VALUE=DATE:20241015
DTSTAMP:20260423T105925
CREATED:20231020T145028Z
LAST-MODIFIED:20231020T145028Z
UID:3428-1728864000-1728950399@www.gkre.ch
SUMMARY:Marbach
DESCRIPTION:
URL:https://www.gkre.ch/abfuhrtag/marbach-2/2024-10-14/
CATEGORIES:Abfuhrtage
END:VEVENT
BEGIN:VEVENT
DTSTART;VALUE=DATE:20241007
DTEND;VALUE=DATE:20241008
DTSTAMP:20260423T105925
CREATED:20231020T145028Z
LAST-MODIFIED:20231020T145028Z
UID:3427-1728259200-1728345599@www.gkre.ch
SUMMARY:Marbach
DESCRIPTION:
URL:https://www.gkre.ch/abfuhrtag/marbach-2/2024-10-07/
CATEGORIES:Abfuhrtage
END:VEVENT
BEGIN:VEVENT
DTSTART;VALUE=DATE:20240930
DTEND;VALUE=DATE:20241001
DTSTAMP:20260423T105925
CREATED:20231020T145028Z
LAST-MODIFIED:20231020T145028Z
UID:3426-1727654400-1727740799@www.gkre.ch
SUMMARY:Marbach
DESCRIPTION:
URL:https://www.gkre.ch/abfuhrtag/marbach-2/2024-09-30/
CATEGORIES:Abfuhrtage
END:VEVENT
BEGIN:VEVENT
DTSTART;VALUE=DATE:20240923
DTEND;VALUE=DATE:20240924
DTSTAMP:20260423T105925
CREATED:20231020T145028Z
LAST-MODIFIED:20231020T145028Z
UID:3425-1727049600-1727135999@www.gkre.ch
SUMMARY:Marbach
DESCRIPTION:
URL:https://www.gkre.ch/abfuhrtag/marbach-2/2024-09-23/
CATEGORIES:Abfuhrtage
END:VEVENT
BEGIN:VEVENT
DTSTART;VALUE=DATE:20240916
DTEND;VALUE=DATE:20240917
DTSTAMP:20260423T105925
CREATED:20231020T145028Z
LAST-MODIFIED:20231020T145028Z
UID:3424-1726444800-1726531199@www.gkre.ch
SUMMARY:Marbach
DESCRIPTION:
URL:https://www.gkre.ch/abfuhrtag/marbach-2/2024-09-16/
CATEGORIES:Abfuhrtage
END:VEVENT
BEGIN:VEVENT
DTSTART;VALUE=DATE:20240909
DTEND;VALUE=DATE:20240910
DTSTAMP:20260423T105925
CREATED:20231020T145028Z
LAST-MODIFIED:20231020T145028Z
UID:3423-1725840000-1725926399@www.gkre.ch
SUMMARY:Marbach
DESCRIPTION:
URL:https://www.gkre.ch/abfuhrtag/marbach-2/2024-09-09/
CATEGORIES:Abfuhrtage
END:VEVENT
BEGIN:VEVENT
DTSTART;VALUE=DATE:20240902
DTEND;VALUE=DATE:20240903
DTSTAMP:20260423T105925
CREATED:20231020T145028Z
LAST-MODIFIED:20231020T145028Z
UID:3422-1725235200-1725321599@www.gkre.ch
SUMMARY:Marbach
DESCRIPTION:
URL:https://www.gkre.ch/abfuhrtag/marbach-2/2024-09-02/
CATEGORIES:Abfuhrtage
END:VEVENT
BEGIN:VEVENT
DTSTART;VALUE=DATE:20240826
DTEND;VALUE=DATE:20240827
DTSTAMP:20260423T105925
CREATED:20231020T145028Z
LAST-MODIFIED:20231020T145028Z
UID:3421-1724630400-1724716799@www.gkre.ch
SUMMARY:Marbach
DESCRIPTION:
URL:https://www.gkre.ch/abfuhrtag/marbach-2/2024-08-26/
CATEGORIES:Abfuhrtage
END:VEVENT
BEGIN:VEVENT
DTSTART;VALUE=DATE:20240819
DTEND;VALUE=DATE:20240820
DTSTAMP:20260423T105925
CREATED:20231020T145028Z
LAST-MODIFIED:20231020T145028Z
UID:3420-1724025600-1724111999@www.gkre.ch
SUMMARY:Marbach
DESCRIPTION:
URL:https://www.gkre.ch/abfuhrtag/marbach-2/2024-08-19/
CATEGORIES:Abfuhrtage
END:VEVENT
BEGIN:VEVENT
DTSTART;VALUE=DATE:20240812
DTEND;VALUE=DATE:20240813
DTSTAMP:20260423T105925
CREATED:20231020T145028Z
LAST-MODIFIED:20231020T145028Z
UID:3419-1723420800-1723507199@www.gkre.ch
SUMMARY:Marbach
DESCRIPTION:
URL:https://www.gkre.ch/abfuhrtag/marbach-2/2024-08-12/
CATEGORIES:Abfuhrtage
END:VEVENT
BEGIN:VEVENT
DTSTART;VALUE=DATE:20240805
DTEND;VALUE=DATE:20240806
DTSTAMP:20260423T105925
CREATED:20231020T145028Z
LAST-MODIFIED:20231020T145028Z
UID:3418-1722816000-1722902399@www.gkre.ch
SUMMARY:Marbach
DESCRIPTION:
URL:https://www.gkre.ch/abfuhrtag/marbach-2/2024-08-05/
CATEGORIES:Abfuhrtage
END:VEVENT
BEGIN:VEVENT
DTSTART;VALUE=DATE:20240729
DTEND;VALUE=DATE:20240730
DTSTAMP:20260423T105925
CREATED:20231020T145028Z
LAST-MODIFIED:20231020T145028Z
UID:3417-1722211200-1722297599@www.gkre.ch
SUMMARY:Marbach
DESCRIPTION:
URL:https://www.gkre.ch/abfuhrtag/marbach-2/2024-07-29/
CATEGORIES:Abfuhrtage
END:VEVENT
BEGIN:VEVENT
DTSTART;VALUE=DATE:20240722
DTEND;VALUE=DATE:20240723
DTSTAMP:20260423T105925
CREATED:20231020T145028Z
LAST-MODIFIED:20231020T145028Z
UID:3416-1721606400-1721692799@www.gkre.ch
SUMMARY:Marbach
DESCRIPTION:
URL:https://www.gkre.ch/abfuhrtag/marbach-2/2024-07-22/
CATEGORIES:Abfuhrtage
END:VEVENT
BEGIN:VEVENT
DTSTART;VALUE=DATE:20240715
DTEND;VALUE=DATE:20240716
DTSTAMP:20260423T105925
CREATED:20231020T145028Z
LAST-MODIFIED:20231020T145028Z
UID:3415-1721001600-1721087999@www.gkre.ch
SUMMARY:Marbach
DESCRIPTION:
URL:https://www.gkre.ch/abfuhrtag/marbach-2/2024-07-15/
CATEGORIES:Abfuhrtage
END:VEVENT
BEGIN:VEVENT
DTSTART;VALUE=DATE:20240708
DTEND;VALUE=DATE:20240709
DTSTAMP:20260423T105925
CREATED:20231020T145028Z
LAST-MODIFIED:20231020T145028Z
UID:3414-1720396800-1720483199@www.gkre.ch
SUMMARY:Marbach
DESCRIPTION:
URL:https://www.gkre.ch/abfuhrtag/marbach-2/2024-07-08/
CATEGORIES:Abfuhrtage
END:VEVENT
BEGIN:VEVENT
DTSTART;VALUE=DATE:20240701
DTEND;VALUE=DATE:20240702
DTSTAMP:20260423T105925
CREATED:20231020T145028Z
LAST-MODIFIED:20231020T145028Z
UID:3413-1719792000-1719878399@www.gkre.ch
SUMMARY:Marbach
DESCRIPTION:
URL:https://www.gkre.ch/abfuhrtag/marbach-2/2024-07-01/
CATEGORIES:Abfuhrtage
END:VEVENT
BEGIN:VEVENT
DTSTART;VALUE=DATE:20240624
DTEND;VALUE=DATE:20240625
DTSTAMP:20260423T105925
CREATED:20231020T145028Z
LAST-MODIFIED:20231020T145028Z
UID:3412-1719187200-1719273599@www.gkre.ch
SUMMARY:Marbach
DESCRIPTION:
URL:https://www.gkre.ch/abfuhrtag/marbach-2/2024-06-24/
CATEGORIES:Abfuhrtage
END:VEVENT
BEGIN:VEVENT
DTSTART;VALUE=DATE:20240617
DTEND;VALUE=DATE:20240618
DTSTAMP:20260423T105925
CREATED:20231020T145028Z
LAST-MODIFIED:20231020T145028Z
UID:3411-1718582400-1718668799@www.gkre.ch
SUMMARY:Marbach
DESCRIPTION:
URL:https://www.gkre.ch/abfuhrtag/marbach-2/2024-06-17/
CATEGORIES:Abfuhrtage
END:VEVENT
BEGIN:VEVENT
DTSTART;VALUE=DATE:20240610
DTEND;VALUE=DATE:20240611
DTSTAMP:20260423T105925
CREATED:20231020T145028Z
LAST-MODIFIED:20231020T145028Z
UID:3410-1717977600-1718063999@www.gkre.ch
SUMMARY:Marbach
DESCRIPTION:
URL:https://www.gkre.ch/abfuhrtag/marbach-2/2024-06-10/
CATEGORIES:Abfuhrtage
END:VEVENT
END:VCALENDAR