BEGIN:VCALENDAR
VERSION:2.0
PRODID:-//Gemeindeverband Kehrichtentsorgung Region Entlebuch - ECPv6.2.4//NONSGML v1.0//EN
CALSCALE:GREGORIAN
METHOD:PUBLISH
X-WR-CALNAME:Gemeindeverband Kehrichtentsorgung Region Entlebuch
X-ORIGINAL-URL:https://www.gkre.ch
X-WR-CALDESC:Veranstaltungen im Gemeindeverband Kehrichtentsorgung Region Entlebuch
REFRESH-INTERVAL;VALUE=DURATION:PT1H
X-Robots-Tag:noindex
X-PUBLISHED-TTL:PT1H
BEGIN:VTIMEZONE
TZID:Europe/Zurich
BEGIN:DAYLIGHT
TZOFFSETFROM:+0100
TZOFFSETTO:+0200
TZNAME:CEST
DTSTART:20250330T010000
END:DAYLIGHT
BEGIN:STANDARD
TZOFFSETFROM:+0200
TZOFFSETTO:+0100
TZNAME:CET
DTSTART:20251026T010000
END:STANDARD
END:VTIMEZONE
BEGIN:VEVENT
DTSTART;VALUE=DATE:20251229
DTEND;VALUE=DATE:20251230
DTSTAMP:20260422T230136
CREATED:20241009T063142Z
LAST-MODIFIED:20241015T072009Z
UID:5652-1766966400-1767052799@www.gkre.ch
SUMMARY:Marbach
DESCRIPTION:
URL:https://www.gkre.ch/abfuhrtag/marbach-3/2025-12-29/
CATEGORIES:Abfuhrtage
END:VEVENT
BEGIN:VEVENT
DTSTART;VALUE=DATE:20251222
DTEND;VALUE=DATE:20251223
DTSTAMP:20260422T230136
CREATED:20241009T063142Z
LAST-MODIFIED:20241015T072009Z
UID:5651-1766361600-1766447999@www.gkre.ch
SUMMARY:Marbach
DESCRIPTION:
URL:https://www.gkre.ch/abfuhrtag/marbach-3/2025-12-22/
CATEGORIES:Abfuhrtage
END:VEVENT
BEGIN:VEVENT
DTSTART;VALUE=DATE:20251215
DTEND;VALUE=DATE:20251216
DTSTAMP:20260422T230136
CREATED:20241009T063142Z
LAST-MODIFIED:20241015T072009Z
UID:5650-1765756800-1765843199@www.gkre.ch
SUMMARY:Marbach
DESCRIPTION:
URL:https://www.gkre.ch/abfuhrtag/marbach-3/2025-12-15/
CATEGORIES:Abfuhrtage
END:VEVENT
BEGIN:VEVENT
DTSTART;VALUE=DATE:20251201
DTEND;VALUE=DATE:20251202
DTSTAMP:20260422T230136
CREATED:20241009T063142Z
LAST-MODIFIED:20241015T072008Z
UID:5649-1764547200-1764633599@www.gkre.ch
SUMMARY:Marbach
DESCRIPTION:
URL:https://www.gkre.ch/abfuhrtag/marbach-3/2025-12-01/
CATEGORIES:Abfuhrtage
END:VEVENT
BEGIN:VEVENT
DTSTART;VALUE=DATE:20251124
DTEND;VALUE=DATE:20251125
DTSTAMP:20260422T230136
CREATED:20241009T063142Z
LAST-MODIFIED:20241015T072007Z
UID:5648-1763942400-1764028799@www.gkre.ch
SUMMARY:Marbach
DESCRIPTION:
URL:https://www.gkre.ch/abfuhrtag/marbach-3/2025-11-24/
CATEGORIES:Abfuhrtage
END:VEVENT
BEGIN:VEVENT
DTSTART;VALUE=DATE:20251117
DTEND;VALUE=DATE:20251118
DTSTAMP:20260422T230136
CREATED:20241009T063142Z
LAST-MODIFIED:20241015T072004Z
UID:5647-1763337600-1763423999@www.gkre.ch
SUMMARY:Marbach
DESCRIPTION:
URL:https://www.gkre.ch/abfuhrtag/marbach-3/2025-11-17/
CATEGORIES:Abfuhrtage
END:VEVENT
BEGIN:VEVENT
DTSTART;VALUE=DATE:20251110
DTEND;VALUE=DATE:20251111
DTSTAMP:20260422T230136
CREATED:20241009T063142Z
LAST-MODIFIED:20241015T072003Z
UID:5646-1762732800-1762819199@www.gkre.ch
SUMMARY:Marbach
DESCRIPTION:
URL:https://www.gkre.ch/abfuhrtag/marbach-3/2025-11-10/
CATEGORIES:Abfuhrtage
END:VEVENT
BEGIN:VEVENT
DTSTART;VALUE=DATE:20251103
DTEND;VALUE=DATE:20251104
DTSTAMP:20260422T230136
CREATED:20241009T063142Z
LAST-MODIFIED:20241015T072002Z
UID:5645-1762128000-1762214399@www.gkre.ch
SUMMARY:Marbach
DESCRIPTION:
URL:https://www.gkre.ch/abfuhrtag/marbach-3/2025-11-03/
CATEGORIES:Abfuhrtage
END:VEVENT
BEGIN:VEVENT
DTSTART;VALUE=DATE:20251027
DTEND;VALUE=DATE:20251028
DTSTAMP:20260422T230136
CREATED:20241009T063142Z
LAST-MODIFIED:20241015T071958Z
UID:5644-1761523200-1761609599@www.gkre.ch
SUMMARY:Marbach
DESCRIPTION:
URL:https://www.gkre.ch/abfuhrtag/marbach-3/2025-10-27/
CATEGORIES:Abfuhrtage
END:VEVENT
BEGIN:VEVENT
DTSTART;VALUE=DATE:20251020
DTEND;VALUE=DATE:20251021
DTSTAMP:20260422T230136
CREATED:20241009T063142Z
LAST-MODIFIED:20241015T071958Z
UID:5643-1760918400-1761004799@www.gkre.ch
SUMMARY:Marbach
DESCRIPTION:
URL:https://www.gkre.ch/abfuhrtag/marbach-3/2025-10-20/
CATEGORIES:Abfuhrtage
END:VEVENT
BEGIN:VEVENT
DTSTART;VALUE=DATE:20251013
DTEND;VALUE=DATE:20251014
DTSTAMP:20260422T230136
CREATED:20241009T063142Z
LAST-MODIFIED:20241015T071958Z
UID:5642-1760313600-1760399999@www.gkre.ch
SUMMARY:Marbach
DESCRIPTION:
URL:https://www.gkre.ch/abfuhrtag/marbach-3/2025-10-13/
CATEGORIES:Abfuhrtage
END:VEVENT
BEGIN:VEVENT
DTSTART;VALUE=DATE:20251006
DTEND;VALUE=DATE:20251007
DTSTAMP:20260422T230136
CREATED:20241009T063142Z
LAST-MODIFIED:20241015T071958Z
UID:5641-1759708800-1759795199@www.gkre.ch
SUMMARY:Marbach
DESCRIPTION:
URL:https://www.gkre.ch/abfuhrtag/marbach-3/2025-10-06/
CATEGORIES:Abfuhrtage
END:VEVENT
BEGIN:VEVENT
DTSTART;VALUE=DATE:20250929
DTEND;VALUE=DATE:20250930
DTSTAMP:20260422T230136
CREATED:20241009T063142Z
LAST-MODIFIED:20241015T071958Z
UID:5640-1759104000-1759190399@www.gkre.ch
SUMMARY:Marbach
DESCRIPTION:
URL:https://www.gkre.ch/abfuhrtag/marbach-3/2025-09-29/
CATEGORIES:Abfuhrtage
END:VEVENT
BEGIN:VEVENT
DTSTART;VALUE=DATE:20250922
DTEND;VALUE=DATE:20250923
DTSTAMP:20260422T230136
CREATED:20241009T063142Z
LAST-MODIFIED:20241015T071958Z
UID:5639-1758499200-1758585599@www.gkre.ch
SUMMARY:Marbach
DESCRIPTION:
URL:https://www.gkre.ch/abfuhrtag/marbach-3/2025-09-22/
CATEGORIES:Abfuhrtage
END:VEVENT
BEGIN:VEVENT
DTSTART;VALUE=DATE:20250915
DTEND;VALUE=DATE:20250916
DTSTAMP:20260422T230136
CREATED:20241009T063142Z
LAST-MODIFIED:20241015T071958Z
UID:5638-1757894400-1757980799@www.gkre.ch
SUMMARY:Marbach
DESCRIPTION:
URL:https://www.gkre.ch/abfuhrtag/marbach-3/2025-09-15/
CATEGORIES:Abfuhrtage
END:VEVENT
BEGIN:VEVENT
DTSTART;VALUE=DATE:20250908
DTEND;VALUE=DATE:20250909
DTSTAMP:20260422T230136
CREATED:20241009T063142Z
LAST-MODIFIED:20241015T071957Z
UID:5637-1757289600-1757375999@www.gkre.ch
SUMMARY:Marbach
DESCRIPTION:
URL:https://www.gkre.ch/abfuhrtag/marbach-3/2025-09-08/
CATEGORIES:Abfuhrtage
END:VEVENT
BEGIN:VEVENT
DTSTART;VALUE=DATE:20250901
DTEND;VALUE=DATE:20250902
DTSTAMP:20260422T230136
CREATED:20241009T063142Z
LAST-MODIFIED:20241015T071957Z
UID:5636-1756684800-1756771199@www.gkre.ch
SUMMARY:Marbach
DESCRIPTION:
URL:https://www.gkre.ch/abfuhrtag/marbach-3/2025-09-01/
CATEGORIES:Abfuhrtage
END:VEVENT
BEGIN:VEVENT
DTSTART;VALUE=DATE:20250825
DTEND;VALUE=DATE:20250826
DTSTAMP:20260422T230136
CREATED:20241009T063142Z
LAST-MODIFIED:20241015T071957Z
UID:5635-1756080000-1756166399@www.gkre.ch
SUMMARY:Marbach
DESCRIPTION:
URL:https://www.gkre.ch/abfuhrtag/marbach-3/2025-08-25/
CATEGORIES:Abfuhrtage
END:VEVENT
BEGIN:VEVENT
DTSTART;VALUE=DATE:20250818
DTEND;VALUE=DATE:20250819
DTSTAMP:20260422T230136
CREATED:20241009T063142Z
LAST-MODIFIED:20241015T071640Z
UID:5634-1755475200-1755561599@www.gkre.ch
SUMMARY:Marbach
DESCRIPTION:
URL:https://www.gkre.ch/abfuhrtag/marbach-3/2025-08-18/
CATEGORIES:Abfuhrtage
END:VEVENT
BEGIN:VEVENT
DTSTART;VALUE=DATE:20250811
DTEND;VALUE=DATE:20250812
DTSTAMP:20260422T230136
CREATED:20241009T063142Z
LAST-MODIFIED:20241015T071640Z
UID:5633-1754870400-1754956799@www.gkre.ch
SUMMARY:Marbach
DESCRIPTION:
URL:https://www.gkre.ch/abfuhrtag/marbach-3/2025-08-11/
CATEGORIES:Abfuhrtage
END:VEVENT
BEGIN:VEVENT
DTSTART;VALUE=DATE:20250804
DTEND;VALUE=DATE:20250805
DTSTAMP:20260422T230136
CREATED:20241009T063142Z
LAST-MODIFIED:20241015T071640Z
UID:5632-1754265600-1754351999@www.gkre.ch
SUMMARY:Marbach
DESCRIPTION:
URL:https://www.gkre.ch/abfuhrtag/marbach-3/2025-08-04/
CATEGORIES:Abfuhrtage
END:VEVENT
BEGIN:VEVENT
DTSTART;VALUE=DATE:20250728
DTEND;VALUE=DATE:20250729
DTSTAMP:20260422T230136
CREATED:20241009T063142Z
LAST-MODIFIED:20241015T071640Z
UID:5631-1753660800-1753747199@www.gkre.ch
SUMMARY:Marbach
DESCRIPTION:
URL:https://www.gkre.ch/abfuhrtag/marbach-3/2025-07-28/
CATEGORIES:Abfuhrtage
END:VEVENT
BEGIN:VEVENT
DTSTART;VALUE=DATE:20250721
DTEND;VALUE=DATE:20250722
DTSTAMP:20260422T230136
CREATED:20241009T063142Z
LAST-MODIFIED:20241015T071640Z
UID:5630-1753056000-1753142399@www.gkre.ch
SUMMARY:Marbach
DESCRIPTION:
URL:https://www.gkre.ch/abfuhrtag/marbach-3/2025-07-21/
CATEGORIES:Abfuhrtage
END:VEVENT
BEGIN:VEVENT
DTSTART;VALUE=DATE:20250714
DTEND;VALUE=DATE:20250715
DTSTAMP:20260422T230136
CREATED:20241009T063142Z
LAST-MODIFIED:20241015T071640Z
UID:5629-1752451200-1752537599@www.gkre.ch
SUMMARY:Marbach
DESCRIPTION:
URL:https://www.gkre.ch/abfuhrtag/marbach-3/2025-07-14/
CATEGORIES:Abfuhrtage
END:VEVENT
BEGIN:VEVENT
DTSTART;VALUE=DATE:20250707
DTEND;VALUE=DATE:20250708
DTSTAMP:20260422T230136
CREATED:20241009T063142Z
LAST-MODIFIED:20241015T071640Z
UID:5628-1751846400-1751932799@www.gkre.ch
SUMMARY:Marbach
DESCRIPTION:
URL:https://www.gkre.ch/abfuhrtag/marbach-3/2025-07-07/
CATEGORIES:Abfuhrtage
END:VEVENT
BEGIN:VEVENT
DTSTART;VALUE=DATE:20250630
DTEND;VALUE=DATE:20250701
DTSTAMP:20260422T230136
CREATED:20241009T063142Z
LAST-MODIFIED:20241015T071639Z
UID:5627-1751241600-1751327999@www.gkre.ch
SUMMARY:Marbach
DESCRIPTION:
URL:https://www.gkre.ch/abfuhrtag/marbach-3/2025-06-30/
CATEGORIES:Abfuhrtage
END:VEVENT
BEGIN:VEVENT
DTSTART;VALUE=DATE:20250623
DTEND;VALUE=DATE:20250624
DTSTAMP:20260422T230136
CREATED:20241009T063142Z
LAST-MODIFIED:20241015T071639Z
UID:5626-1750636800-1750723199@www.gkre.ch
SUMMARY:Marbach
DESCRIPTION:
URL:https://www.gkre.ch/abfuhrtag/marbach-3/2025-06-23/
CATEGORIES:Abfuhrtage
END:VEVENT
BEGIN:VEVENT
DTSTART;VALUE=DATE:20250616
DTEND;VALUE=DATE:20250617
DTSTAMP:20260422T230136
CREATED:20241009T063142Z
LAST-MODIFIED:20241015T071639Z
UID:5625-1750032000-1750118399@www.gkre.ch
SUMMARY:Marbach
DESCRIPTION:
URL:https://www.gkre.ch/abfuhrtag/marbach-3/2025-06-16/
CATEGORIES:Abfuhrtage
END:VEVENT
BEGIN:VEVENT
DTSTART;VALUE=DATE:20250602
DTEND;VALUE=DATE:20250603
DTSTAMP:20260422T230136
CREATED:20241009T063142Z
LAST-MODIFIED:20241015T071638Z
UID:5624-1748822400-1748908799@www.gkre.ch
SUMMARY:Marbach
DESCRIPTION:
URL:https://www.gkre.ch/abfuhrtag/marbach-3/2025-06-02/
CATEGORIES:Abfuhrtage
END:VEVENT
BEGIN:VEVENT
DTSTART;VALUE=DATE:20250526
DTEND;VALUE=DATE:20250527
DTSTAMP:20260422T230136
CREATED:20241009T063142Z
LAST-MODIFIED:20241015T071637Z
UID:5623-1748217600-1748303999@www.gkre.ch
SUMMARY:Marbach
DESCRIPTION:
URL:https://www.gkre.ch/abfuhrtag/marbach-3/2025-05-26/
CATEGORIES:Abfuhrtage
END:VEVENT
END:VCALENDAR