BEGIN:VCALENDAR
VERSION:2.0
PRODID:-//Gemeindeverband Kehrichtentsorgung Region Entlebuch - ECPv6.2.4//NONSGML v1.0//EN
CALSCALE:GREGORIAN
METHOD:PUBLISH
X-WR-CALNAME:Gemeindeverband Kehrichtentsorgung Region Entlebuch
X-ORIGINAL-URL:https://www.gkre.ch
X-WR-CALDESC:Veranstaltungen im Gemeindeverband Kehrichtentsorgung Region Entlebuch
REFRESH-INTERVAL;VALUE=DURATION:PT1H
X-Robots-Tag:noindex
X-PUBLISHED-TTL:PT1H
BEGIN:VTIMEZONE
TZID:Europe/Zurich
BEGIN:DAYLIGHT
TZOFFSETFROM:+0100
TZOFFSETTO:+0200
TZNAME:CEST
DTSTART:20240331T010000
END:DAYLIGHT
BEGIN:STANDARD
TZOFFSETFROM:+0200
TZOFFSETTO:+0100
TZNAME:CET
DTSTART:20241027T010000
END:STANDARD
END:VTIMEZONE
BEGIN:VEVENT
DTSTART;VALUE=DATE:20241219
DTEND;VALUE=DATE:20241220
DTSTAMP:20260423T200444
CREATED:20231020T150328Z
LAST-MODIFIED:20231020T150328Z
UID:3766-1734566400-1734652799@www.gkre.ch
SUMMARY:Romoos Holzwegen
DESCRIPTION:
URL:https://www.gkre.ch/abfuhrtag/romoos-holzwegen/2024-12-19/
CATEGORIES:Abfuhrtage
END:VEVENT
BEGIN:VEVENT
DTSTART;VALUE=DATE:20241205
DTEND;VALUE=DATE:20241206
DTSTAMP:20260423T200444
CREATED:20231020T150328Z
LAST-MODIFIED:20231020T150328Z
UID:3765-1733356800-1733443199@www.gkre.ch
SUMMARY:Romoos Holzwegen
DESCRIPTION:
URL:https://www.gkre.ch/abfuhrtag/romoos-holzwegen/2024-12-05/
CATEGORIES:Abfuhrtage
END:VEVENT
BEGIN:VEVENT
DTSTART;VALUE=DATE:20241121
DTEND;VALUE=DATE:20241122
DTSTAMP:20260423T200444
CREATED:20231020T150328Z
LAST-MODIFIED:20231020T150328Z
UID:3764-1732147200-1732233599@www.gkre.ch
SUMMARY:Romoos Holzwegen
DESCRIPTION:
URL:https://www.gkre.ch/abfuhrtag/romoos-holzwegen/2024-11-21/
CATEGORIES:Abfuhrtage
END:VEVENT
BEGIN:VEVENT
DTSTART;VALUE=DATE:20241107
DTEND;VALUE=DATE:20241108
DTSTAMP:20260423T200444
CREATED:20231020T150328Z
LAST-MODIFIED:20231020T150328Z
UID:3763-1730937600-1731023999@www.gkre.ch
SUMMARY:Romoos Holzwegen
DESCRIPTION:
URL:https://www.gkre.ch/abfuhrtag/romoos-holzwegen/2024-11-07/
CATEGORIES:Abfuhrtage
END:VEVENT
BEGIN:VEVENT
DTSTART;VALUE=DATE:20241024
DTEND;VALUE=DATE:20241025
DTSTAMP:20260423T200444
CREATED:20231020T150328Z
LAST-MODIFIED:20231020T150328Z
UID:3762-1729728000-1729814399@www.gkre.ch
SUMMARY:Romoos Holzwegen
DESCRIPTION:
URL:https://www.gkre.ch/abfuhrtag/romoos-holzwegen/2024-10-24/
CATEGORIES:Abfuhrtage
END:VEVENT
BEGIN:VEVENT
DTSTART;VALUE=DATE:20241010
DTEND;VALUE=DATE:20241011
DTSTAMP:20260423T200444
CREATED:20231020T150328Z
LAST-MODIFIED:20231020T150328Z
UID:3761-1728518400-1728604799@www.gkre.ch
SUMMARY:Romoos Holzwegen
DESCRIPTION:
URL:https://www.gkre.ch/abfuhrtag/romoos-holzwegen/2024-10-10/
CATEGORIES:Abfuhrtage
END:VEVENT
BEGIN:VEVENT
DTSTART;VALUE=DATE:20240926
DTEND;VALUE=DATE:20240927
DTSTAMP:20260423T200444
CREATED:20231020T150328Z
LAST-MODIFIED:20231020T150328Z
UID:3760-1727308800-1727395199@www.gkre.ch
SUMMARY:Romoos Holzwegen
DESCRIPTION:
URL:https://www.gkre.ch/abfuhrtag/romoos-holzwegen/2024-09-26/
CATEGORIES:Abfuhrtage
END:VEVENT
BEGIN:VEVENT
DTSTART;VALUE=DATE:20240912
DTEND;VALUE=DATE:20240913
DTSTAMP:20260423T200444
CREATED:20231020T150328Z
LAST-MODIFIED:20231020T150328Z
UID:3759-1726099200-1726185599@www.gkre.ch
SUMMARY:Romoos Holzwegen
DESCRIPTION:
URL:https://www.gkre.ch/abfuhrtag/romoos-holzwegen/2024-09-12/
CATEGORIES:Abfuhrtage
END:VEVENT
BEGIN:VEVENT
DTSTART;VALUE=DATE:20240829
DTEND;VALUE=DATE:20240830
DTSTAMP:20260423T200444
CREATED:20231020T150328Z
LAST-MODIFIED:20231020T150328Z
UID:3758-1724889600-1724975999@www.gkre.ch
SUMMARY:Romoos Holzwegen
DESCRIPTION:
URL:https://www.gkre.ch/abfuhrtag/romoos-holzwegen/2024-08-29/
CATEGORIES:Abfuhrtage
END:VEVENT
BEGIN:VEVENT
DTSTART;VALUE=DATE:20240718
DTEND;VALUE=DATE:20240719
DTSTAMP:20260423T200444
CREATED:20231020T150328Z
LAST-MODIFIED:20231020T150328Z
UID:3755-1721260800-1721347199@www.gkre.ch
SUMMARY:Romoos Holzwegen
DESCRIPTION:
URL:https://www.gkre.ch/abfuhrtag/romoos-holzwegen/2024-07-18/
CATEGORIES:Abfuhrtage
END:VEVENT
BEGIN:VEVENT
DTSTART;VALUE=DATE:20240704
DTEND;VALUE=DATE:20240705
DTSTAMP:20260423T200444
CREATED:20231020T150328Z
LAST-MODIFIED:20231020T150328Z
UID:3754-1720051200-1720137599@www.gkre.ch
SUMMARY:Romoos Holzwegen
DESCRIPTION:
URL:https://www.gkre.ch/abfuhrtag/romoos-holzwegen/2024-07-04/
CATEGORIES:Abfuhrtage
END:VEVENT
BEGIN:VEVENT
DTSTART;VALUE=DATE:20240620
DTEND;VALUE=DATE:20240621
DTSTAMP:20260423T200444
CREATED:20231020T150328Z
LAST-MODIFIED:20231020T150328Z
UID:3753-1718841600-1718927999@www.gkre.ch
SUMMARY:Romoos Holzwegen
DESCRIPTION:
URL:https://www.gkre.ch/abfuhrtag/romoos-holzwegen/2024-06-20/
CATEGORIES:Abfuhrtage
END:VEVENT
BEGIN:VEVENT
DTSTART;VALUE=DATE:20240606
DTEND;VALUE=DATE:20240607
DTSTAMP:20260423T200444
CREATED:20231020T150328Z
LAST-MODIFIED:20231020T150328Z
UID:3752-1717632000-1717718399@www.gkre.ch
SUMMARY:Romoos Holzwegen
DESCRIPTION:
URL:https://www.gkre.ch/abfuhrtag/romoos-holzwegen/2024-06-06/
CATEGORIES:Abfuhrtage
END:VEVENT
BEGIN:VEVENT
DTSTART;VALUE=DATE:20240523
DTEND;VALUE=DATE:20240524
DTSTAMP:20260423T200444
CREATED:20231020T150328Z
LAST-MODIFIED:20231020T150328Z
UID:3751-1716422400-1716508799@www.gkre.ch
SUMMARY:Romoos Holzwegen
DESCRIPTION:
URL:https://www.gkre.ch/abfuhrtag/romoos-holzwegen/2024-05-23/
CATEGORIES:Abfuhrtage
END:VEVENT
BEGIN:VEVENT
DTSTART;VALUE=DATE:20240425
DTEND;VALUE=DATE:20240426
DTSTAMP:20260423T200444
CREATED:20231020T150328Z
LAST-MODIFIED:20231020T150328Z
UID:3749-1714003200-1714089599@www.gkre.ch
SUMMARY:Romoos Holzwegen
DESCRIPTION:
URL:https://www.gkre.ch/abfuhrtag/romoos-holzwegen/2024-04-25/
CATEGORIES:Abfuhrtage
END:VEVENT
BEGIN:VEVENT
DTSTART;VALUE=DATE:20240118
DTEND;VALUE=DATE:20240119
DTSTAMP:20260423T200444
CREATED:20231020T150328Z
LAST-MODIFIED:20231020T152233Z
UID:3386-1705536000-1705622399@www.gkre.ch
SUMMARY:Romoos Holzwegen
DESCRIPTION:
URL:https://www.gkre.ch/abfuhrtag/romoos-holzwegen/2024-01-18/
CATEGORIES:Abfuhrtage
END:VEVENT
END:VCALENDAR