BEGIN:VCALENDAR
VERSION:2.0
PRODID:-//Gemeindeverband Kehrichtentsorgung Region Entlebuch - ECPv6.2.4//NONSGML v1.0//EN
CALSCALE:GREGORIAN
METHOD:PUBLISH
X-ORIGINAL-URL:https://www.gkre.ch
X-WR-CALDESC:Veranstaltungen im Gemeindeverband Kehrichtentsorgung Region Entlebuch
REFRESH-INTERVAL;VALUE=DURATION:PT1H
X-Robots-Tag:noindex
X-PUBLISHED-TTL:PT1H
BEGIN:VTIMEZONE
TZID:Europe/Zurich
BEGIN:DAYLIGHT
TZOFFSETFROM:+0100
TZOFFSETTO:+0200
TZNAME:CEST
DTSTART:20250330T010000
END:DAYLIGHT
BEGIN:STANDARD
TZOFFSETFROM:+0200
TZOFFSETTO:+0100
TZNAME:CET
DTSTART:20251026T010000
END:STANDARD
END:VTIMEZONE
BEGIN:VEVENT
DTSTART;VALUE=DATE:20250821
DTEND;VALUE=DATE:20250822
DTSTAMP:20260423T041711
CREATED:20241015T131930Z
LAST-MODIFIED:20241015T131930Z
UID:5967-1755734400-1755820799@www.gkre.ch
SUMMARY:Schüpfheim Schwändi
DESCRIPTION:
URL:https://www.gkre.ch/abfuhrtag/schuepfheim-schwaendi-4/2025-08-21/
CATEGORIES:Abfuhrtage
END:VEVENT
BEGIN:VEVENT
DTSTART;VALUE=DATE:20250814
DTEND;VALUE=DATE:20250815
DTSTAMP:20260423T041711
CREATED:20241015T131930Z
LAST-MODIFIED:20241015T131930Z
UID:5966-1755129600-1755215999@www.gkre.ch
SUMMARY:Schüpfheim Schwändi
DESCRIPTION:
URL:https://www.gkre.ch/abfuhrtag/schuepfheim-schwaendi-4/2025-08-14/
CATEGORIES:Abfuhrtage
END:VEVENT
BEGIN:VEVENT
DTSTART;VALUE=DATE:20250807
DTEND;VALUE=DATE:20250808
DTSTAMP:20260423T041711
CREATED:20241015T131930Z
LAST-MODIFIED:20241015T131930Z
UID:5965-1754524800-1754611199@www.gkre.ch
SUMMARY:Schüpfheim Schwändi
DESCRIPTION:
URL:https://www.gkre.ch/abfuhrtag/schuepfheim-schwaendi-4/2025-08-07/
CATEGORIES:Abfuhrtage
END:VEVENT
BEGIN:VEVENT
DTSTART;VALUE=DATE:20250731
DTEND;VALUE=DATE:20250801
DTSTAMP:20260423T041711
CREATED:20241015T131930Z
LAST-MODIFIED:20241015T131930Z
UID:5964-1753920000-1754006399@www.gkre.ch
SUMMARY:Schüpfheim Schwändi
DESCRIPTION:
URL:https://www.gkre.ch/abfuhrtag/schuepfheim-schwaendi-4/2025-07-31/
CATEGORIES:Abfuhrtage
END:VEVENT
BEGIN:VEVENT
DTSTART;VALUE=DATE:20250724
DTEND;VALUE=DATE:20250725
DTSTAMP:20260423T041711
CREATED:20241015T131930Z
LAST-MODIFIED:20241015T131930Z
UID:5963-1753315200-1753401599@www.gkre.ch
SUMMARY:Schüpfheim Schwändi
DESCRIPTION:
URL:https://www.gkre.ch/abfuhrtag/schuepfheim-schwaendi-4/2025-07-24/
CATEGORIES:Abfuhrtage
END:VEVENT
BEGIN:VEVENT
DTSTART;VALUE=DATE:20250717
DTEND;VALUE=DATE:20250718
DTSTAMP:20260423T041711
CREATED:20241015T131930Z
LAST-MODIFIED:20241015T131930Z
UID:5962-1752710400-1752796799@www.gkre.ch
SUMMARY:Schüpfheim Schwändi
DESCRIPTION:
URL:https://www.gkre.ch/abfuhrtag/schuepfheim-schwaendi-4/2025-07-17/
CATEGORIES:Abfuhrtage
END:VEVENT
BEGIN:VEVENT
DTSTART;VALUE=DATE:20250710
DTEND;VALUE=DATE:20250711
DTSTAMP:20260423T041711
CREATED:20241015T131930Z
LAST-MODIFIED:20241015T131930Z
UID:5961-1752105600-1752191999@www.gkre.ch
SUMMARY:Schüpfheim Schwändi
DESCRIPTION:
URL:https://www.gkre.ch/abfuhrtag/schuepfheim-schwaendi-4/2025-07-10/
CATEGORIES:Abfuhrtage
END:VEVENT
BEGIN:VEVENT
DTSTART;VALUE=DATE:20250703
DTEND;VALUE=DATE:20250704
DTSTAMP:20260423T041711
CREATED:20241015T131930Z
LAST-MODIFIED:20241015T131930Z
UID:5960-1751500800-1751587199@www.gkre.ch
SUMMARY:Schüpfheim Schwändi
DESCRIPTION:
URL:https://www.gkre.ch/abfuhrtag/schuepfheim-schwaendi-4/2025-07-03/
CATEGORIES:Abfuhrtage
END:VEVENT
BEGIN:VEVENT
DTSTART;VALUE=DATE:20250626
DTEND;VALUE=DATE:20250627
DTSTAMP:20260423T041711
CREATED:20241015T131930Z
LAST-MODIFIED:20241015T131930Z
UID:5959-1750896000-1750982399@www.gkre.ch
SUMMARY:Schüpfheim Schwändi
DESCRIPTION:
URL:https://www.gkre.ch/abfuhrtag/schuepfheim-schwaendi-4/2025-06-26/
CATEGORIES:Abfuhrtage
END:VEVENT
BEGIN:VEVENT
DTSTART;VALUE=DATE:20250612
DTEND;VALUE=DATE:20250613
DTSTAMP:20260423T041711
CREATED:20241015T131930Z
LAST-MODIFIED:20241015T131930Z
UID:5957-1749686400-1749772799@www.gkre.ch
SUMMARY:Schüpfheim Schwändi
DESCRIPTION:
URL:https://www.gkre.ch/abfuhrtag/schuepfheim-schwaendi-4/2025-06-12/
CATEGORIES:Abfuhrtage
END:VEVENT
BEGIN:VEVENT
DTSTART;VALUE=DATE:20250605
DTEND;VALUE=DATE:20250606
DTSTAMP:20260423T041711
CREATED:20241015T131930Z
LAST-MODIFIED:20241015T131930Z
UID:5956-1749081600-1749167999@www.gkre.ch
SUMMARY:Schüpfheim Schwändi
DESCRIPTION:
URL:https://www.gkre.ch/abfuhrtag/schuepfheim-schwaendi-4/2025-06-05/
CATEGORIES:Abfuhrtage
END:VEVENT
BEGIN:VEVENT
DTSTART;VALUE=DATE:20250522
DTEND;VALUE=DATE:20250523
DTSTAMP:20260423T041711
CREATED:20241015T131930Z
LAST-MODIFIED:20241015T131930Z
UID:5954-1747872000-1747958399@www.gkre.ch
SUMMARY:Schüpfheim Schwändi
DESCRIPTION:
URL:https://www.gkre.ch/abfuhrtag/schuepfheim-schwaendi-4/2025-05-22/
CATEGORIES:Abfuhrtage
END:VEVENT
BEGIN:VEVENT
DTSTART;VALUE=DATE:20250515
DTEND;VALUE=DATE:20250516
DTSTAMP:20260423T041711
CREATED:20241015T131930Z
LAST-MODIFIED:20241015T131930Z
UID:5953-1747267200-1747353599@www.gkre.ch
SUMMARY:Schüpfheim Schwändi
DESCRIPTION:
URL:https://www.gkre.ch/abfuhrtag/schuepfheim-schwaendi-4/2025-05-15/
CATEGORIES:Abfuhrtage
END:VEVENT
BEGIN:VEVENT
DTSTART;VALUE=DATE:20250508
DTEND;VALUE=DATE:20250509
DTSTAMP:20260423T041711
CREATED:20241015T131930Z
LAST-MODIFIED:20241015T131930Z
UID:5952-1746662400-1746748799@www.gkre.ch
SUMMARY:Schüpfheim Schwändi
DESCRIPTION:
URL:https://www.gkre.ch/abfuhrtag/schuepfheim-schwaendi-4/2025-05-08/
CATEGORIES:Abfuhrtage
END:VEVENT
BEGIN:VEVENT
DTSTART;VALUE=DATE:20250501
DTEND;VALUE=DATE:20250502
DTSTAMP:20260423T041711
CREATED:20241015T131930Z
LAST-MODIFIED:20241015T131930Z
UID:5951-1746057600-1746143999@www.gkre.ch
SUMMARY:Schüpfheim Schwändi
DESCRIPTION:
URL:https://www.gkre.ch/abfuhrtag/schuepfheim-schwaendi-4/2025-05-01/
CATEGORIES:Abfuhrtage
END:VEVENT
BEGIN:VEVENT
DTSTART;VALUE=DATE:20250424
DTEND;VALUE=DATE:20250425
DTSTAMP:20260423T041711
CREATED:20241015T131930Z
LAST-MODIFIED:20241015T131930Z
UID:5950-1745452800-1745539199@www.gkre.ch
SUMMARY:Schüpfheim Schwändi
DESCRIPTION:
URL:https://www.gkre.ch/abfuhrtag/schuepfheim-schwaendi-4/2025-04-24/
CATEGORIES:Abfuhrtage
END:VEVENT
BEGIN:VEVENT
DTSTART;VALUE=DATE:20250417
DTEND;VALUE=DATE:20250418
DTSTAMP:20260423T041711
CREATED:20241015T131930Z
LAST-MODIFIED:20241015T131930Z
UID:5949-1744848000-1744934399@www.gkre.ch
SUMMARY:Schüpfheim Schwändi
DESCRIPTION:
URL:https://www.gkre.ch/abfuhrtag/schuepfheim-schwaendi-4/2025-04-17/
CATEGORIES:Abfuhrtage
END:VEVENT
BEGIN:VEVENT
DTSTART;VALUE=DATE:20250410
DTEND;VALUE=DATE:20250411
DTSTAMP:20260423T041711
CREATED:20241015T131930Z
LAST-MODIFIED:20241015T131930Z
UID:5948-1744243200-1744329599@www.gkre.ch
SUMMARY:Schüpfheim Schwändi
DESCRIPTION:
URL:https://www.gkre.ch/abfuhrtag/schuepfheim-schwaendi-4/2025-04-10/
CATEGORIES:Abfuhrtage
END:VEVENT
BEGIN:VEVENT
DTSTART;VALUE=DATE:20250403
DTEND;VALUE=DATE:20250404
DTSTAMP:20260423T041711
CREATED:20241015T131930Z
LAST-MODIFIED:20241015T131930Z
UID:5947-1743638400-1743724799@www.gkre.ch
SUMMARY:Schüpfheim Schwändi
DESCRIPTION:
URL:https://www.gkre.ch/abfuhrtag/schuepfheim-schwaendi-4/2025-04-03/
CATEGORIES:Abfuhrtage
END:VEVENT
BEGIN:VEVENT
DTSTART;VALUE=DATE:20250327
DTEND;VALUE=DATE:20250328
DTSTAMP:20260423T041711
CREATED:20241015T131930Z
LAST-MODIFIED:20241015T131930Z
UID:5946-1743033600-1743119999@www.gkre.ch
SUMMARY:Schüpfheim Schwändi
DESCRIPTION:
URL:https://www.gkre.ch/abfuhrtag/schuepfheim-schwaendi-4/2025-03-27/
CATEGORIES:Abfuhrtage
END:VEVENT
BEGIN:VEVENT
DTSTART;VALUE=DATE:20250320
DTEND;VALUE=DATE:20250321
DTSTAMP:20260423T041711
CREATED:20241015T131930Z
LAST-MODIFIED:20241015T131930Z
UID:5945-1742428800-1742515199@www.gkre.ch
SUMMARY:Schüpfheim Schwändi
DESCRIPTION:
URL:https://www.gkre.ch/abfuhrtag/schuepfheim-schwaendi-4/2025-03-20/
CATEGORIES:Abfuhrtage
END:VEVENT
BEGIN:VEVENT
DTSTART;VALUE=DATE:20250313
DTEND;VALUE=DATE:20250314
DTSTAMP:20260423T041711
CREATED:20241015T131930Z
LAST-MODIFIED:20241015T131930Z
UID:5944-1741824000-1741910399@www.gkre.ch
SUMMARY:Schüpfheim Schwändi
DESCRIPTION:
URL:https://www.gkre.ch/abfuhrtag/schuepfheim-schwaendi-4/2025-03-13/
CATEGORIES:Abfuhrtage
END:VEVENT
BEGIN:VEVENT
DTSTART;VALUE=DATE:20250306
DTEND;VALUE=DATE:20250307
DTSTAMP:20260423T041711
CREATED:20241015T131930Z
LAST-MODIFIED:20241015T131930Z
UID:5943-1741219200-1741305599@www.gkre.ch
SUMMARY:Schüpfheim Schwändi
DESCRIPTION:
URL:https://www.gkre.ch/abfuhrtag/schuepfheim-schwaendi-4/2025-03-06/
CATEGORIES:Abfuhrtage
END:VEVENT
BEGIN:VEVENT
DTSTART;VALUE=DATE:20250227
DTEND;VALUE=DATE:20250228
DTSTAMP:20260423T041711
CREATED:20241015T131930Z
LAST-MODIFIED:20241015T131930Z
UID:5942-1740614400-1740700799@www.gkre.ch
SUMMARY:Schüpfheim Schwändi
DESCRIPTION:
URL:https://www.gkre.ch/abfuhrtag/schuepfheim-schwaendi-4/2025-02-27/
CATEGORIES:Abfuhrtage
END:VEVENT
BEGIN:VEVENT
DTSTART;VALUE=DATE:20250220
DTEND;VALUE=DATE:20250221
DTSTAMP:20260423T041711
CREATED:20241015T131930Z
LAST-MODIFIED:20241015T131930Z
UID:5941-1740009600-1740095999@www.gkre.ch
SUMMARY:Schüpfheim Schwändi
DESCRIPTION:
URL:https://www.gkre.ch/abfuhrtag/schuepfheim-schwaendi-4/2025-02-20/
CATEGORIES:Abfuhrtage
END:VEVENT
BEGIN:VEVENT
DTSTART;VALUE=DATE:20250213
DTEND;VALUE=DATE:20250214
DTSTAMP:20260423T041711
CREATED:20241015T131930Z
LAST-MODIFIED:20241015T131930Z
UID:5940-1739404800-1739491199@www.gkre.ch
SUMMARY:Schüpfheim Schwändi
DESCRIPTION:
URL:https://www.gkre.ch/abfuhrtag/schuepfheim-schwaendi-4/2025-02-13/
CATEGORIES:Abfuhrtage
END:VEVENT
BEGIN:VEVENT
DTSTART;VALUE=DATE:20250206
DTEND;VALUE=DATE:20250207
DTSTAMP:20260423T041711
CREATED:20241015T131930Z
LAST-MODIFIED:20241015T131930Z
UID:5939-1738800000-1738886399@www.gkre.ch
SUMMARY:Schüpfheim Schwändi
DESCRIPTION:
URL:https://www.gkre.ch/abfuhrtag/schuepfheim-schwaendi-4/2025-02-06/
CATEGORIES:Abfuhrtage
END:VEVENT
BEGIN:VEVENT
DTSTART;VALUE=DATE:20250130
DTEND;VALUE=DATE:20250131
DTSTAMP:20260423T041711
CREATED:20241015T131930Z
LAST-MODIFIED:20241015T131930Z
UID:5938-1738195200-1738281599@www.gkre.ch
SUMMARY:Schüpfheim Schwändi
DESCRIPTION:
URL:https://www.gkre.ch/abfuhrtag/schuepfheim-schwaendi-4/2025-01-30/
CATEGORIES:Abfuhrtage
END:VEVENT
BEGIN:VEVENT
DTSTART;VALUE=DATE:20250123
DTEND;VALUE=DATE:20250124
DTSTAMP:20260423T041711
CREATED:20241015T131930Z
LAST-MODIFIED:20241015T131930Z
UID:5937-1737590400-1737676799@www.gkre.ch
SUMMARY:Schüpfheim Schwändi
DESCRIPTION:
URL:https://www.gkre.ch/abfuhrtag/schuepfheim-schwaendi-4/2025-01-23/
CATEGORIES:Abfuhrtage
END:VEVENT
BEGIN:VEVENT
DTSTART;VALUE=DATE:20250116
DTEND;VALUE=DATE:20250117
DTSTAMP:20260423T041711
CREATED:20241015T131930Z
LAST-MODIFIED:20241015T131930Z
UID:5935-1736985600-1737071999@www.gkre.ch
SUMMARY:Schüpfheim Schwändi
DESCRIPTION:
URL:https://www.gkre.ch/abfuhrtag/schuepfheim-schwaendi-4/2025-01-16/
CATEGORIES:Abfuhrtage
END:VEVENT
END:VCALENDAR