BEGIN:VCALENDAR
VERSION:2.0
PRODID:-//Gemeindeverband Kehrichtentsorgung Region Entlebuch - ECPv6.2.4//NONSGML v1.0//EN
CALSCALE:GREGORIAN
METHOD:PUBLISH
X-ORIGINAL-URL:https://www.gkre.ch
X-WR-CALDESC:Veranstaltungen im Gemeindeverband Kehrichtentsorgung Region Entlebuch
REFRESH-INTERVAL;VALUE=DURATION:PT1H
X-Robots-Tag:noindex
X-PUBLISHED-TTL:PT1H
BEGIN:VTIMEZONE
TZID:Europe/Zurich
BEGIN:DAYLIGHT
TZOFFSETFROM:+0100
TZOFFSETTO:+0200
TZNAME:CEST
DTSTART:20250330T010000
END:DAYLIGHT
BEGIN:STANDARD
TZOFFSETFROM:+0200
TZOFFSETTO:+0100
TZNAME:CET
DTSTART:20251026T010000
END:STANDARD
END:VTIMEZONE
BEGIN:VEVENT
DTSTART;VALUE=DATE:20251030
DTEND;VALUE=DATE:20251031
DTSTAMP:20260423T065358
CREATED:20241016T083750Z
LAST-MODIFIED:20241016T083750Z
UID:6294-1761782400-1761868799@www.gkre.ch
SUMMARY:Schüpfheim Schwändi
DESCRIPTION:
URL:https://www.gkre.ch/abfuhrtag/schuepfheim-schwaendi-7/2025-10-30/
CATEGORIES:Abfuhrtage
END:VEVENT
BEGIN:VEVENT
DTSTART;VALUE=DATE:20251023
DTEND;VALUE=DATE:20251024
DTSTAMP:20260423T065358
CREATED:20241016T083750Z
LAST-MODIFIED:20241016T083750Z
UID:6293-1761177600-1761263999@www.gkre.ch
SUMMARY:Schüpfheim Schwändi
DESCRIPTION:
URL:https://www.gkre.ch/abfuhrtag/schuepfheim-schwaendi-7/2025-10-23/
CATEGORIES:Abfuhrtage
END:VEVENT
BEGIN:VEVENT
DTSTART;VALUE=DATE:20251016
DTEND;VALUE=DATE:20251017
DTSTAMP:20260423T065358
CREATED:20241016T083750Z
LAST-MODIFIED:20241016T083750Z
UID:6292-1760572800-1760659199@www.gkre.ch
SUMMARY:Schüpfheim Schwändi
DESCRIPTION:
URL:https://www.gkre.ch/abfuhrtag/schuepfheim-schwaendi-7/2025-10-16/
CATEGORIES:Abfuhrtage
END:VEVENT
BEGIN:VEVENT
DTSTART;VALUE=DATE:20251009
DTEND;VALUE=DATE:20251010
DTSTAMP:20260423T065358
CREATED:20241016T083750Z
LAST-MODIFIED:20241016T083750Z
UID:6291-1759968000-1760054399@www.gkre.ch
SUMMARY:Schüpfheim Schwändi
DESCRIPTION:
URL:https://www.gkre.ch/abfuhrtag/schuepfheim-schwaendi-7/2025-10-09/
CATEGORIES:Abfuhrtage
END:VEVENT
BEGIN:VEVENT
DTSTART;VALUE=DATE:20251002
DTEND;VALUE=DATE:20251003
DTSTAMP:20260423T065358
CREATED:20241016T083750Z
LAST-MODIFIED:20241016T083750Z
UID:6290-1759363200-1759449599@www.gkre.ch
SUMMARY:Schüpfheim Schwändi
DESCRIPTION:
URL:https://www.gkre.ch/abfuhrtag/schuepfheim-schwaendi-7/2025-10-02/
CATEGORIES:Abfuhrtage
END:VEVENT
BEGIN:VEVENT
DTSTART;VALUE=DATE:20250925
DTEND;VALUE=DATE:20250926
DTSTAMP:20260423T065358
CREATED:20241016T083750Z
LAST-MODIFIED:20241016T083750Z
UID:6289-1758758400-1758844799@www.gkre.ch
SUMMARY:Schüpfheim Schwändi
DESCRIPTION:
URL:https://www.gkre.ch/abfuhrtag/schuepfheim-schwaendi-7/2025-09-25/
CATEGORIES:Abfuhrtage
END:VEVENT
BEGIN:VEVENT
DTSTART;VALUE=DATE:20250918
DTEND;VALUE=DATE:20250919
DTSTAMP:20260423T065358
CREATED:20241016T083750Z
LAST-MODIFIED:20241016T083750Z
UID:6288-1758153600-1758239999@www.gkre.ch
SUMMARY:Schüpfheim Schwändi
DESCRIPTION:
URL:https://www.gkre.ch/abfuhrtag/schuepfheim-schwaendi-7/2025-09-18/
CATEGORIES:Abfuhrtage
END:VEVENT
BEGIN:VEVENT
DTSTART;VALUE=DATE:20250911
DTEND;VALUE=DATE:20250912
DTSTAMP:20260423T065358
CREATED:20241016T083750Z
LAST-MODIFIED:20241016T083750Z
UID:6287-1757548800-1757635199@www.gkre.ch
SUMMARY:Schüpfheim Schwändi
DESCRIPTION:
URL:https://www.gkre.ch/abfuhrtag/schuepfheim-schwaendi-7/2025-09-11/
CATEGORIES:Abfuhrtage
END:VEVENT
BEGIN:VEVENT
DTSTART;VALUE=DATE:20250904
DTEND;VALUE=DATE:20250905
DTSTAMP:20260423T065358
CREATED:20241016T083750Z
LAST-MODIFIED:20241016T083750Z
UID:6285-1756944000-1757030399@www.gkre.ch
SUMMARY:Schüpfheim Schwändi
DESCRIPTION:
URL:https://www.gkre.ch/abfuhrtag/schuepfheim-schwaendi-7/2025-09-04/
CATEGORIES:Abfuhrtage
END:VEVENT
END:VCALENDAR