BEGIN:VCALENDAR
VERSION:2.0
PRODID:-//Gemeindeverband Kehrichtentsorgung Region Entlebuch - ECPv6.2.4//NONSGML v1.0//EN
CALSCALE:GREGORIAN
METHOD:PUBLISH
X-WR-CALNAME:Gemeindeverband Kehrichtentsorgung Region Entlebuch
X-ORIGINAL-URL:https://www.gkre.ch
X-WR-CALDESC:Veranstaltungen im Gemeindeverband Kehrichtentsorgung Region Entlebuch
REFRESH-INTERVAL;VALUE=DURATION:PT1H
X-Robots-Tag:noindex
X-PUBLISHED-TTL:PT1H
BEGIN:VTIMEZONE
TZID:Europe/Zurich
BEGIN:DAYLIGHT
TZOFFSETFROM:+0100
TZOFFSETTO:+0200
TZNAME:CEST
DTSTART:20260329T010000
END:DAYLIGHT
BEGIN:STANDARD
TZOFFSETFROM:+0200
TZOFFSETTO:+0100
TZNAME:CET
DTSTART:20261025T010000
END:STANDARD
END:VTIMEZONE
BEGIN:VEVENT
DTSTART;VALUE=DATE:20260422
DTEND;VALUE=DATE:20260423
DTSTAMP:20260423T163419
CREATED:20251105T073400Z
LAST-MODIFIED:20251105T073400Z
UID:6726-1776816000-1776902399@www.gkre.ch
SUMMARY:Sörenberg
DESCRIPTION:
URL:https://www.gkre.ch/abfuhrtag/soerenberg-3/2026-04-22/
CATEGORIES:Abfuhrtage
END:VEVENT
BEGIN:VEVENT
DTSTART;VALUE=DATE:20260415
DTEND;VALUE=DATE:20260416
DTSTAMP:20260423T163419
CREATED:20251105T073400Z
LAST-MODIFIED:20251105T073400Z
UID:6725-1776211200-1776297599@www.gkre.ch
SUMMARY:Sörenberg
DESCRIPTION:
URL:https://www.gkre.ch/abfuhrtag/soerenberg-3/2026-04-15/
CATEGORIES:Abfuhrtage
END:VEVENT
BEGIN:VEVENT
DTSTART;VALUE=DATE:20260408
DTEND;VALUE=DATE:20260409
DTSTAMP:20260423T163419
CREATED:20251105T073400Z
LAST-MODIFIED:20251105T073400Z
UID:6724-1775606400-1775692799@www.gkre.ch
SUMMARY:Sörenberg
DESCRIPTION:
URL:https://www.gkre.ch/abfuhrtag/soerenberg-3/2026-04-08/
CATEGORIES:Abfuhrtage
END:VEVENT
BEGIN:VEVENT
DTSTART;VALUE=DATE:20260401
DTEND;VALUE=DATE:20260402
DTSTAMP:20260423T163419
CREATED:20251105T073400Z
LAST-MODIFIED:20251105T073400Z
UID:6723-1775001600-1775087999@www.gkre.ch
SUMMARY:Sörenberg
DESCRIPTION:
URL:https://www.gkre.ch/abfuhrtag/soerenberg-3/2026-04-01/
CATEGORIES:Abfuhrtage
END:VEVENT
BEGIN:VEVENT
DTSTART;VALUE=DATE:20260325
DTEND;VALUE=DATE:20260326
DTSTAMP:20260423T163419
CREATED:20251105T073400Z
LAST-MODIFIED:20251105T073400Z
UID:6722-1774396800-1774483199@www.gkre.ch
SUMMARY:Sörenberg
DESCRIPTION:
URL:https://www.gkre.ch/abfuhrtag/soerenberg-3/2026-03-25/
CATEGORIES:Abfuhrtage
END:VEVENT
BEGIN:VEVENT
DTSTART;VALUE=DATE:20260318
DTEND;VALUE=DATE:20260319
DTSTAMP:20260423T163419
CREATED:20251105T073400Z
LAST-MODIFIED:20251105T073400Z
UID:6721-1773792000-1773878399@www.gkre.ch
SUMMARY:Sörenberg
DESCRIPTION:
URL:https://www.gkre.ch/abfuhrtag/soerenberg-3/2026-03-18/
CATEGORIES:Abfuhrtage
END:VEVENT
BEGIN:VEVENT
DTSTART;VALUE=DATE:20260311
DTEND;VALUE=DATE:20260312
DTSTAMP:20260423T163419
CREATED:20251105T073400Z
LAST-MODIFIED:20251105T073400Z
UID:6720-1773187200-1773273599@www.gkre.ch
SUMMARY:Sörenberg
DESCRIPTION:
URL:https://www.gkre.ch/abfuhrtag/soerenberg-3/2026-03-11/
CATEGORIES:Abfuhrtage
END:VEVENT
BEGIN:VEVENT
DTSTART;VALUE=DATE:20260304
DTEND;VALUE=DATE:20260305
DTSTAMP:20260423T163419
CREATED:20251105T073400Z
LAST-MODIFIED:20251105T073400Z
UID:6719-1772582400-1772668799@www.gkre.ch
SUMMARY:Sörenberg
DESCRIPTION:
URL:https://www.gkre.ch/abfuhrtag/soerenberg-3/2026-03-04/
CATEGORIES:Abfuhrtage
END:VEVENT
BEGIN:VEVENT
DTSTART;VALUE=DATE:20260225
DTEND;VALUE=DATE:20260226
DTSTAMP:20260423T163419
CREATED:20251105T073400Z
LAST-MODIFIED:20251105T073400Z
UID:6718-1771977600-1772063999@www.gkre.ch
SUMMARY:Sörenberg
DESCRIPTION:
URL:https://www.gkre.ch/abfuhrtag/soerenberg-3/2026-02-25/
CATEGORIES:Abfuhrtage
END:VEVENT
BEGIN:VEVENT
DTSTART;VALUE=DATE:20260218
DTEND;VALUE=DATE:20260219
DTSTAMP:20260423T163419
CREATED:20251105T073400Z
LAST-MODIFIED:20251105T073400Z
UID:6717-1771372800-1771459199@www.gkre.ch
SUMMARY:Sörenberg
DESCRIPTION:
URL:https://www.gkre.ch/abfuhrtag/soerenberg-3/2026-02-18/
CATEGORIES:Abfuhrtage
END:VEVENT
BEGIN:VEVENT
DTSTART;VALUE=DATE:20260211
DTEND;VALUE=DATE:20260212
DTSTAMP:20260423T163419
CREATED:20251105T073400Z
LAST-MODIFIED:20251105T073400Z
UID:6716-1770768000-1770854399@www.gkre.ch
SUMMARY:Sörenberg
DESCRIPTION:
URL:https://www.gkre.ch/abfuhrtag/soerenberg-3/2026-02-11/
CATEGORIES:Abfuhrtage
END:VEVENT
BEGIN:VEVENT
DTSTART;VALUE=DATE:20260204
DTEND;VALUE=DATE:20260205
DTSTAMP:20260423T163419
CREATED:20251105T073400Z
LAST-MODIFIED:20251105T073400Z
UID:6715-1770163200-1770249599@www.gkre.ch
SUMMARY:Sörenberg
DESCRIPTION:
URL:https://www.gkre.ch/abfuhrtag/soerenberg-3/2026-02-04/
CATEGORIES:Abfuhrtage
END:VEVENT
BEGIN:VEVENT
DTSTART;VALUE=DATE:20260128
DTEND;VALUE=DATE:20260129
DTSTAMP:20260423T163419
CREATED:20251105T073400Z
LAST-MODIFIED:20251105T073400Z
UID:6714-1769558400-1769644799@www.gkre.ch
SUMMARY:Sörenberg
DESCRIPTION:
URL:https://www.gkre.ch/abfuhrtag/soerenberg-3/2026-01-28/
CATEGORIES:Abfuhrtage
END:VEVENT
BEGIN:VEVENT
DTSTART;VALUE=DATE:20260121
DTEND;VALUE=DATE:20260122
DTSTAMP:20260423T163419
CREATED:20251105T073400Z
LAST-MODIFIED:20251105T073400Z
UID:6713-1768953600-1769039999@www.gkre.ch
SUMMARY:Sörenberg
DESCRIPTION:
URL:https://www.gkre.ch/abfuhrtag/soerenberg-3/2026-01-21/
CATEGORIES:Abfuhrtage
END:VEVENT
BEGIN:VEVENT
DTSTART;VALUE=DATE:20260114
DTEND;VALUE=DATE:20260115
DTSTAMP:20260423T163419
CREATED:20251105T073400Z
LAST-MODIFIED:20251105T073400Z
UID:6712-1768348800-1768435199@www.gkre.ch
SUMMARY:Sörenberg
DESCRIPTION:
URL:https://www.gkre.ch/abfuhrtag/soerenberg-3/2026-01-14/
CATEGORIES:Abfuhrtage
END:VEVENT
BEGIN:VEVENT
DTSTART;VALUE=DATE:20260107
DTEND;VALUE=DATE:20260108
DTSTAMP:20260423T163419
CREATED:20251105T073400Z
LAST-MODIFIED:20251105T073400Z
UID:6711-1767744000-1767830399@www.gkre.ch
SUMMARY:Sörenberg
DESCRIPTION:
URL:https://www.gkre.ch/abfuhrtag/soerenberg-3/2026-01-07/
CATEGORIES:Abfuhrtage
END:VEVENT
END:VCALENDAR